{"text_format":"2","workbook":"xlsx","n_sheets":3,"sheets":["Resumo","Motorista","Resumo para o TR"],"not_rendered":{"charts":0,"images":1,"macros":0,"external_links":0,"defined_names":3,"comments":0,"pivot_tables":0},"unopened":[],"bounds":{"document_bytes":16777216,"sheet_cells":100000,"run_cost":"one","rows_first":2000,"rows_last":500,"rows_between":2000,"halvings":0,"cell_chars":16384,"cell_head_chars":4096},"cells_cut":0,"cells_raw":0,"read":"whole","date_system":"1900"}

{"sheet":"Resumo","index":0,"n_rows":35,"n_cols":11,"rows_kept":35,"cut":false,"hidden":false,"merged":[[25,0,25,3],[25,5,25,6],[25,7,25,8],[28,0,28,6],[28,7,28,8],[29,0,29,6],[29,7,29,8],[30,0,30,6],[30,7,30,8],[27,7,27,8],[21,10,21,11],[20,5,20,6],[21,5,21,6],[30,10,30,11],[5,0,5,11],[6,0,6,11],[10,0,10,11],[13,5,13,6],[13,7,13,8],[13,10,13,11],[7,0,8,11],[12,0,12,11],[14,5,14,6],[14,7,14,8],[14,10,14,11],[19,10,19,11],[0,0,0,11],[2,0,2,11],[3,0,3,11],[4,0,4,11],[1,0,1,11],[15,5,15,6],[15,7,15,8],[15,10,15,11],[19,0,19,3],[18,0,18,3],[18,5,18,6],[19,5,19,6],[17,0,17,11],[18,7,18,8],[18,10,18,11],[19,7,19,8],[15,0,15,3],[20,7,20,8],[21,7,21,8],[22,7,22,8],[23,7,23,8],[34,0,34,11],[28,10,28,11],[27,0,27,6],[32,0,32,11],[21,0,21,3],[22,0,22,3],[23,0,23,3],[24,0,24,3],[29,10,29,11],[24,10,24,11],[20,0,20,3],[20,10,20,11],[27,10,27,11],[22,10,22,11],[23,10,23,11],[25,10,25,11],[24,5,24,6],[24,7,24,8],[22,5,22,6],[23,5,23,6]]}
["Ministério da Integração e do Desenvolvimento Regional - MIDR"]
["Companhia de Desenvolvimento dos Vales do São Francisco e do Parnaíba"]
["4ª Superintendência Regional da CODEVASF - 4ª SR"]
["Gerência Regional de Administração e Tecnologia - 4ª/GRA"]
["Planilha de custos - Resumo"]
["Discriminação dos Serviços"]
[" Serviços de Condução Veicular para SEDE da 4ª Superintendência Regional da Codevasf "]
["Os salarios estão baseados na Convenção Coletiva de Trabalho 2024/2024 dos  SEAC e SINDECESE, do estado de Sergipe. Conforme Anexo I (Pisos Normativos) da CCT 2024/2024."]
[]
[]
["VALOR MENSAL E GLOBAL DOS SERVIÇOS - 4ªSR"]
[]
["CUSTOS FIXOS"]
["ITEM","CÓDIGO CATSER","POSTO DE SERVIÇO","Descrição Sumária","QTDE DE POSTOS","VALOR UNITÁRIO POSTO (R$)",null,"VALOR TOTAL MENSAL (R$)",null,"Nº DE MESES","VALOR ANUAL (R$)"]
[1,15008,{"$f":"Motorista!A18","v":"Motorista com auxilio na carga e descarga  "},"Transportam, coletam e entregam cargas em geral; guincham, destombam e removem veículos avariados e prestam socorro mecânico. Realizar inspeções e reparos em veículos, vistoriar cargas, além de verificar documentação de veículos e de cargas. Definem rotas e asseguram a regularidade do transporte. As atividades são desenvolvidas em conformidade com normas e procedimentos técnicos e de segurança. Dirigem e manobram veículos e transportam pessoas, cargas, valores. Realizam verificações e manutenções básicas do veículo e utilizam equipamentos e dispositivos especiais tais como sinalização sonora e luminosa, software de navegação e outros. Efetuam pagamentos e recebimentos e, no desempenho das atividades, utilizam-se de capacidades comunicativas. Trabalham seguindo normas de segurança, higiene, qualidade e proteção ao meio ambiente.",{"$f":"Motorista!H14","v":3},{"$f":"Motorista!H99","v":6381.9633303998771},null,{"$f":"E15*F15","v":19145.88999119963},null,12,{"$f":"H15*J15","v":229750.67989439558}]
["TOTAL  DOS CUSTOS FIXOS",null,null,null,{"$f":"SUM(E15:E15)","v":3},null,null,{"$f":"SUM(H15:I15)","v":19145.88999119963},null,null,{"$f":"SUM(K15:L15)","v":229750.67989439558}]
[]
["CUSTOS VARIÁVEIS"]
["Descrição",null,null,null,"QUANT","VALOR UNITÁRIO (R$)",null,"Valor Mensal",null,"Nº DE MESES","VALOR ANUAL (R$)"]
["Horas extras a 50% - Motorista",null,null,null,24,37.32,null,{"$f":"E20*F20","v":895.68000000000006},null,12,{"$f":"H20*J20","v":10748.16}]
["Alimentação - Capital",null,null,null,4,100.59,null,{"$f":"E21*F21","v":402.36},null,12,4828.32]
["Pernoite - Capital",null,null,null,4,345.08,null,{"$f":"E22*F22","v":1380.32},null,12,16563.84]
["Alimentação - Demais Localidades",null,null,null,40,100.59,null,{"$f":"E23*F23","v":4023.6000000000004},null,12,48283.200000000004]
["Pernoite - Demais Localidades",null,null,null,12,252.8,null,3033.6000000000004,null,12,36403.200000000004]
["Lucro e despesas indiretas (15%) + Tributos (8,65%),  incidência sobre alimentação e pernoite",null,null,null,"-",0.23649999999999999,null,{"$f":"SUM(H21:I24)*F25","v":2090.6316200000001},null,12,25087.579440000001]
["TOTAL  DOS CUSTOS VARIÁVEIS",{"$nulls":6},{"$f":"SUM(H20:I25)","v":11826.191620000001},null,null,{"$f":"SUM(K20:L25)","v":141914.29944}]
[]
["RESUMO GERAL",{"$nulls":6},"Valor Mensal",null,"Nº DE MESES","VALOR ANUAL (R$)"]
["VALOR TOTAL DO CUSTOS FIXOS",{"$nulls":6},{"$f":"H16","v":19145.88999119963},null,12,{"$f":"H29*J29","v":229750.67989439558}]
["VALOR TOTAL DO CUSTOS VARIÁVEIS",{"$nulls":6},{"$f":"H26","v":11826.191620000001},null,12,{"$f":"H30*J30","v":141914.29944000003}]
["VALOR TOTAL DO CONTRATO",{"$nulls":6},{"$f":"H29+H30","v":30972.081611199632},null,12,{"$f":"H31*J31","v":371664.97933439561}]
[]
["Aracaju/SE, 10 de junho de 2024."]
[]
["1 - Para a elaboração das Planilhas de Custo e Formação de Preço foram adotados os salários base de acordo com a Convenção Coletiva de Trabalho 2024/2024 do SINDECESE e SEAC do estado de Sergipe e anexos, tabela de diárias da CODEVASF e média das cotações dos uniformes realizadas em maio de 2024."]

{"sheet":"Motorista","index":1,"n_rows":100,"n_cols":10,"rows_kept":100,"cut":false,"hidden":false,"merged":[[81,0,81,6],[82,0,82,8],[85,0,85,6],[86,0,86,6],[87,0,87,6],[88,0,88,8],[99,0,99,6],[97,0,97,6],[98,0,98,6],[91,0,91,6],[92,0,92,6],[93,0,93,6],[94,0,94,6],[95,0,95,6],[96,0,96,8],[72,7,72,8],[73,0,73,6],[74,0,74,6],[75,0,75,6],[76,0,76,6],[77,0,77,6],[78,0,78,8],[79,0,79,6],[80,0,80,8],[63,0,63,6],[64,0,64,6],[65,0,65,6],[66,0,66,6],[67,0,67,6],[68,0,68,6],[69,0,69,6],[70,0,70,6],[71,0,71,8],[53,0,53,6],[54,0,54,6],[55,0,55,8],[56,0,56,6],[57,0,57,6],[58,0,58,8],[60,0,60,8],[61,0,61,8],[62,7,62,8],[44,0,44,6],[45,0,45,8],[46,0,46,6],[47,0,47,6],[48,0,48,6],[49,0,49,6],[50,0,50,6],[51,0,51,8],[52,0,52,6],[35,0,35,8],[36,0,36,6],[37,0,37,6],[38,0,38,6],[39,0,39,6],[40,0,40,6],[41,0,41,6],[42,0,42,6],[43,0,43,6],[26,0,26,6],[27,0,27,6],[28,0,28,6],[29,0,29,6],[30,0,30,6],[31,0,31,6],[32,0,32,6],[33,0,33,6],[34,0,34,6],[19,0,19,8],[20,0,20,6],[20,7,20,8],[21,0,21,6],[21,7,21,8],[22,0,22,6],[22,7,22,8],[23,0,23,8],[25,0,25,6],[13,0,13,6],[13,7,13,8],[14,0,14,6],[14,7,14,8],[15,0,15,8],[16,0,16,8],[17,0,17,6],[17,7,17,8],[18,0,18,8],[8,0,8,6],[8,7,8,8],[9,0,9,6],[9,7,9,8],[10,0,10,6],[10,7,10,8],[11,0,11,6],[11,7,11,8],[12,0,12,6],[12,7,12,8],[0,0,0,8],[1,0,1,8],[2,0,2,8],[3,0,3,8],[4,0,4,8],[5,0,5,8],[6,0,6,8],[7,0,7,6],[7,7,7,8]]}
["Ministério da Integração e do Desenvolvimento Regional - MIDR"]
["Companhia de Desenvolvimento dos Vales do São Francisco e do Parnaíba"]
["4ª Superintendência Regional da CODEVASF - 4ª SR"]
["Gerência Regional de Administração e Tecnologia - 4ª/GRA"]
["Planilha de Custos e Formação de Preços Motorista de Veículo "]
[]
["PLANILHA DE CUSTOS E FORMAÇÃO DE PREÇOS"]
["Ano - Acordo, Convenção Coletiva ou Sentença Normativa em Dissídio",{"$nulls":6},"SINDECESE - SERGIPE - 2024/2024"]
["Convenção/Acordo Coletivo de Trabalho - Nº do processo e Registro no MTE",{"$nulls":6},"19980.242973/2024-31 - MR008304/2024 "]
["Vigência da Convenção",{"$nulls":6},"01 de janeiro/2024 a 31 de dezembro/2024"]
["Tipo de Serviço",{"$nulls":6},"MOTORISTA"]
["Unidade de Medida",{"$nulls":6},"POSTO"]
["Carga Horária Semanal",{"$nulls":6},"40 hrs"]
["Quantidade a Contratar em Função da Unidade de Medida",{"$nulls":6},3]
["Nº de Meses de Execução Contratual",{"$nulls":6},12]
[]
["I - SALÁRIO ESTIMADO DO PROFISSIONAL"]
["Motorista com auxilio na carga e descarga  ",{"$nulls":6},2482.0500000000002]
[]
["II - COMPOSIÇÃO DA REMUNERAÇÃO"]
["Salário Base",{"$nulls":6},{"$f":"H18","v":2482.0500000000002}]
["Outros",{"$nulls":6},0]
["Remuneração Total",{"$nulls":6},{"$f":"SUM(H21:H22)","v":2482.0500000000002}]
[]
["III - ENCARGOS SOCIAIS INCIDENTES SOBRE A REMUNERAÇÃO"]
["Grupo \"A\"",{"$nulls":6},"%","VALOR"]
["01 - INSS",{"$nulls":6},0.2,{"$f":"H23*H27","v":496.41000000000008}]
["02 - Salário Educação",{"$nulls":6},2.5000000000000001E-2,{"$f":"H23*H28","v":62.05125000000001}]
["03 - Seguro Acidente do Trabalho/SAT/INSS",{"$nulls":6},0.03,{"$f":"H23*H29","v":74.461500000000001}]
["04 - SESI/SESC",{"$nulls":6},1.4999999999999999E-2,{"$f":"H23*H30","v":37.23075}]
["05 - SENAI/SENAC",{"$nulls":6},0.01,{"$f":"H23*H31","v":24.820500000000003}]
["06 - INCRA",{"$nulls":6},2E-3,{"$f":"H23*H32","v":4.9641000000000002}]
["07 - FGTS",{"$nulls":6},0.08,{"$f":"H23*H33","v":198.56400000000002}]
["08 - SEBRAE",{"$nulls":6},6.0000000000000001E-3,{"$f":"H23*H34","v":14.892300000000001}]
["Total do Grupo \"A\"",{"$nulls":6},{"$f":"SUM(H27:H34)","v":0.36800000000000005},{"$f":"SUM(I27:I34)","v":913.39440000000013}]
[]
["Grupo \"B\"",{"$nulls":6},"%","VALOR"]
["09 - Férias",{"$nulls":6},0.1203,{"$f":"H23*H38","v":298.59061500000001}]
["10 - Auxílio Doença",{"$nulls":6},2.6499999999999999E-2,{"$f":"H23*H39","v":65.774325000000005}]
["11 - Licença Maternidade/Paternidade",{"$nulls":6},1.3299999999999999E-2,{"$f":"H23*H40","v":33.011265000000002}]
["12 - Faltas Legais",{"$nulls":6},2.2800000000000001E-2,{"$f":"H23*H41","v":56.590740000000004}]
["13 - Acidente do Trabalho",{"$nulls":6},1.2999999999999999E-2,{"$f":"H23*H42","v":32.266649999999998}]
["14 - Aviso Prévio Trabalhado . (Artigo 7ª, XXI, CF/88, 477, 487 e ss da CLT)",{"$nulls":6},1.37E-2,{"$f":"H23*H43","v":34.004085000000003}]
["15 - 13º Salário",{"$nulls":6},8.3299999999999999E-2,{"$f":"H23*H44","v":206.75476500000002}]
["Total do Grupo \"B\"",{"$nulls":6},{"$f":"SUM(H38:H44)","v":0.29289999999999999},{"$f":"SUM(I38:I44)","v":726.99244500000009}]
[]
["Grupo \"C\"",{"$nulls":6},"%","VALOR"]
["16 - Aviso Prévio Indenizado ",{"$nulls":6},3.5400000000000001E-2,{"$f":"H23*H48","v":87.864570000000015}]
["17 - Indenização (rescisão sem justa causa)",{"$nulls":6},3.2000000000000001E-2,{"$f":"H23*H49","v":79.425600000000003}]
["18 - Indenização adicional",{"$nulls":6},1.7999999999999999E-2,{"$f":"H23*H50","v":44.676900000000003}]
["Total do Grupo \"C\"",{"$nulls":6},{"$f":"SUM(H48:H50)","v":8.5400000000000004E-2},{"$f":"SUM(I48:I50)","v":211.96707000000004}]
[]
["Grupo \"D\"",{"$nulls":6},"%","VALOR"]
["19 - Incidência dos encargos do Grupo \"A\" sobre o Grupo \"B\"",{"$nulls":6},0.10780000000000001,{"$f":"H23*H54","v":267.56499000000002}]
["Total do Grupo \"D\"",{"$nulls":6},{"$f":"SUM(H54:H54)","v":0.10780000000000001},{"$f":"SUM(I54:I54)","v":267.56499000000002}]
[]
["TOTAL DO ENCARGOS SOCIAIS"]
["20 - Total de encargos sociais",{"$nulls":6},{"$f":"H35+H45+H51+H55","v":0.85410000000000008},{"$f":"H23*H58","v":2119.9189050000004}]
[]
["VALOR TOTAL DA MÃO DE OBRA (REMUNERAÇÃO + ENCARGOS SOCIAIS)",{"$nulls":7},{"$f":"H23+I58","v":4601.9689050000006}]
[]
["IV - INSUMOS"]
["IV.A - Benefícios Mensais e Diários",{"$nulls":6},"VALOR"]
["01 - Auxílio Alimentação - Cláusula 10ª da CCT (R$ 15,50 * 22 dias)",{"$nulls":7},{"$f":"(15.5*22)","v":341}]
["02 - Desconto sobre Auxílio Alimentação - Cláusula 10ª da CCT (R$ 341,00 * 10%)",{"$nulls":7},{"$f":"-I64*0.1","v":-34.1}]
["03 - Vale Transporte - Cláusula 11ª da CCT",{"$nulls":7},{"$f":"44*4.5","v":198},"Conforme Decreto nº  6.792/2022 do Município de Aracaju/SE."]
["04 - Desconto Legal sobre Vale Transporte - Cláusula 11ª da CCT",{"$nulls":7},{"$f":"IF((H18*0.06)<I66,-(H18*0.06),-I66)","v":-148.923}]
["05 - Do Benefício ao Trabalhador - Cláusula 8ª da CCT",{"$nulls":7},15]
["06 - Plano Odontológico - Cláusula 12ª da CCT",{"$nulls":7},13]
["07 - Da Assistência Social Familiar - Cláusula 13ª da CCT ",{"$nulls":7},6]
["Total do Subitem IV.A",{"$nulls":7},{"$f":"SUM(I64:I70)","v":389.97699999999998}]
[]
["IV.B - Insumos Diversos",{"$nulls":6},"VALOR"]
["08 - Material",{"$nulls":7},0]
["09 - Equipamento de Proteção Individual - EPI (Norma Regulamentadora nº 4) - Cláusula 20ª da CCT",{"$nulls":7},0]
["10 - Uniforme",{"$nulls":7},115.77]
["11 - Depreciação e Manutenção de Equipamentos",{"$nulls":7},0]
["Total do Subitem IV.B",{"$nulls":7},{"$f":"SUM(I74:I77)","v":115.77}]
[]
["Valor Total dos Insumos (Subitem IV.A + Subitem IV.B)",{"$nulls":7},{"$f":"I71+I78","v":505.74699999999996}]
[]
["VALOR TOTAL DA REMUNERAÇÃO + ENCARGOS SOCIAIS + INSUMOS",{"$nulls":7},{"$f":"H23+I58+I80","v":5107.7159050000009}]
[]
["V - LUCRO E DESPESAS INDIRETAS (LDI)"]
["Demais Componentes/Custos Indiretos",{"$nulls":6},"%","VALOR"]
["01 - Despesas Administrativas/Operacionais",{"$nulls":6},0.05,{"$f":"I82*H86","v":255.38579525000006}]
["02 - Lucro",{"$nulls":6},0.1,{"$f":"I82*H87","v":510.77159050000012}]
["Valor Total do Lucro e Despesas Indiretas (LDI)",{"$nulls":6},{"$f":"SUM(H86:H87)","v":0.15000000000000002},{"$f":"SUM(I86:I87)","v":766.15738575000023}]
[]
["VI - TRIBUTOS"]
["Tributos Diversos",{"$nulls":6},"%","VALOR"]
["ISSQN e ISS",{"$nulls":6},0.05,{"$f":"(I82+I88)*H92","v":293.69366453750007}]
["PIS",{"$nulls":6},6.4999999999999997E-3,{"$f":"(I82+I88)*H93","v":38.180176389875008}]
["COFINS",{"$nulls":6},0.03,{"$f":"(I82+I88)*H94","v":176.21619872250005}]
["Outros",{"$nulls":6},0,{"$f":"(I82+I88)*H95","v":0}]
["Valor Total dos Tributos (8,65/100 * II + III + IV + V)",{"$nulls":6},{"$f":"SUM(H92:H95)","v":8.6499999999999994E-2},{"$f":"SUM(I92:I95)","v":508.09003964987511}]
[]
["VII - VALOR TOTAL DA CONTRATAÇÃO - POSTO DE MOTORISTA DE VEICULO ",{"$nulls":6},"MENSAL","ANUAL"]
["VALOR TOTAL - 01 POSTO (MOTORISTA DE VEICULO)",{"$nulls":6},{"$f":"I82+I88+I96","v":6381.9633303998771},{"$f":"H99*12","v":76583.559964798522}]
["VALOR TOTAL - 03 POSTOS (MOTORISTA DE VEICULO )",{"$nulls":6},{"$f":"H99*H14","v":19145.88999119963},{"$f":"H100*12","v":229750.67989439558}]

{"sheet":"Resumo para o TR","index":2,"n_rows":35,"n_cols":13,"rows_kept":35,"cut":false,"hidden":false,"merged":[[22,0,22,8],[19,12,19,13],[13,2,13,4],[13,6,13,7],[13,9,13,10],[13,12,13,13],[19,0,19,8],[19,9,19,10],[20,9,20,10],[21,9,21,10],[22,9,22,10],[20,12,20,13],[21,12,21,13],[22,12,22,13],[12,0,12,13],[17,0,17,13],[18,9,18,10],[18,12,18,13],[18,0,18,8],[15,0,15,4],[15,9,15,10],[15,12,15,13],[14,9,14,10],[14,12,14,13],[15,6,15,7],[28,0,28,8],[29,0,29,8],[29,12,29,13],[30,0,30,8],[27,0,27,8],[28,9,28,10],[29,9,29,10],[30,9,30,10],[28,12,28,13],[27,12,27,13],[30,12,30,13],[27,9,27,10],[34,0,34,13],[0,0,0,13],[1,0,1,13],[2,0,2,13],[4,0,4,13],[5,0,5,13],[6,0,6,13],[3,0,3,13],[7,0,8,13],[10,0,10,13],[32,0,32,13],[14,2,14,4],[14,6,14,7],[25,9,25,10],[20,0,20,8],[21,0,21,8],[24,12,24,13],[24,0,24,8],[23,12,23,13],[25,12,25,13],[25,0,25,8],[24,9,24,10],[23,0,23,8],[23,9,23,10]]}
["Ministério da Integração e do Desenvolvimento Regional - MIDR"]
["Companhia de Desenvolvimento dos Vales do São Francisco e do Parnaíba"]
["4ª Superintendência Regional da CODEVASF - 4ªSR"]
["Gerência Regional de Administração e Tecnologia - 4ª/GRA"]
["Planilha de custos - Resumo"]
["Discriminação dos Serviços"]
[{"$f":"Resumo!A7","v":" Serviços de Condução Veicular para SEDE da 4ª Superintendência Regional da Codevasf "}]
[{"$f":"Resumo!A8","v":"Os salarios estão baseados na Convenção Coletiva de Trabalho 2024/2024 dos  SEAC e SINDECESE, do estado de Sergipe. Conforme Anexo I (Pisos Normativos) da CCT 2024/2024."}]
[]
[]
["VALOR MENSAL E GLOBAL DOS SERVIÇOS-2ªSR"]
[]
["CUSTOS FIXOS"]
["ITEM","CÓDIGOCATSER","POSTO DE SERVIÇO",null,null,"QTDE DE POSTOS","VALOR UNITÁRIO POSTO (R$)",null,"Intervalo Mínimo","VALOR TOTAL MENSAL (R$)",null,"Nº DE MESES","VALOR ANUAL (R$)"]
[1,15008,{"$f":"Resumo!C15","v":"Motorista com auxilio na carga e descarga  "},null,null,{"$f":"Resumo!E15","v":3},{"$f":"Motorista!H99","v":6381.9633303998771},null,null,{"$f":"F15*G15","v":19145.88999119963},null,12,{"$f":"J15*L15","v":229750.67989439558}]
["TOTAL DOS CUSTOS FIXOS",{"$nulls":4},{"$f":"SUM(F15:F15)","v":3},null,null,null,{"$f":"SUM(J15:K15)","v":19145.88999119963},null,null,{"$f":"SUM(M15:N15)","v":229750.67989439558}]
[]
["CUSTOS VARIÁVEIS"]
["Descrição",{"$nulls":8},"Valor Mensal",null,"Nº DE MESES","VALOR ANUAL (R$)"]
[{"$f":"Resumo!A20","v":"Horas extras a 50% - Motorista"},{"$nulls":8},{"$f":"Resumo!H20","v":895.68000000000006},null,12,{"$f":"J20*L20","v":10748.16}]
[{"$f":"Resumo!A21","v":"Alimentação - Capital"},{"$nulls":8},{"$f":"Resumo!H21","v":402.36},null,12,4828.32]
[{"$f":"Resumo!A22","v":"Pernoite - Capital"},{"$nulls":8},{"$f":"Resumo!H22","v":1380.32},null,12,16563.84]
[{"$f":"Resumo!A23","v":"Alimentação - Demais Localidades"},{"$nulls":8},{"$f":"Resumo!H23","v":4023.6000000000004},null,12,48283.200000000004]
[{"$f":"Resumo!A24","v":"Pernoite - Demais Localidades"},{"$nulls":8},{"$f":"Resumo!H24","v":3033.6000000000004},null,12,36403.200000000004]
["Lucro e despesas indiretas (15%) + Tributos (8,65%),  incidência sobre alimentação e pernoite",{"$nulls":8},{"$f":"Resumo!H25","v":2090.6316200000001},null,12,25087.579440000001]
["TOTAL DOS CUSTOS VARIÁVEIS",{"$nulls":8},{"$f":"SUM(J20:K25)","v":11826.191620000001},null,null,{"$f":"SUM(M20:N25)","v":141914.29944}]
[]
["RESUMO GERAL",{"$nulls":8},"Valor Mensal",null,"Nº DE MESES","VALOR ANUAL (R$)"]
["VALOR TOTAL DO CUSTOS FIXOS",{"$nulls":8},{"$f":"J16","v":19145.88999119963},null,12,{"$f":"J29*L29","v":229750.67989439558}]
["VALOR TOTAL DO CUSTOS VARIÁVEIS",{"$nulls":8},{"$f":"J26","v":11826.191620000001},null,12,{"$f":"J30*L30","v":141914.29944000003}]
["VALOR TOTAL DO CONTRATO",{"$nulls":8},{"$f":"SUM(J29:K30)","v":30972.081611199632},null,12,{"$f":"J31*L31","v":371664.97933439561}]
[]
[{"$f":"Resumo!A33","v":"Aracaju/SE, 10 de junho de 2024."}]
[]
[{"$f":"Resumo!A35","v":"1 - Para a elaboração das Planilhas de Custo e Formação de Preço foram adotados os salários base de acordo com a Convenção Coletiva de Trabalho 2024/2024 do SINDECESE e SEAC do estado de Sergipe e anexos, tabela de diárias da CODEVASF e média das cotações dos uniformes realizadas em maio de 2024."}]