{"text_format":"2","workbook":"xlsx","n_sheets":4,"sheets":["Orçamento","Cronograma","BDI ","BDI Diferenciado"],"not_rendered":{"charts":0,"images":11,"macros":0,"external_links":0,"defined_names":10050,"comments":0,"pivot_tables":0},"unopened":[],"bounds":{"document_bytes":16777216,"sheet_cells":100000,"run_cost":"one","rows_first":2000,"rows_last":500,"rows_between":2000,"halvings":0,"cell_chars":16384,"cell_head_chars":4096},"cells_cut":0,"cells_raw":0,"read":"whole","date_system":"1900"}

{"sheet":"Orçamento","index":0,"n_rows":109,"n_cols":14,"rows_kept":109,"cut":false,"hidden":false,"merged":[[1,1,1,11]]}
[]
[null,"ORÇAMENTO REFERENCIAL"]
[null,"Ponte Rio Topázio (Cristalina - GO)",{"$nulls":9},"Extensão: 0,035 km"]
[{"$nulls":7},"BDI",{"$f":"'BDI '!$E$20/100","v":0.27810000000000001}]
[{"$nulls":7},"BDI REDUZIDO",{"$f":"'BDI Diferenciado'!$E$19/100","v":0.15},null,null,"Região: GO"]
[null,"Órgão responsável: CODEVASF",{"$nulls":9},"Data base: abril/2024 - sem desoneração"]
[]
[]
[null,"ITEM","CÓDIGO                ","DESCRIÇÃO DO SERVIÇO","UNIDADE","BASE \nREFERENCIAL","QUANTIDADE","CUSTO UNITÁRIO \n(R$)","BDI %","DT","PREÇO UNITÁRIO\nC/ BDI (R$)","PREÇO TOTAL\n(R$)"]
[]
[null,"1.","","SERVIÇOS PRELIMINARES  ","",{"$nulls":6},{"$f":"SUM(L12:L16)","v":606438.44999999995},null,"T"]
[null,"1.1","CPU.1","Administração local  ","un","PROPRIA",1,264709.61,{"$f":"IF(E12=\"\",\"\",$I$4)","v":0.27810000000000001},null,{"$f":"IF(E12=\"\",\"\",TRUNC(H12*(1+I12),2))","v":338325.35},{"$f":"IF(E12=\"\",\"\",TRUNC(G12*K12,2))","v":338325.35}]
[null,"1.2","CPU.2","Mobiização e desmobilização  ","un","PROPRIA",1,38340.26,{"$f":"IF(E13=\"\",\"\",$I$4)","v":0.27810000000000001},null,49002.68,49002.68]
[null,"1.3","CPU.3","Canteiro de obras  ","un","PROPRIA",1,159434.54,{"$f":"IF(E14=\"\",\"\",$I$4)","v":0.27810000000000001},null,{"$f":"IF(E14=\"\",\"\",TRUNC(H14*(1+I14),2))","v":203773.28},{"$f":"IF(E14=\"\",\"\",TRUNC(G14*K14,2))","v":203773.28}]
[null,"1.4","5213570","Placa em aço - película I + I - fornecimento e implantação  ","m²","SICRO",25,453.68,0.27810000000000001,"",{"$f":"IF(E15=\"\",\"\",TRUNC(H15*(1+I15),2))","v":579.84},{"$f":"IF(E15=\"\",\"\",TRUNC(G15*K15,2))","v":14496}]
[null,"1.5","5216111","Suporte para placa de sinalização em madeira de lei tratada 8 x 8 cm - fornecimento e implantação  ","un","SICRO",6,109.69,0.27810000000000001,"",140.19,841.14]
[null,"2.","","TERRAPLANAGEM  ","",null,null,null,"","",{"$f":"IF(E17=\"\",\"\",ROUND(H17*(1+I17),2))","v":""},{"$f":"SUM(L18:L22)","v":28338.240000000002},null,"T"]
[null,"2.1.","5501700","Desmatamento, destocamento e limpeza de área com árvores de diâmetro até 0,15 m  ","m²","SICRO",370.02,0.52,0.27810000000000001,"",{"$f":"IF(E18=\"\",\"\",TRUNC(H18*(1+I18),2))","v":0.66},{"$f":"IF(E18=\"\",\"\",TRUNC(G18*K18,2))","v":244.21}]
[null,"2.2.","5502985","Limpeza mecanizada da camada vegetal  ","m²","SICRO",4397.2299999999996,0.56000000000000005,0.27810000000000001,"",0.71,3122.03]
[null,"2.3.","5501710","Escavação, carga e transporte em material de 1ª categoria - DMT de 50 m  ","m³","SICRO",1231.99,2.8,0.27810000000000001,"",3.57,4398.2]
[null,"2.4.","5502137","Escavação, carga e transporte de material de 1ª categoria - DMT de 400 a 600 m - caminho de serviço em revestimento primário - com escavadeira e caminhão basculante de 14 m³  ","m³","SICRO",1137.3399999999999,5.9,0.27810000000000001,"",7.54,8575.5400000000009]
[null,"2.5.","5502978","Compactação de aterros a 100% do proctor normal  ","m³","SICRO",1895.46,4.96,0.27810000000000001,"",6.33,11998.26]
[null,"3.","","GABIÃO","",null,null,null,"","","",{"$f":"SUM(L24:L33)","v":543850.47},null,"T"]
[null,"3.1.","3205864","Gabião caixa 2 x 1 x 0,50 m - ZN/AL + PVC - D = 2,4 mm - pedra de mão comercial - fornecimento e assentamento  ","m³","SICRO",172.75,1023.99,0.27810000000000001,"",{"$f":"IF(E24=\"\",\"\",TRUNC(H24*(1+I24),2))","v":1308.76},{"$f":"IF(E24=\"\",\"\",TRUNC(G24*K24,2))","v":226088.29}]
[null,"3.2.","3205866","Gabião caixa 2 x 1 x 1,00 m - ZN/AL + PVC - D = 2,4 mm - pedra de mão comercial - fornecimento e assentamento  ","m³","SICRO",204.4,787.58,0.27810000000000001,"",1006.6,205749.04]
[null,"3.3.","3205876","Gabião colchão espessura 0,30 m - ZN/AL + PVC - D = 2,0 mm - pedra de mão comercial - fornecimento e assentamento  ","m²","SICRO",160.57,330.05,0.27810000000000001,"",421.83,67733.240000000005]
[null,"3.4.","5501706","Escavação mecânica com retroescavadeira em material de 1ª categoria  ","m³","SICRO",905.65,6.77,0.27810000000000001,"",8.65,7833.87]
[null,"3.5.","2003867","Aplicação de geotêxtil não-tecido agulhado com resistência à tração longitudinal de 31 KN/m  ","m²","SICRO",729.97,16.88,0.27810000000000001,"",21.57,15745.45]
[null,"3.6.","4815671","Reaterro e compactação com soquete vibratório  ","m³","SICRO",550.46,16.03,0.27810000000000001,"",20.48,11273.42]
[null,"3.7.","5915320","Transporte com caminhão basculante de 14 m³ - rodovia em revestimento primário - rachão","tkm","SICRO",4695.54,0.69,0.27810000000000001,6.4,0.88,4132.07]
[null,"3.8.","5915321","Transporte com caminhão basculante de 14 m³ - rodovia pavimentada - rachão  ","tkm","SICRO",6162.9,0.62,0.27810000000000001,8.4,0.79,4868.6899999999996]
[null,"3.9.","5914464","Transporte com caminhão carroceria de 15 t - rodovia em revestimento primário - gabião+geotêxtil  ","tkm","SICRO",25.85,0.85,0.27810000000000001,5.6,1.08,27.91]
[null,"3.10.","5914479","Transporte com caminhão carroceria de 15 t - rodovia pavimentada - gabião+geotêxtil  ","tkm","SICRO",452.83,0.69,{"$f":"IF(E33=\"\",\"\",$I$4)","v":0.27810000000000001},98.1,0.88,398.49]
[null,"4.","","OBRA DE ARTE ESPECIAL  ","",null,null,null,"","","",{"$f":"SUM(L35:L91)","v":1247890.7299999997},null,"T"]
[null,"4.1.","","INFRAESTRUTURA  ","",null,null,null,"","","",{"$f":"IF(E35=\"\",\"\",ROUND(G35*K35,2))","v":""},null,"ST"]
[null,"4.1.1.","4805749","Escavação manual de vala em material de 1ª categoria  ","m³","SICRO",60.84,70.16,0.27810000000000001,"",{"$f":"IF(E36=\"\",\"\",TRUNC(H36*(1+I36),2))","v":89.67},{"$f":"IF(E36=\"\",\"\",TRUNC(G36*K36,2))","v":5455.52}]
[null,"4.1.2.","4815671","Reaterro e compactação com soquete vibratório  ","m³","SICRO",33,16.03,0.27810000000000001,"",20.48,675.84]
[null,"4.1.3.","2306066","Estaca raiz perfurada no solo com D = 40 cm - confecção  ","m","SICRO",20,229.43,0.27810000000000001,"",293.23,5864.6]
[null,"4.1.4.","2306071","Estaca raiz perfurada na rocha com D = 40 cm - confecção  ","m","SICRO",100,1863.55,0.27810000000000001,"",2381.8000000000002,238180]
[null,"4.1.5.","2306248","Arrasamento de estacas de concreto com seção superior à 900 cm²  ","m³","SICRO",0.25,541.14,0.27810000000000001,"",691.63,172.9]
[null,"4.1.6.","3106120","Fôrmas de tábuas de pinho - utilização de 2 vezes - confecção, instalação e retirada  ","m²","SICRO",47.04,105.3,0.27810000000000001,"",134.58000000000001,6330.64]
[null,"4.1.7.","0407819","Armação em aço CA-50 - fornecimento, preparo e colocação  ","kg","SICRO",3388,12.01,0.27810000000000001,"",15.34,51971.92]
[null,"4.1.8.","1107888","Concreto fck = 15 MPa - confecção em betoneira e lançamento manual - areia e brita comerciais  ","m³","SICRO",1.1599999999999999,456.67,0.27810000000000001,"",583.66,677.04]
[null,"4.1.9.","1107900","Concreto fck = 30 MPa - confecção em betoneira e lançamento manual - areia e brita comerciais  ","m³","SICRO",42.92,513.74,{"$f":"IF(E44=\"\",\"\",$I$4)","v":0.27810000000000001},"",656.61,28181.7]
[null,"4.1.10.","1100657","Adensamento de concreto por vibrador de imersão","m³","SICRO",44.08,3.19,0.27810000000000001,null,4.07,179.4]
[null,"4.2.","","MESOESTRUTURA  ","",null,null,null,"","","","",null,"ST"]
[null,"4.2.1.","2108169","Escoramento com pontaletes D = 15 cm - utilização de 1 vez - confecção e instalação  ","m³","SICRO",145.24,51.58,0.27810000000000001,"",{"$f":"IF(E47=\"\",\"\",TRUNC(H47*(1+I47),2))","v":65.92},{"$f":"IF(E47=\"\",\"\",TRUNC(G47*K47,2))","v":9574.2199999999993}]
[null,"4.2.2.","3108016","Fôrmas de compensado plastificado 14 mm - uso geral - utilização de 2 vezes - confecção, instalação e retirada  ","m²","SICRO",83.82,95.82,0.27810000000000001,"",122.46,10264.59]
[null,"4.2.3.","1107900","Concreto fck = 30 MPa - confecção em betoneira e lançamento manual - areia e brita comerciais  ","m³","SICRO",20.18,513.74,0.27810000000000001,"",656.61,13250.38]
[null,"4.2.4.","1100657","Adensamento de concreto por vibrador de imersão","m³","SICRO",20.18,3.19,{"$f":"IF(E50=\"\",\"\",$I$4)","v":0.27810000000000001},null,4.07,82.13]
[null,"4.2.5.","1109680","Argamassa para reparos e grauteamento - confecção em misturador e lançamento manual  ","m³","SICRO",0.05,4063.31,0.27810000000000001,"",5193.3100000000004,259.66000000000003]
[null,"4.2.6.","0407819","Armação em aço CA-50 - fornecimento, preparo e colocação  ","kg","SICRO",1678,12.01,0.27810000000000001,"",15.34,25740.52]
[null,"4.2.7.","0407820","Armação em aço CA-60 - fornecimento, preparo e colocação  ","kg","SICRO",56,13.25,0.27810000000000001,"",16.93,948.08]
[null,"4.2.8.","0307731","Aparelho de apoio de neoprene fretado para estruturas moldadas no local - fornecimento e instalação  ","dm³","SICRO",42,127.79,0.27810000000000001,"",163.32,6859.44]
[null,"4.3.","","SUPERESTRUTURA  ","",null,null,null,"","","","",null,"ST"]
[null,"4.3.1.","","SUPERESTRUTURA LONGARINA  ","",null,"                    -  ","                         -  ","","","","",null,"ST"]
[null,"4.3.1.1.","3108016","Fôrmas de compensado plastificado 14 mm - uso geral - utilização de 2 vezes - confecção, instalação e retirada  ","m²","SICRO",241.5,95.82,0.27810000000000001,"",{"$f":"IF(E57=\"\",\"\",TRUNC(H57*(1+I57),2))","v":122.46},{"$f":"IF(E57=\"\",\"\",TRUNC(G57*K57,2))","v":29574.09}]
[null,"4.3.1.2.","1107900","Concreto fck = 30 MPa - confecção em betoneira e lançamento manual - areia e brita comerciais  ","m³","SICRO",55.82,513.74,0.27810000000000001,"",656.61,36651.97]
[null,"4.3.1.3.","1100657","Adensamento de concreto por vibrador de imersão","m³","SICRO",55.82,3.19,{"$f":"IF(E59=\"\",\"\",$I$4)","v":0.27810000000000001},null,4.07,227.18]
[null,"4.3.1.4.","0407819","Armação em aço CA-50 - fornecimento, preparo e colocação  ","kg","SICRO",14890,12.01,0.27810000000000001,"",15.34,228412.6]
[null,"4.3.2.","","SUPERESTRUTURA (LAJE+TRANSVERSINAS+ALAS  ","",null,"                    -  ","                         -  ","","",null,null,null,"ST"]
[null,"4.3.2.1.","2108169","Escoramento com pontaletes D = 15 cm - utilização de 1 vez - confecção e instalação  ","m³","SICRO",2205.64,51.58,0.27810000000000001,"",{"$f":"IF(E62=\"\",\"\",TRUNC(H62*(1+I62),2))","v":65.92},{"$f":"IF(E62=\"\",\"\",TRUNC(G62*K62,2))","v":145395.78}]
[null,"4.3.2.2.","3108016","Fôrmas de compensado plastificado 14 mm - uso geral - utilização de 2 vezes - confecção, instalação e retirada  ","m²","SICRO",369.26,95.82,0.27810000000000001,"",122.46,45219.57]
[null,"4.3.2.3.","1107900","Concreto fck = 30 MPa - confecção em betoneira e lançamento manual - areia e brita comerciais  ","m³","SICRO",83.62,513.74,0.27810000000000001,"",656.61,54905.72]
[null,"4.3.2.4.","1100657","Adensamento de concreto por vibrador de imersão","m³","SICRO",83.62,3.19,0.27810000000000001,null,4.07,340.33]
[null,"4.3.2.5.","0407819","Armação em aço CA-50 - fornecimento, preparo e colocação  ","kg","SICRO",10818,12.01,0.27810000000000001,"",15.34,165948.12]
[null,"4.3.3.","","LAJE DE TRANSIÇÃO  ","",null,"                    -  ","                         -  ","","",null,null,null,"ST"]
[null,"4.3.3.1.","3108016","Fôrmas de compensado plastificado 14 mm - uso geral - utilização de 2 vezes - confecção, instalação e retirada  ","m²","SICRO",12.32,95.82,0.27810000000000001,"",{"$f":"IF(E68=\"\",\"\",TRUNC(H68*(1+I68),2))","v":122.46},{"$f":"IF(E68=\"\",\"\",TRUNC(G68*K68,2))","v":1508.7}]
[null,"4.3.3.2.","1107900","Concreto fck = 30 MPa - confecção em betoneira e lançamento manual - areia e brita comerciais  ","m³","SICRO",15.02,513.74,0.27810000000000001,"",656.61,9862.2800000000007]
[null,"4.3.3.3.","1100657","Adensamento de concreto por vibrador de imersão","m³","SICRO",15.02,3.19,{"$f":"IF(E70=\"\",\"\",$I$4)","v":0.27810000000000001},null,4.07,61.13]
[null,"4.3.3.4.","0407819","Armação em aço CA-50 - fornecimento, preparo e colocação  ","kg","SICRO",1633,12.01,0.27810000000000001,"",15.34,25050.22]
[null,"4.3.4.","","BARREIRA NEW JERSEY  ","",null,"                    -  ","                         -  ","","",null,null,null,"ST"]
[null,"4.3.4.1.","3108016","Fôrmas de compensado plastificado 14 mm - uso geral - utilização de 2 vezes - confecção, instalação e retirada  ","m²","SICRO",124.6,95.82,0.27810000000000001,"",{"$f":"IF(E73=\"\",\"\",TRUNC(H73*(1+I73),2))","v":122.46},{"$f":"IF(E73=\"\",\"\",TRUNC(G73*K73,2))","v":15258.51}]
[null,"4.3.4.2.","1107900","Concreto fck = 30 MPa - confecção em betoneira e lançamento manual - areia e brita comerciais  ","m³","SICRO",16.48,513.74,0.27810000000000001,"",656.61,10820.93]
[null,"4.3.4.3.","1100657","Adensamento de concreto por vibrador de imersão","m³","SICRO",16.48,3.19,0.27810000000000001,null,4.07,67.069999999999993]
[null,"4.3.4.4.","0407819","Armação em aço CA-50 - fornecimento, preparo e colocação  ","kg","SICRO",1394,12.01,0.27810000000000001,"",15.34,21383.96]
[null,"4.3.5.","","DIVERSOS  ","",null,"                    -  ","                         -  ","","",null,null,null,"ST"]
[null,"4.3.5.1.","2007971","Dreno de PVC D = 100 mm para OAE - fornecimento e instalação  ","m","SICRO",18,95.33,{"$f":"IF(E78=\"\",\"\",$I$4)","v":0.27810000000000001},"",{"$f":"IF(E78=\"\",\"\",TRUNC(H78*(1+I78),2))","v":121.84},{"$f":"IF(E78=\"\",\"\",TRUNC(G78*K78,2))","v":2193.12}]
[null,"4.3.5.2.","1107896","Concreto fck = 25 MPa - confecção em betoneira e lançamento manual - areia e brita comerciais  ","m³","SICRO",20.23,492.59,0.27810000000000001,"",629.57000000000005,12736.2]
[null,"4.3.5.3.","1100657","Adensamento de concreto por vibrador de imersão","m³","SICRO",20.23,3.19,0.27810000000000001,null,4.07,82.33]
[null,"4.4.","","TRANSPORTE  ","",null,null,null,"","",null,null,null,"ST"]
[null,"4.4.1.","5915320","Transporte com caminhão basculante de 14 m³ - rodovia em revestimento primário - brita ","tkm","SICRO",1802.51,0.69,0.27810000000000001,6.4,{"$f":"IF(E82=\"\",\"\",TRUNC(H82*(1+I82),2))","v":0.88},{"$f":"IF(E82=\"\",\"\",TRUNC(G82*K82,2))","v":1586.2}]
[null,"4.4.2.","5915320","Transporte com caminhão basculante de 14 m³ - rodovia em revestimento primário - areia  ","tkm","SICRO",2253.0700000000002,0.69,0.27810000000000001,9.1,0.88,1982.7]
[null,"4.4.3.","5915321","Transporte com caminhão basculante de 14 m³ - rodovia pavimentada - brita  ","tkm","SICRO",2365.79,0.62,0.27810000000000001,8.4,0.79,1868.97]
[null,"4.4.4.","5915321","Transporte com caminhão basculante de 14 m³ - rodovia pavimentada - areia  ","tkm","SICRO",10250.209999999999,0.62,0.27810000000000001,41.4,0.79,8097.66]
[null,"4.4.5.","5914464","Transporte com caminhão carroceria de 15 t - rodovia em revestimento primário - cimento  ","tkm","SICRO",557,0.85,0.27810000000000001,5.6,1.08,601.55999999999995]
[null,"4.4.6.","5914479","Transporte com caminhão carroceria de 15 t - rodovia pavimentada - cimento ","tkm","SICRO",12771.3,0.69,0.27810000000000001,128.4,0.88,11238.74]
[null,"4.4.7.","5914464","Transporte com caminhão carroceria de 15 t - rodovia em revestimento primário - madeira+desmoldante  ","tkm","SICRO",518.73,0.85,0.27810000000000001,5.6,1.08,560.22]
[null,"4.4.8.","5914479","Transporte com caminhão carroceria de 15 t - rodovia pavimentada - madeira+desmoldante  ","tkm","SICRO",9087.02,0.69,0.27810000000000001,98.1,0.88,7996.57]
[null,"4.4.9.","5914464","Transporte com caminhão carroceria de 15 t - rodovia em revestimento primário - aço+aparelho de apoio  ","tkm","SICRO",217.62,0.85,0.27810000000000001,5.6,1.08,235.02]
[null,"4.4.10.","5914479","Transporte com caminhão carroceria de 15 t - rodovia pavimentada - aço+aparelho de apoio  ","tkm","SICRO",3812.17,0.69,0.27810000000000001,98.1,0.88,3354.7]
[null,"5.","","SINALIZAÇÃO  ","",null,null,null,"","",{"$f":"IF(E92=\"\",\"\",ROUND(H92*(1+I92),2))","v":""},{"$f":"SUM(L93:L98)","v":3033.71},null,"T"]
[null,"5.1.","5213464","Placa de advertência em aço, lado de 0,60 m - película retrorrefletiva tipo I + SI - fornecimento e implantação  ","un","SICRO",2,245.7,0.27810000000000001,"",{"$f":"IF(E93=\"\",\"\",TRUNC(H93*(1+I93),2))","v":314.02},{"$f":"IF(E93=\"\",\"\",TRUNC(G93*K93,2))","v":628.04}]
[null,"5.2.","5213572","Placa em aço - película III + III - fornecimento e implantação  ","m²","SICRO",0.56999999999999995,628.61,0.27810000000000001,"",803.42,457.94]
[null,"5.3.","5213477","Placa delineador em aço - 0,30 x 0,90 m - película retrorrefletiva tipo I + IV - fornecimento e implantação  ","un","SICRO",4,158.16,0.27810000000000001,"",202.14,808.56]
[null,"5.4.","5216111","Suporte para placa de sinalização em madeira de lei tratada 8 x 8 cm - fornecimento e implantação  ","un","SICRO",8,109.69,0.27810000000000001,"",140.19,1121.52]
[null,"5.5.","5914464","Transporte com caminhão carroceria de 15 t - rodovia em revestimento primário - madeira+placas  ","tkm","SICRO",1.07,0.85,0.27810000000000001,5.6,1.08,1.1499999999999999]
[null,"5.6.","5914479","Transporte com caminhão carroceria de 15 t - rodovia pavimentada - madeira+placas  ","tkm","SICRO",18.760000000000002,0.69,0.27810000000000001,98.1,0.88,16.5]
[null,"6.","","OBRAS COMPLEMENTARES  ","",null,null,null,"","","",{"$f":"SUM(L100:L107)","v":27209.940000000002},null,"T"]
[null,"6.1.","3713613","Cerca com 4 fios de arame liso galvanizado e mourão de madeira a cada 2,5 m e esticador a cada 50 m  ","m","SICRO",271,19.87,0.27810000000000001,"",{"$f":"IF(E100=\"\",\"\",TRUNC(H100*(1+I100),2))","v":25.39},{"$f":"IF(E100=\"\",\"\",TRUNC(G100*K100,2))","v":6880.69}]
[null,"6.2.","1600966","Remoção de cerca com mourões de concreto  ","m","SICRO",258,0.72,0.27810000000000001,"",0.92,237.36]
[null,"6.3.","4413200","Plantio de grama comercial em placas  ","m²","SICRO",355.53,15.62,0.27810000000000001,"",19.96,7096.37]
[null,"6.4.","4413905","Hidrossemeadura  ","m²","SICRO",1421.67,6.55,0.27810000000000001,"",8.3699999999999992,11899.37]
[null,"6.5.","5914464","Transporte com caminhão carroceria de 15 t - rodovia em revestimento primário - arame+madeira  ","tkm","SICRO",11.82,0.85,{"$f":"IF(E104=\"\",\"\",$I$4)","v":0.27810000000000001},5.6,1.08,12.76]
[null,"6.6.","5914479","Transporte com caminhão carroceria de 15 t - rodovia pavimentada - arame+madeira  ","tkm","SICRO",207.1,0.69,0.27810000000000001,98.1,0.88,182.24]
[null,"6.7.","5914464","Transporte com caminhão carroceria de 15 t - rodovia em revestimento primário - grama+aditivos hidrossemeadura ","tkm","SICRO",54.63,0.85,0.27810000000000001,5.6,1.08,59]
[null,"6.8.","5914479","Transporte com caminhão carroceria de 15 t - rodovia pavimentada - grama+aditivos hidrossemeadura  ","tkm","SICRO",956.99,0.69,0.27810000000000001,98.1,0.88,842.15]
[null,"x"]
[null,"TOTAL GERAL",{"$nulls":9},{"$f":"L11+L17+L23+L34+L92+L99","v":2456761.5399999996},null,"T"]

{"sheet":"Cronograma","index":1,"n_rows":53,"n_cols":10,"rows_kept":53,"cut":false,"hidden":false,"merged":[[46,1,48,1],[46,2,48,2],[46,3,48,3],[40,1,42,1],[40,2,42,2],[40,3,42,3],[43,1,45,1],[43,2,45,2],[43,3,45,3],[34,1,36,1],[34,2,36,2],[34,3,36,3],[37,1,39,1],[37,2,39,2],[37,3,39,3],[28,1,30,1],[28,2,30,2],[28,3,30,3],[31,1,33,1],[31,2,33,2],[31,3,33,3],[22,1,24,1],[22,2,24,2],[22,3,24,3],[25,1,27,1],[25,2,27,2],[25,3,27,3],[8,1,9,1],[8,2,9,2],[8,3,9,3],[8,4,8,8],[1,1,1,8],[10,1,12,1],[10,2,12,2],[10,3,12,3],[13,1,15,1],[13,2,15,2],[13,3,15,3],[19,1,21,1],[19,2,21,2],[19,3,21,3],[16,1,18,1],[16,2,18,2],[16,3,18,3]]}
[]
[null,"CRONOGRAMA FISICO-FINANCEIRO"]
[null,"Ponte Rio Topázio (Cristalina - GO)",{"$nulls":6},"Extensão: 0,035 km"]
[]
[{"$nulls":8},"Região: GO"]
[null,"Órgão responsável: CODEVASF",{"$nulls":6},"Data base: janeiro/2024 - sem desoneração"]
[]
[]
[null,"ITEM","DISCRIMINAÇÃO","VALOR DA ETAPA","MESES"]
[{"$nulls":4},1,2,3,4,5]
[null,"1.",{"$f":"Orçamento!D11","v":"SERVIÇOS PRELIMINARES  "},{"$f":"Orçamento!L11","v":606438.44999999995},{"$f":"((E16+E22+E19)/(SUM($D$14:$D$22)))","v":0.5132867647161885},{"$f":"((F16+F22+F19)/(SUM($D$14:$D$22)))","v":0.11157780315545628},{"$f":"((G16+G22+G19)/(SUM($D$14:$D$22)))","v":0.11157780315545628},{"$f":"((H16+H22+H19)/(SUM($D$14:$D$22)))","v":0.11157780315545628},{"$f":"((I16+I22+I19)/(SUM($D$14:$D$22)))","v":0.15197982581744282},{"$f":"SUM(E11:I11)","v":1.0000000000000002}]
[{"$nulls":4},{"$f":"IF(E11<>0,\"=\",\"\")","v":"="},"=","=","=","="]
[{"$nulls":4},{"$f":"ROUND(E11*$D11,4)","v":311276.83},{"$f":"+ROUND(F11*$D11,4)","v":67665.070000000007},67665.070000000007,67665.070000000007,92166.41]
[null,"1.1","ADMINISTRAÇÃO LOCAL",{"$f":"Orçamento!$L$12","v":338325.35},{"$f":"1/5","v":0.2},{"$f":"1/5","v":0.2},0.2,0.2,0.2,{"$f":"SUM(E14:I14)","v":1}]
[{"$nulls":4},{"$f":"IF(E14<>0,\"=\",\"\")","v":"="},"=","=","=","="]
[{"$nulls":4},{"$f":"+ROUND(E14*$D14,4)","v":67665.070000000007},67665.070000000007,67665.070000000007,67665.070000000007,67665.070000000007]
[null,"1.2","MOBILIZAÇÃO E DESMOBILIZAÇÃO",{"$f":"Orçamento!$L$13","v":49002.68},0.5,null,null,null,0.5,{"$f":"SUM(E17:I17)","v":1}]
[{"$nulls":4},{"$f":"IF(E17<>0,\"=\",\"\")","v":"="},"","","","="]
[{"$nulls":4},{"$f":"+ROUND(E17*$D17,4)","v":24501.34},0,0,0,24501.34]
[null,"1.3","INSTALAÇÃO DE CANTEIRO DE OBRAS",{"$f":"Orçamento!$L$14+Orçamento!L15+Orçamento!L16","v":219110.42},1,{"$nulls":4},{"$f":"SUM(E20:I20)","v":1}]
[{"$nulls":4},{"$f":"IF(E20<>0,\"=\",\"\")","v":"="},"","","",""]
[{"$nulls":4},{"$f":"+ROUND(E20*$D20,4)","v":219110.42},{"$f":"+ROUND(F20*$D20,4)","v":0},{"$f":"+ROUND(G20*$D20,4)","v":0},{"$f":"+ROUND(H20*$D20,4)","v":0},{"$f":"+ROUND(I20*$D20,4)","v":0}]
[null,"2.",{"$f":"Orçamento!$D$17","v":"TERRAPLANAGEM  "},{"$f":"Orçamento!$L$17","v":28338.240000000002},null,null,null,0.7,0.3,{"$f":"SUM(E23:I23)","v":1}]
[{"$nulls":4},{"$f":"IF(E23<>0,\"=\",\"\")","v":""},"","","=","="]
[{"$nulls":4},{"$f":"+ROUND(E23*$D23,4)","v":0},0,0,19836.768,8501.4719999999998]
[null,"3.",{"$f":"Orçamento!$D$23","v":"GABIÃO"},{"$f":"Orçamento!$L$23","v":543850.47},null,null,0.2,0.7,0.1,{"$f":"SUM(E26:I26)","v":0.99999999999999989}]
[{"$nulls":4},{"$f":"IF(E26<>0,\"=\",\"\")","v":""},"","=","=","="]
[{"$nulls":4},{"$f":"+ROUND(E26*$D26,4)","v":0},0,108770.094,380695.32900000003,54385.046999999999]
[null,"4.",{"$f":"Orçamento!$D$34","v":"OBRA DE ARTE ESPECIAL  "},{"$f":"Orçamento!$L$34","v":1247890.7299999997},0.2,0.35,0.25,0.15,0.05,{"$f":"SUM(E29:I29)","v":1}]
[{"$nulls":4},{"$f":"IF(E29<>0,\"=\",\"\")","v":"="},"=","=","=","="]
[{"$nulls":4},{"$f":"+ROUND(E29*$D29,4)","v":249578.14600000001},436761.75550000003,311972.6825,187183.60949999999,62394.536500000002]
[null,"5.",{"$f":"Orçamento!$D$92","v":"SINALIZAÇÃO  "},{"$f":"Orçamento!$L$92","v":3033.71},{"$nulls":4},1,{"$f":"SUM(E32:I32)","v":1}]
[{"$nulls":4},{"$f":"IF(E32<>0,\"=\",\"\")","v":""},"","","","="]
[{"$nulls":4},{"$f":"+ROUND(E32*$D32,4)","v":0},0,0,0,3033.71]
[null,"6.",{"$f":"Orçamento!$D$99","v":"OBRAS COMPLEMENTARES  "},{"$f":"Orçamento!$L$99","v":27209.940000000002},null,null,null,0.05,0.95,{"$f":"SUM(E35:I35)","v":1}]
[{"$nulls":4},{"$f":"IF(E35<>0,\"=\",\"\")","v":""},"","","=","="]
[{"$nulls":4},{"$f":"+ROUND(E35*$D35,4)","v":0},0,0,1360.4970000000001,25849.442999999999]
[null,"7.",{"$nulls":7},{"$f":"SUM(E38:I38)","v":0}]
[{"$nulls":4},{"$f":"IF(E38<>0,\"=\",\"\")","v":""},"","","",""]
[{"$nulls":4},{"$f":"+ROUND(E38*$D38,4)","v":0},0,0,0,0]
[null,"8.",{"$nulls":7},{"$f":"SUM(E41:I41)","v":0}]
[{"$nulls":4},{"$f":"IF(E41<>0,\"=\",\"\")","v":""},"","","",""]
[{"$nulls":4},{"$f":"+ROUND(E41*$D41,4)","v":0},0,0,0,0]
[null,"9.",{"$nulls":7},{"$f":"SUM(E44:I44)","v":0}]
[{"$nulls":4},{"$f":"IF(E44<>0,\"=\",\"\")","v":""},"","","",""]
[{"$nulls":4},{"$f":"+ROUND(E44*$D44,4)","v":0},0,0,0,0]
[null,"10.",{"$nulls":7},{"$f":"SUM(E47:I47)","v":0}]
[{"$nulls":4},{"$f":"IF(E47<>0,\"=\",\"\")","v":""},"","","",""]
[{"$nulls":4},{"$f":"+ROUND(E47*$D47,4)","v":0},0,0,0,0]
[null,null,"TOTAIS SIMPLES    (%)",null,{"$f":"+E52/$D$53","v":0.1830944691273651},{"$f":"+F52/$D$53","v":0.16467316112128874},{"$f":"+G52/$D$53","v":0.15944366939619897},{"$f":"+H52/$D$53","v":0.21439712576520348},{"$f":"+I52/$D$53","v":8.0416107111569948E-2}]
[null,null,"TOTAIS ACUMULADOS    (%)",null,{"$f":"+E50","v":0.1830944691273651},{"$f":"+F50+E51","v":0.34776763024865387},0.50721129964485279,0.72160842541005632,0.80202453252162631]
[null,null,"TOTAIS SIMPLES    (R$)",null,{"$f":"E16+E22+E19+E25+E28+E31+E34+E37","v":560854.97600000002},{"$f":"F16+F22+F19+F25+F28+F31+F34+F37","v":504426.82550000004},488407.84649999999,656741.27350000001,246330.61849999998]
[null,null,"TOTAIS ACUMULADOS    (R$)",{"$f":"SUM(D11:D52)","v":3063199.9899999998},{"$f":"+E52","v":560854.97600000002},{"$f":"+E53+F52","v":1065281.8015000001},1553689.648,2210430.9215000002,2456761.54]

{"sheet":"BDI ","index":2,"n_rows":96,"n_cols":5,"rows_kept":96,"cut":false,"hidden":false,"merged":[[38,1,42,3],[43,1,43,2],[30,1,30,3],[35,1,35,3],[0,1,0,4],[1,1,1,4],[36,1,36,2],[28,1,28,2],[27,1,27,3],[13,1,13,2],[2,1,2,4],[3,1,4,2],[3,3,3,4],[10,1,10,2]]}
[null,"CODEVASF - COMPOSIÇÃO DA PARCELA DE BDI (BONIFICAÇÃO E DESPESAS INDIRETAS) "]
[null,"Referência DNIT: Ofício-Circular nº 2699/2024 (SEI DNIT nº 17818943) - Período de vigência: Desde 24 de maio de 2024\t"]
[null,"CONSTRUÇÃO DE OBRA DE ARTE ESPECIAIS - PEQUENO PORTE"]
[null,"DESPESAS INDIRETAS",null,"ONERADO"]
[null,null,null,"% sobre PV","% sobre CD"]
[null,"Administração Central","Variável - f (CD)",{"$f":"E6/(1+E$20/100)","v":6.2592911352789296},8]
[null,"Despesas Financeiras",{"$f":"ROUND(((1+10.5/100)^(1/12)-1)*100,2)","v":0.84},{"$f":"E7/(1+E$20/100)","v":0.77545575463578675},{"$f":"E20-(E6+E8+E9+E12+E15+E16+E17+E18)","v":0.99110999999999905}]
[null,"Seguros e Garantias Contratuais",{"$f":"D8","v":0.25},0.25,{"$f":"D8*(1+E$20/100)","v":0.319525}]
[null,"Riscos",{"$f":"D9","v":0.5},0.5,{"$f":"D9*(1+E$20/100)","v":0.63905000000000001}]
[null,null,"Sub-total 1",{"$f":"SUM(D6:D9)","v":7.7847468899147163},9.9496849999999988]
[null,"BENEFÍCIOS",null,"% sobre PV","% sobre CD"]
[null,"Lucro","Variável - f (CD)",{"$f":"E12/(1+E$20/100)","v":7.8241139190986617},10]
[null,null,"Sub-total 2",{"$f":"D12","v":7.8241139190986617},10]
[null,"TRIBUTOS",null,"% sobre PV","% sobre CD"]
[null,"PIS",{"$f":"D15","v":0.65},0.65,{"$f":"D15*(1+E$20/100)","v":0.83076500000000009}]
[null,"COFINS",{"$f":"D16","v":3},3,{"$f":"D16*(1+E$20/100)","v":3.8342999999999998}]
[null,"ISSQN",2.5,{"$f":"D44*100","v":2.5},{"$f":"D17*(1+E$20/100)","v":3.1952500000000001}]
[null,"CPRB",0,0,{"$f":"D18*(1+E$20/100)","v":0}]
[null,null,"Sub-total",{"$f":"SUM(D15:D18)","v":6.15},{"$f":"SUM(E15:E18)","v":7.8603149999999999}]
[null,"BDI COM IMPOSTOS (%)","Total",{"$f":"D10+D13+D19","v":21.758860809013377},{"$f":"ROUND(((1+(E6/100+E12/100-(C7/100*E12/100)))/(1-(C7/100+D9/100+D8/100+D15/100+D16/100+D17/100+D18/100))-1)*100,2)","v":27.81}]
[]
[null,"PV = Preço de Venda"]
[null,"CD = Custo Direto"]
[null,"SELIC (maio/2024) = 10,50% a.a.",null,null,10.5]
[null,{"$f":"CONCATENATE(\"DF = ((1+SELIC)1/12 -1) sobre (PV - Lucro), o que resulta em DF = \",ROUND(((1+$E$24/100)^(1/12)-1)*100,2),\"% sobre (PV - Lucro)\")","v":"DF = ((1+SELIC)1/12 -1) sobre (PV - Lucro), o que resulta em DF = 0,84% sobre (PV - Lucro)"}]
[]
[]
[null,"ISSQN MUNICIPAL"]
[null,"Lei Complementar nº6, de 18 de dezembro de 2007",null,0.05]
[]
[null,"INCIDÊNCIA DE MATERIAIS NA OBRA"]
[null,"DESCRIÇÃO","TOTAL (R$)","(%)"]
[null,"MATERIAIS",874255.15,{"$f":"C33/$C$34","v":0.59896191143312516}]
[null,"TOTAL",1459617.27,{"$f":"SUM(D33:D33)","v":0.59896191143312516}]
[]
[null,"ISSQN  REAL COM A DEDUÇÃO DE MATERIAIS"]
[null,"ISSQN * % MATERIAL ORÇAMENTO",null,{"$f":"ROUND(D29*(1-D33),4)","v":2.01E-2}]
[]
[null,"Tendo como referência o art. 78  da Lei Complementar nº6, de 18 de dezembro de 2007, foi utilizada a dedução de 50% (cinquenta por cento) do material aplicado em execução de obras.\nDesta forma o ISSQN adotado será o indicado no quadro apresentado a seguir."]
[]
[]
[]
[]
[null,"ISSQN  ADOTADO",null,{"$f":"MAX(ROUND(D29*(1-0.5),4),D37)","v":2.5000000000000001E-2}]
{"$rows_empty":51}
["https://www.gov.br/dnit/pt-br/assuntos/planejamento-e-pesquisa/custos-e-pagamentos/custos-e-pagamentos-dnit/sistemas-de-custos/bdi/AnexoBDISICRO_2024SELIC1050.pdf"]

{"sheet":"BDI Diferenciado","index":3,"n_rows":19,"n_cols":7,"rows_kept":19,"cut":false,"hidden":false,"merged":[[2,1,2,2],[5,6,7,6],[9,1,9,2],[12,1,12,2],[18,1,18,2]]}
[]
[null,"COMPOSIÇÃO DA PARCELA DE BDI (BONIFICAÇÃO E DESPESAS INDIRETAS)",{"$nulls":4},"https://www.gov.br/dnit/pt-br/assuntos/planejamento-e-pesquisa/custos-e-pagamentos/custos-e-pagamentos-dnit/documentos/copy_of_MemorandoCircularn122012DIREX.pdf"]
[null,"ITENS RELATIVOS A ADMINISTRAÇÃO DA OBRA",null,"% sobre PV","% sobre CD"]
[null,"A - Administração Central",{"$f":"E4","v":3.45},{"$f":"E4/(1+E$19/100)","v":3.0000000000000004},3.45,null,"Memorando-Circular nº 12/2012/DIREX de 09 de março de 2012."]
[null,"B - Administração Local",0,{"$f":"E5/(1+E$19/100)","v":0},0]
[null,"C - Custos Financeiros",0.85,0.73913043478260876,0.85,null,"Foi utilizada a tabela a seguir apresentada, conforme disposto no subitem 9.1 do Acórdão nº 2622/2013 – TCU – Plenário, para a definição dos percentuais de: Administração Central; Seguros e Garantias Contratuais; Riscos; Custos Financeiros, e; Lucro."]
[null,"D - Riscos",{"$f":"E7","v":0.85},0.73913043478260876,0.85]
[null,"E - Seguros e Garantias Contratuais",{"$f":"E8","v":0.48},0.41739130434782612,0.48]
[null,null,"Subtotal 1",{"$f":"SUM(D4:D8)","v":4.8956521739130441},5.629999999999999]
[null,"LUCRO",null,"% sobre PV","% sobre CD"]
[null,"F - Lucro Operacional",{"$f":"E11","v":5.1100000000000003},{"$f":"E11/(1+E$19/100)","v":4.4434782608695658},5.1100000000000003]
[null,null,"Subtotal 2",{"$f":"D11","v":4.4434782608695658},5.1100000000000003]
[null,"TRIBUTOS",null,"% sobre PV","% sobre CD"]
[null,"G - PIS",{"$f":"D14","v":0.65},0.65,{"$f":"D14*(1+$E$19/100)","v":0.74749999999999994}]
[null,"H - COFINS",{"$f":"D15","v":3},3,{"$f":"D15*(1+$E$19/100)","v":3.4499999999999997}]
[null,"I - ISSQN",{"$f":"IF(D16=\"\",\"\",D16)","v":""},null,{"$f":"IF(D16=\"\",\"\",D16*(1+$E$19/100))","v":""}]
[null,"J - Contribuição Previdenciária sobre a Receita Bruta (CPRB)",{"$f":"IF(D17=\"\",\"\",D17)","v":""},null,{"$f":"IF(D17=\"\",\"\",D17*(1+$E$19/100))","v":""}]
[null,null,"Subtotal 3",{"$f":"SUM(D14:D17)","v":3.65},{"$f":"SUM(E14:E17)","v":4.1974999999999998}]
[null,"BDI COM TRIBUTOS (%)",null,{"$f":"ROUND(D9+D12+D18,0)","v":13},{"$f":"ROUND(E9+E12+E18,0)","v":15}]