Workbook
Name \: #REF!
Name \: #REF!
Name \0: #REF!
Name \0: #REF!
Name \a: #REF!
Name \a: #REF!
Name \b: #REF!
Name \b: #REF!
Name \c: #REF!
Name \c: #REF!
Name \e: #REF!
Name \e: #REF!
Name \fagf: #REF!
Name \I: #REF!
Name \p: #REF!
Name \q: #REF!
Name \S: #REF!
Name \y: #N/A
Name ____________________________________PL1: #REF!
Name ___________________________________PL1: #REF!
Name __________________________________PL1: #REF!
Name _________________________________PL1: #REF!
Name ________________________________PL1: #REF!
Name _______________________________PL1: #REF!
Name ______________________________PL1: #REF!
Name _____________________________PL1: #REF!
Name ____________________________PL1: #REF!
Name ___________________________PL1: #REF!
Name __________________________PL1: #REF!
Name _________________________PL1: #REF!
Name _________________________tt1: #N/A
Name ________________________PL1: #REF!
Name ________________________tt1: #N/A
Name _______________________PL1: #REF!
Name _______________________tt1: #N/A
Name ______________________CAP20: #REF!
Name ______________________PL1: #REF!
Name ______________________TB10: #REF!
Name ______________________TCB5: #REF!
Name ______________________tcc4: #REF!
Name ______________________tt1: #N/A
Name _____________________CAP20: #REF!
Name _____________________PL1: #REF!
Name _____________________TB10: #REF!
Name _____________________TCB5: #REF!
Name _____________________tcc4: #REF!
Name _____________________tt1: #N/A
Name ____________________PL1: #REF!
Name ____________________tcc4: #REF!
Name ____________________tt1: #N/A
Name ___________________CAP20: #REF!
Name ___________________PL1: #REF!
Name ___________________TB10: #REF!
Name ___________________TCB5: #REF!
Name ___________________tcc4: #REF!
Name ___________________tt1: #N/A
Name __________________CAP20: #REF!
Name __________________PL1: #REF!
Name __________________TB10: #REF!
Name __________________TCB5: #REF!

Sheet RESUMO MODULO TOTAL
E2: Ministério da Integração e do Desenvolvimento Regional | G2: Encargos Sociais | I2: Total de m² | J2: 140000 | K2: Base Referencial SICRO: | L2: Abril/2024 | N2: N1 | O2: TERRAPLENAGEM | P2: =(SUMIF($O$10:$O$57,O2,$L$10:$L$57)/$L$58) -> #DIV/0! | Q2: =(SUMIF($O$10:$O$57,O2,$L$10:$L$57)) -> 0 | R2: FGV | U2: =H8 -> QUANT. | V2: arred(;2)
E3: Companhia de Desenvolvimento dos Vales do São Francisco e do Parnaíba | G3: Horista | H3: ='ENC. SOCIAIS'!F51 -> 108.84 | I3: R$/m² | J3: =ROUND(L58/J2,6) -> 0 | K3: Base Referencial SINAPI: | L3: 04/2024 | N3: N2 | O3: PAVIMENTAÇÃO | P3: =(SUMIF($O$10:$O$57,O3,$L$10:$L$57)/$L$58) -> #DIV/0! | Q3: =(SUMIF($O$10:$O$57,O3,$L$10:$L$57)) -> 0 | R3: FGV | U3: =I8 -> VR.UNIT.S/BDI | V3: arred(;2)
E4: 9ª Superintendência Regional | G4: Mensalista | H4: ='ENC. SOCIAIS'!G51 -> 67.24 | I4: Nº de módulos | J4: 10 | K4: Data do Orçamento: | L4: Agosto - 2024 | N4: N3 | O4: DRENAGEM | P4: =(SUMIF($O$10:$O$57,O4,$L$10:$L$57)/$L$58) -> #DIV/0! | Q4: =(SUMIF($O$10:$O$57,O4,$L$10:$L$57)) -> 0 | R4: FGV | U4: =J8 -> PR. UNIT.C/BDI
B5: OBRA: | C5: Contratação de serviços de pavimentação asfáltica com concreto betuminoso usinado a quente (CBUQ) em vias urbanas e rurais inseridas na área de atuação da Codevasf, no estado de Goiás | I5: Valor total do SRP | J5: =$L$58 -> 0 | K5: BDI-SERVIÇO % | L5: =BDI!$C$17 -> 0 | N5: N4 | O5: PAVIMENTAÇÃO | P5: =(SUMIF($O$10:$O$57,O5,$L$10:$L$57)/$L$58) -> #DIV/0! | Q5: =(SUMIF($O$10:$O$57,O5,$L$10:$L$57)) -> 0 | R5: FGV
I6: Valor total por módulo | J6: =ROUND(J5/J4,2) -> 0 | K6: BDI - FORN. % | L6: =BDI!$G$17*100 -> 15 | N6: N5 | O6: INCC | P6: =(SUMIF($O$10:$O$57,O6,$L$10:$L$57)/$L$58) -> #DIV/0! | Q6: =(SUMIF($O$10:$O$57,O6,$L$10:$L$57)) -> 0 | R6: FGV
B7: PLANILHA DE ORÇAMENTAÇÃO | N7: N6 | O7: INCC | P7: =(SUMIF($O$10:$O$57,O7,$L$10:$L$57)/$L$58) -> #DIV/0! | Q7: =(SUMIF($O$10:$O$57,O7,$L$10:$L$57)) -> 0 | R7: FGV
B8: ITEM | C8: CÓDIGO | D8: FONTE | E8: DISCRIMINAÇÃO | F8: TIPO | G8: UNID. | H8: QUANT. | I8: VR.UNIT.S/BDI | J8: PR. UNIT.C/BDI | K8: C. TOT.S/BDI | L8: P. TOT.C/BDI | O8: TOTAL | P8: =SUM(P2:P7) -> #DIV/0! | Q8: =(SUM(Q2:Q7)) -> 0
B10: 1 | E10: MOBILIZAÇÃO/DESMOBILIZAÇÃO
B11: 1.1 | C11: Mob | D11: Codevasf | E11: Mobilização | F11: SERV | G11: kmxfrente | H11: 6000 | J11: =TRUNC(IF(F11="SERV",I11*(1+$L$5/100),I11*(1+$L$6/100)),2) -> 0 | K11: =TRUNC(H11*I11,2) -> 0 | L11: =TRUNC(J11*H11,2) -> 0 | N11: =L11/$L$58 -> #DIV/0! | O11: INCC
B12: 1.2 | C12: Mob | D12: Codevasf | E12: Desmobilização | F12: SERV | G12: kmxfrente | H12: 6000 | J12: =TRUNC(IF(F12="SERV",I12*(1+$L$5/100),I12*(1+$L$6/100)),2) -> 0 | K12: =TRUNC(H12*I12,2) -> 0 | L12: =TRUNC(J12*H12,2) -> 0 | N12: =L12/$L$58 -> #DIV/0! | O12: INCC
B13: 2 | E13: INSTALAÇÃO DE CANTEIRO
B14: 2.1 | C14: Canteiro | D14: Codevasf | E14: Canteiro de Obras e Almoxarifado | F14: SERV | G14: frente | H14: 10 | J14: =TRUNC(IF(F14="SERV",I14*(1+$L$5/100),I14*(1+$L$6/100)),2) -> 0 | K14: =TRUNC(H14*I14,2) -> 0 | L14: =TRUNC(J14*H14,2) -> 0 | N14: =L14/$L$58 -> #DIV/0! | O14: INCC
B15: 2.2 | C15: 103689 | D15: SINAPI | E15: Fornecimento e instalação de placa de obra com chapa galvanizada e estrutura de madeira. af_03/2022_ps | F15: SERV | G15: m² | H15: 160 | J15: =TRUNC(IF(F15="SERV",I15*(1+$L$5/100),I15*(1+$L$6/100)),2) -> 0 | K15: =TRUNC(H15*I15,2) -> 0 | L15: =TRUNC(J15*H15,2) -> 0 | N15: =L15/$L$58 -> #DIV/0! | O15: INCC
B16: 3 | E16: ADMINISTRAÇÃO LOCAL DA OBRA
B17: 3.1 | C17: Adm Local | D17: Codevasf | E17: Administração Local da Obra | F17: SERV | G17: unid. | H17: 1 | J17: =TRUNC(IF(F17="SERV",I17*(1+$L$5/100),I17*(1+$L$6/100)),2) -> 0 | K17: =TRUNC(H17*I17,2) -> 0 | L17: =TRUNC(J17*H17,2) -> 0 | N17: =L17/$L$58 -> #DIV/0! | O17: INCC
B18: 4 | E18: TERRAPLANAGEM
B19: 4.1 | C19: 5502114 | D19: SICRO | E19: Escavação, carga e transporte de material de 1ª categoria - DMT de 1.000 a 1.200 m - caminho de serviço em leito natural - com escavadeira e caminhão basculante de 14 m³ | F19: SERV | G19: m³ | H19: 49000 | J19: =TRUNC(IF(F19="SERV",I19*(1+$L$5/100),I19*(1+$L$6/100)),2) -> 0 | K19: =TRUNC(H19*I19,2) -> 0 | L19: =TRUNC(J19*H19,2) -> 0 | N19: =L19/$L$58 -> #DIV/0! | O19: TERRAPLENAGEM
B20: 4.2 | C20: 4413942 | D20: SICRO | E20: Espalhamento de material em bota-fora | F20: SERV | G20: m³ | H20: 49000 | J20: =TRUNC(IF(F20="SERV",I20*(1+$L$5/100),I20*(1+$L$6/100)),2) -> 0 | K20: =TRUNC(H20*I20,2) -> 0 | L20: =TRUNC(J20*H20,2) -> 0 | N20: =L20/$L$58 -> #DIV/0! | O20: TERRAPLENAGEM
B21: 5 | E21: PAVIMENTAÇÃO
B22: 5.1 | C22: 4011463 | D22: SICRO | E22: Concreto asfáltico - faixa C - areia e brita comerciais | F22: SERV | G22: t | H22: 16800 | J22: =TRUNC(IF(F22="SERV",I22*(1+$L$5/100),I22*(1+$L$6/100)),2) -> 0 | K22: =TRUNC(H22*I22,2) -> 0 | L22: =TRUNC(J22*H22,2) -> 0 | N22: =L22/$L$58 -> #DIV/0! | O22: PAVIMENTAÇÃO
B23: 5.2 | C23: 4011352 | D23: SICRO | E23: Imprimação com emulsão asfáltica | F23: SERV | G23: m² | H23: 140000 | J23: =TRUNC(IF(F23="SERV",I23*(1+$L$5/100),I23*(1+$L$6/100)),2) -> 0 | K23: =TRUNC(H23*I23,2) -> 0 | L23: =TRUNC(J23*H23,2) -> 0 | N23: =L23/$L$58 -> #DIV/0! | O23: PAVIMENTAÇÃO
B24: 5.3 | C24: 4011353 | D24: SICRO | E24: Pintura de ligação (*) | F24: SERV | G24: m² | H24: 140000 | J24: =TRUNC(IF(F24="SERV",I24*(1+$L$5/100),I24*(1+$L$6/100)),2) -> 0 | K24: =TRUNC(H24*I24,2) -> 0 | L24: =TRUNC(J24*H24,2) -> 0 | N24: =L24/$L$58 -> #DIV/0! | O24: PAVIMENTAÇÃO
B25: 5.4 | C25: 4011256 | D25: SICRO | E25: Base estabilizada granulometricamente com mistura solo brita (70% - 30%) na pista com material de jazida e brita comercial | F25: SERV | G25: m³ | H25: 21000 | J25: =TRUNC(IF(F25="SERV",I25*(1+$L$5/100),I25*(1+$L$6/100)),2) -> 0 | K25: =TRUNC(H25*I25,2) -> 0 | L25: =TRUNC(J25*H25,2) -> 0 | N25: =L25/$L$58 -> #DIV/0! | O25: PAVIMENTAÇÃO
B26: 5.5 | C26: 4011233 | D26: SICRO | E26: Sub-base estabilizada granulometricamente com mistura solo brita (70% - 30%) na pista com material de jazida e brita comercial | F26: SERV | G26: m³ | H26: 21000 | J26: =TRUNC(IF(F26="SERV",I26*(1+$L$5/100),I26*(1+$L$6/100)),2) -> 0 | K26: =TRUNC(H26*I26,2) -> 0 | L26: =TRUNC(J26*H26,2) -> 0 | N26: =L26/$L$58 -> #DIV/0! | O26: PAVIMENTAÇÃO
B27: 5.6 | C27: 4011209 | D27: SICRO | E27: Regularização do subleito | F27: SERV | G27: m² | H27: 140000 | J27: =TRUNC(IF(F27="SERV",I27*(1+$L$5/100),I27*(1+$L$6/100)),2) -> 0 | K27: =TRUNC(H27*I27,2) -> 0 | L27: =TRUNC(J27*H27,2) -> 0 | N27: =L27/$L$58 -> #DIV/0! | O27: PAVIMENTAÇÃO
B28: 6 | E28: AQUISIÇÃO E TRANSPORTE DO MATERIAL BETUMINOSO
B29: 6.1 | C29: CPU-13 | D29: CODEVASF | E29: AQUISIÇÃO DE CIMENTO ASFALTICO CAP 50/70 | F29: FORN | G29: t | H29: 1083.43 | J29: =TRUNC(IF(F29="SERV",I29*(1+$L$5/100),I29*(1+$L$6/100)),2) -> 0 | K29: =TRUNC(H29*I29,2) -> 0 | L29: =TRUNC(J29*H29,2) -> 0 | N29: =L29/$L$58 -> #DIV/0! | O29: PAVIMENTAÇÃO
B30: 6.2 | C30: CPU-17 | D30: CODEVASF | E30: TRANSPORTE CAP 50/70 | F30: FORN | G30: t | H30: 1083.43 | J30: =TRUNC(IF(F30="SERV",I30*(1+$L$5/100),I30*(1+$L$6/100)),2) -> 0 | K30: =TRUNC(H30*I30,2) -> 0 | L30: =TRUNC(J30*H30,2) -> 0 | N30: =L30/$L$58 -> #DIV/0! | O30: PAVIMENTAÇÃO
B31: 6.3 | C31: CPU-14 | D31: CODEVASF | E31: AQUISIÇÃO DE EAI | F31: FORN | G31: t | H31: 182 | J31: =TRUNC(IF(F31="SERV",I31*(1+$L$5/100),I31*(1+$L$6/100)),2) -> 0 | K31: =TRUNC(H31*I31,2) -> 0 | L31: =TRUNC(J31*H31,2) -> 0 | N31: =L31/$L$58 -> #DIV/0! | O31: PAVIMENTAÇÃO
B32: 6.4 | C32: CPU-18 | D32: CODEVASF | E32: TRANSPORTE DE EAI | F32: FORN | G32: t | H32: 182 | J32: =TRUNC(IF(F32="SERV",I32*(1+$L$5/100),I32*(1+$L$6/100)),2) -> 0 | K32: =TRUNC(H32*I32,2) -> 0 | L32: =TRUNC(J32*H32,2) -> 0 | N32: =L32/$L$58 -> #DIV/0! | O32: PAVIMENTAÇÃO
B33: 6.5 | C33: CPU-15 | D33: CODEVASF | E33: AQUISIÇÃO DE EMULSÃO ASFÁLTICA RR-1C | F33: FORN | G33: t | H33: 63 | J33: =TRUNC(IF(F33="SERV",I33*(1+$L$5/100),I33*(1+$L$6/100)),2) -> 0 | K33: =TRUNC(H33*I33,2) -> 0 | L33: =TRUNC(J33*H33,2) -> 0 | N33: =L33/$L$58 -> #DIV/0! | O33: PAVIMENTAÇÃO
B34: 6.6 | C34: CPU-19 | D34: CODEVASF | E34: TRANSPORTE RR-1C | F34: FORN | G34: t | H34: 63 | J34: =TRUNC(IF(F34="SERV",I34*(1+$L$5/100),I34*(1+$L$6/100)),2) -> 0 | K34: =TRUNC(H34*I34,2) -> 0 | L34: =TRUNC(J34*H34,2) -> 0 | N34: =L34/$L$58 -> #DIV/0! | O34: PAVIMENTAÇÃO
B35: 7 | E35: SINALIZAÇÃO
B36: 7.1 | C36: 5213440 | D36: SICRO | E36: Placa de regulamentação em aço D = 0,60 m - película retrorrefletiva tipo I + SI - fornecimento e implantação | F36: SERV | G36: unid. | H36: 60 | J36: =TRUNC(IF(F36="SERV",I36*(1+$L$5/100),I36*(1+$L$6/100)),2) -> 0 | K36: =TRUNC(H36*I36,2) -> 0 | L36: =TRUNC(J36*H36,2) -> 0 | N36: =L36/$L$58 -> #DIV/0! | O36: INCC
B37: 7.2 | C37: 5213464 | D37: SICRO | E37: Placa de advertência em aço, lado de 0,60 m - película retrorrefletiva tipo I + SI - fornecimento e implantação | F37: SERV | G37: unid. | H37: 60 | J37: =TRUNC(IF(F37="SERV",I37*(1+$L$5/100),I37*(1+$L$6/100)),2) -> 0 | K37: =TRUNC(H37*I37,2) -> 0 | L37: =TRUNC(J37*H37,2) -> 0 | N37: =L37/$L$58 -> #DIV/0! | O37: INCC
B38: 7.3 | C38: 5213863 | D38: SICRO | E38: Suporte metálico galvanizado para placa de advertência ou regulamentação - lado ou diâmetro de 0,60 m - fornecimento e implantação | F38: SERV | G38: unid. | H38: 120 | J38: =TRUNC(IF(F38="SERV",I38*(1+$L$5/100),I38*(1+$L$6/100)),2) -> 0 | K38: =TRUNC(H38*I38,2) -> 0 | L38: =TRUNC(J38*H38,2) -> 0 | N38: =L38/$L$58 -> #DIV/0! | O38: INCC
B39: 7.4 | C39: 5213400 | D39: SICRO | E39: Pintura de faixa com tinta acrílica - espessura de 0,4 mm | F39: SERV | G39: m² | H39: 5600 | J39: =TRUNC(IF(F39="SERV",I39*(1+$L$5/100),I39*(1+$L$6/100)),2) -> 0 | K39: =TRUNC(H39*I39,2) -> 0 | L39: =TRUNC(J39*H39,2) -> 0 | N39: =L39/$L$58 -> #DIV/0! | O39: INCC
B40: 8 | E40: DRENAGEM
B41: 8.1 | C41: 2003943-A | D41: CODEVASF | E41: Meio-fio de concreto - MFC 03 moldado no local com extrusora e confecção de concreto em betoneira e lançamento manual - areia e brita comerciais | F41: SERV | G41: m | H41: 36000 | J41: =TRUNC(IF(F41="SERV",I41*(1+$L$5/100),I41*(1+$L$6/100)),2) -> 0 | K41: =TRUNC(H41*I41,2) -> 0 | L41: =TRUNC(J41*H41,2) -> 0 | N41: =L41/$L$58 -> #DIV/0! | O41: DRENAGEM
B42: 8.2 | C42: 2003947-A | D42: CODEVASF | E42: Meio-fio de concreto - MFC 05 moldado no local com extrusora e confecção de concreto em betoneira e lançamento manual - areia e brita comerciais | F42: SERV | G42: m | H42: 4000 | J42: =TRUNC(IF(F42="SERV",I42*(1+$L$5/100),I42*(1+$L$6/100)),2) -> 0 | K42: =TRUNC(H42*I42,2) -> 0 | L42: =TRUNC(J42*H42,2) -> 0 | N42: =L42/$L$58 -> #DIV/0! | O42: DRENAGEM
...

Sheet CRONOGRAMA
A2: ='RESUMO MODULO TOTAL'!$C$5 -> Contratação de serviços de pavimentação asfáltica com concreto betuminoso usinado a quente (CBUQ) em vias urbanas e rurais inseridas na área de atuação da Codevasf, no estado de Goiás
A3: Cronograma Físico e Financeiro
A4: Item | B4: Descrição | C4: Total Por Etapa | D4: 30 DIAS | E4: 60 DIAS | F4: 90 DIAS | G4: 120 DIAS | H4: 150 DIAS | I4: 180 DIAS | J4: 210 DIAS | K4: 240 DIAS | L4: 270 DIAS | M4: 300 DIAS | N4: 330 DIAS | O4: 360 DIAS
A5: 1 | B5: MOBILIZAÇÃO/DESMOBILIZAÇÃO | C5: =SUM(D5:O5) -> 1 | D5: 0.5 | O5: 0.5
C6: =SUM('RESUMO MODULO TOTAL'!L11:L12) -> 0 | D6: =$C$6*D5 -> 0 | O6: =$C$6*O5 -> 0 | P6: =SUM(D6:O6) -> 0 | Q6: =IF(P6=C6,"OK","") -> OK
A7: 2 | B7: INSTALAÇÃO DE CANTEIRO | C7: =SUM(D7:O7) -> 1 | D7: 0.1 | E7: 0.5 | F7: 0.4
C8: =SUM('RESUMO MODULO TOTAL'!L14:L15) -> 0 | D8: =$C$8*D7 -> 0 | E8: =$C$8*E7 -> 0 | F8: =$C$8*F7 -> 0 | G8: =$C$8*G7 -> 0 | H8: =$C$8*H7 -> 0 | I8: =$C$8*I7 -> 0 | J8: =$C$8*J7 -> 0 | K8: =$C$8*K7 -> 0 | ... O8: =$C$8*O7 -> 0 | P8: =SUM(D8:O8) -> 0 | Q8: =IF(P8=C8,"OK","") -> OK
A9: 3 | B9: ADMINISTRAÇÃO LOCAL DA OBRA | C9: =SUM(D9:O9) -> #DIV/0! | D9: =(D6+D8+D12+D14+D16+D18+D20+D22+D24+D26)/($O$33-$C$10) -> #DIV/0! | E9: =(E6+E8+E12+E14+E16+E18+E20+E22+E24+E26)/($O$33-$C$10) -> #DIV/0! | F9: =(F6+F8+F12+F14+F16+F18+F20+F22+F24+F26)/($O$33-$C$10) -> #DIV/0! | G9: =(G6+G8+G12+G14+G16+G18+G20+G22+G24+G26)/($O$33-$C$10) -> #DIV/0! | H9: =(H6+H8+H12+H14+H16+H18+H20+H22+H24+H26)/($O$33-$C$10) -> #DIV/0! | I9: =(I6+I8+I12+I14+I16+I18+I20+I22+I24+I26)/($O$33-$C$10) -> #DIV/0! | J9: =(J6+J8+J12+J14+J16+J18+J20+J22+J24+J26)/($O$33-$C$10) -> #DIV/0! | K9: =(K6+K8+K12+K14+K16+K18+K20+K22+K24+K26)/($O$33-$C$10) -> #DIV/0! | ... O9: =(O6+O8+O12+O14+O16+O18+O20+O22+O24+O26)/($O$33-$C$10) -> #DIV/0!
C10: =SUM('RESUMO MODULO TOTAL'!L17) -> 0 | D10: =$C$10*D9 -> #DIV/0! | E10: =$C$10*E9 -> #DIV/0! | F10: =$C$10*F9 -> #DIV/0! | G10: =$C$10*G9 -> #DIV/0! | H10: =$C$10*H9 -> #DIV/0! | I10: =$C$10*I9 -> #DIV/0! | J10: =$C$10*J9 -> #DIV/0! | K10: =$C$10*K9 -> #DIV/0! | ... O10: =$C$10*O9 -> #DIV/0! | P10: =SUM(D10:O10) -> #DIV/0! | Q10: =IF(P10=C10,"OK","") -> #DIV/0!
A11: 4 | B11: TERRAPLANAGEM | C11: =SUM(D11:O11) -> 1 | F11: =1/4 -> 0.25 | G11: =1/4 -> 0.25 | H11: =1/4 -> 0.25 | I11: =1/4 -> 0.25
C12: =SUM('RESUMO MODULO TOTAL'!L19:L20) -> 0 | D12: =$C$14*D11 -> 0 | E12: =$C$12*E11 -> 0 | F12: =$C$12*F11 -> 0 | G12: =$C$12*G11 -> 0 | H12: =$C$12*H11 -> 0 | I12: =$C$12*I11 -> 0 | J12: =$C$12*J11 -> 0 | K12: =$C$12*K11 -> 0 | L12: =$C$12*L11 -> 0 | ... O12: =$C$12*O11 -> 0 | P12: =SUM(D12:O12) -> 0 | Q12: =IF(P12=C12,"OK","") -> OK
A13: 5 | B13: PAVIMENTAÇÃO | C13: =SUM(D13:O13) -> 1 | I13: =1/6 -> 0.16666667 | J13: =1/6 -> 0.16666667 | K13: =1/6 -> 0.16666667 | L13: =1/6 -> 0.16666667 | M13: =1/6 -> 0.16666667 | N13: =1/6 -> 0.16666667
C14: =SUM('RESUMO MODULO TOTAL'!L22:L27) -> 0 | D14: =$C$14*D13 -> 0 | E14: =$C$14*E13 -> 0 | F14: =$C$14*F13 -> 0 | G14: =$C$14*G13 -> 0 | H14: =$C$14*H13 -> 0 | I14: =$C$14*I13 -> 0 | J14: =$C$14*J13 -> 0 | K14: =$C$14*K13 -> 0 | ... O14: =$C$14*O13 -> 0 | P14: =SUM(D14:O14) -> 0 | Q14: =IF(P14=C14,"OK","") -> OK
A15: 6 | B15: AQUISIÇÃO E TRANSPORTE DE MATERIAL BETUMINOSO | C15: =SUM(D15:O15) -> 1 | I15: =1/6 -> 0.16666667 | J15: =1/6 -> 0.16666667 | K15: =1/6 -> 0.16666667 | L15: =1/6 -> 0.16666667 | M15: =1/6 -> 0.16666667 | N15: =1/6 -> 0.16666667
C16: =SUM('RESUMO MODULO TOTAL'!L29:L34) -> 0 | I16: =$C$16*I15 -> 0 | J16: =$C$16*J15 -> 0 | K16: =$C$16*K15 -> 0 | L16: =$C$16*L15 -> 0 | M16: =$C$16*M15 -> 0 | N16: =$C$16*N15 -> 0 | P16: =SUM(D16:O16) -> 0 | Q16: =IF(P16=C16,"OK","") -> OK
A17: 7 | B17: SINALIZAÇÃO | C17: =SUM(D17:O17) -> 1 | O17: 1
C18: =SUM('RESUMO MODULO TOTAL'!L36:L39) -> 0 | D18: =$C$18*D17 -> 0 | E18: =$C$18*E17 -> 0 | F18: =$C$18*F17 -> 0 | G18: =$C$18*G17 -> 0 | H18: =$C$18*H17 -> 0 | I18: =$C$18*I17 -> 0 | J18: =$C$18*J17 -> 0 | K18: =$C$18*K17 -> 0 | ... O18: =$C$18*O17 -> 0 | P18: =SUM(D18:O18) -> 0 | Q18: =IF(P18=C18,"OK","") -> OK
A19: 8 | B19: DRENAGEM | C19: =SUM(D19:O19) -> 1 | N19: 0.5 | O19: 0.5
C20: =SUM('RESUMO MODULO TOTAL'!L41:L43) -> 0 | D20: =$C$20*D19 -> 0 | E20: =$C$20*E19 -> 0 | F20: =$C$20*F19 -> 0 | G20: =$C$20*G19 -> 0 | H20: =$C$20*H19 -> 0 | I20: =$C$20*I19 -> 0 | J20: =$C$20*J19 -> 0 | K20: =$C$20*K19 -> 0 | ... O20: =$C$20*O19 -> 0 | P20: =SUM(D20:O20) -> 0 | Q20: =IF(P20=C20,"OK","") -> OK
A21: 9 | B21: SERVIÇOS COMPLEMENTARES | C21: =SUM(D21:O21) -> 1 | H21: 0.5 | I21: 0.5
C22: =SUM('RESUMO MODULO TOTAL'!L45) -> 0 | D22: =$C$22*D21 -> 0 | E22: =$C$22*E21 -> 0 | F22: =$C$22*F21 -> 0 | G22: =$C$22*G21 -> 0 | H22: =$C$22*H21 -> 0 | I22: =$C$22*I21 -> 0 | J22: =$C$22*J21 -> 0 | K22: =$C$22*K21 -> 0 | ... O22: =$C$22*O21 -> 0 | P22: =SUM(D22:O22) -> 0 | Q22: =IF(P22=C22,"OK","") -> OK
A23: 10 | B23: PROJETO EXECUTIVO | C23: =SUM(D23:O23) -> 1 | D23: 1
C24: ='RESUMO MODULO TOTAL'!L47 -> 0 | D24: =$C$24*D23 -> 0 | E24: =$C$24*E23 -> 0 | F24: =$C$24*F23 -> 0 | G24: =$C$24*G23 -> 0 | H24: =$C$24*H23 -> 0 | I24: =$C$24*I23 -> 0 | J24: =$C$24*J23 -> 0 | K24: =$C$24*K23 -> 0 | ... O24: =$C$24*O23 -> 0 | P24: =SUM(D24:O24) -> 0 | Q24: =IF(P24=C24,"OK","") -> OK
A25: 11 | B25: MOMENTO DE TRANSPORTE | C25: =SUM(D25:O25) -> 1 | F25: 0.1 | G25: 0.1 | H25: 0.1 | I25: 0.15 | J25: 0.1 | K25: 0.1 | L25: 0.1 | M25: 0.1 | N25: 0.1 | O25: 0.05
C26: =SUM('RESUMO MODULO TOTAL'!L49:L57) -> 0 | D26: =$C$26*D25 -> 0 | E26: =$C$26*E25 -> 0 | F26: =$C$26*F25 -> 0 | G26: =$C$26*G25 -> 0 | H26: =$C$26*H25 -> 0 | I26: =$C$26*I25 -> 0 | J26: =$C$26*J25 -> 0 | K26: =$C$26*K25 -> 0 | ... O26: =$C$26*O25 -> 0 | P26: =SUM(D26:O26) -> 0 | Q26: =IF(P26=C26,"OK","") -> OK
A28: Porcentagem | D28: =SUM(D6+D8+D10+D12+D14+D16+D18+D20+D22+D24+D26)/$O$33 -> #DIV/0! | E28: =SUM(E6+E8+E10+E12+E14+E16+E18+E20+E22+E24+E26)/$O$33 -> #DIV/0! | F28: =SUM(F6+F8+F10+F12+F14+F16+F18+F20+F22+F24+F26)/$O$33 -> #DIV/0! | G28: =SUM(G6+G8+G10+G12+G14+G16+G18+G20+G22+G24+G26)/$O$33 -> #DIV/0! | H28: =SUM(H6+H8+H10+H12+H14+H16+H18+H20+H22+H24+H26)/$O$33 -> #DIV/0! | I28: =SUM(I6+I8+I10+I12+I14+I16+I18+I20+I22+I24+I26)/$O$33 -> #DIV/0! | J28: =SUM(J6+J8+J10+J12+J14+J16+J18+J20+J22+J24+J26)/$O$33 -> #DIV/0! | K28: =SUM(K6+K8+K10+K12+K14+K16+K18+K20+K22+K24+K26)/$O$33 -> #DIV/0! | ... O28: =SUM(O6+O8+O10+O12+O14+O16+O18+O20+O22+O24+O26)/$O$33 -> #DIV/0!
A29: Custo | D29: =$O$33*D28 -> #DIV/0! | E29: =$O$33*E28 -> #DIV/0! | F29: =$O$33*F28 -> #DIV/0! | G29: =$O$33*G28 -> #DIV/0! | H29: =$O$33*H28 -> #DIV/0! | I29: =$O$33*I28 -> #DIV/0! | J29: =$O$33*J28 -> #DIV/0! | K29: =$O$33*K28 -> #DIV/0! | ... O29: =$O$33*O28 -> #DIV/0!
A30: Porcentagem Acumulado | D30: =D28 -> #DIV/0! | E30: =D30+E28 -> #DIV/0! | F30: =E30+F28 -> #DIV/0! | G30: =F30+G28 -> #DIV/0! | H30: =G30+H28 -> #DIV/0! | I30: =H30+I28 -> #DIV/0! | J30: =I30+J28 -> #DIV/0! | K30: =J30+K28 -> #DIV/0! | L30: =K30+L28 -> #DIV/0! | ... O30: =N30+O28 -> #DIV/0!
A31: Custo Acumulado | D31: =D29 -> #DIV/0! | E31: =D31+E29 -> #DIV/0! | F31: =E31+F29 -> #DIV/0! | G31: =F31+G29 -> #DIV/0! | H31: =G31+H29 -> #DIV/0! | I31: =H31+I29 -> #DIV/0! | J31: =I31+J29 -> #DIV/0! | K31: =J31+K29 -> #DIV/0! | L31: =K31+L29 -> #DIV/0! | ... O31: =N31+O29 -> #DIV/0!
D33: Total Geral | N33: R$ | O33: =C6+C8+C10+C12+C14+C16+C18+C20+C22+C24+C26 -> 0
O35: =O31-O33 -> #DIV/0!
O36: ='RESUMO MODULO TOTAL'!L58-O33 -> 0

Sheet CCU
A1: . | B1: . | C1: . | D1: . | E1: . | F1: . | G1: . | H1: . | I1: . | J1: Obs | M1: repetição | N1: https://www.gov.br/dnit/pt-br/assuntos/planejamento-e-pesquisa/custos-e-pagamentos/custos-e-pagamentos-dnit/sistemas-de-custos/sicro_antiga/centro-oeste/centro-oeste
A2: CGCIT | I2: DNIT | J2: Principal | K2: =IF(LEFT(A2,2)="E9",A2,"") | M2: 2003943-A | N2: Meio-fio de concreto - MFC 03 moldado no local com extrusora e concreto betoneira e lançamento manual - areia e brita comerciais
A3: SISTEMA DE CUSTOS REFERENCIAIS DE OBRAS - SICRO | D3: Goiás | J3: Principal | K3: =IF(LEFT(A3,2)="E9",A3,"") | M3: 2003943-A | N3: Meio-fio de concreto - MFC 03 moldado no local com extrusora e concreto betoneira e lançamento manual - areia e brita comerciais
A4: Custo Unitário de Referência | D4: Abril/2024 | G4: Produção da equipe | H4: 74.11 | I4: m | J4: Principal | K4: =IF(LEFT(A4,2)="E9",A4,"") | M4: 2003943-A | N4: Meio-fio de concreto - MFC 03 moldado no local com extrusora e concreto betoneira e lançamento manual - areia e brita comerciais
A5: 2003943-A | B5: Meio-fio de concreto - MFC 03 moldado no local com extrusora e concreto betoneira e lançamento manual - areia e brita comerciais | H5: Valores em reais (R$) | J5: Principal | K5: =IF(LEFT(A5,2)="E9",A5,"") | M5: 2003943-A | N5: Meio-fio de concreto - MFC 03 moldado no local com extrusora e concreto betoneira e lançamento manual - areia e brita comerciais
A6: A - EQUIPAMENTOS | C6: Quantidade | D6: Utilização | F6: Custo Horário | I6: Custo | J6: Principal | K6: =IF(LEFT(A6,2)="E9",A6,"") | M6: 2003943-A | N6: Meio-fio de concreto - MFC 03 moldado no local com extrusora e concreto betoneira e lançamento manual - areia e brita comerciais
D7: Operativa | E7: Improdutiva | F7: Produtivo | G7: Improdutivo | I7: Horário Total | J7: Principal | K7: =IF(LEFT(A7,2)="E9",A7,"") | M7: 2003943-A | N7: Meio-fio de concreto - MFC 03 moldado no local com extrusora e concreto betoneira e lançamento manual - areia e brita comerciais
A8: E9103 | B8: Extrusora para meio-fio de concreto - 10,44 kW | C8: 1 | D8: 1 | E8: 0 | J8: Principal | K8: =IF(LEFT(A8,2)="E9",A8,"") -> E9103 | L8: 1 | M8: 2003943-A | N8: Meio-fio de concreto - MFC 03 moldado no local com extrusora e concreto betoneira e lançamento manual - areia e brita comerciais
G9: Custo horário total de equipamentos | J9: Principal | K9: =IF(LEFT(A9,2)="E9",A9,"") | M9: 2003943-A | N9: Meio-fio de concreto - MFC 03 moldado no local com extrusora e concreto betoneira e lançamento manual - areia e brita comerciais
A10: B - MÃO DE OBRA | C10: Quantidade | D10: Unidade | F10: Custo Horário | G10: Custo Horário Total | J10: Principal | K10: =IF(LEFT(A10,2)="E9",A10,"") | M10: 2003943-A | N10: Meio-fio de concreto - MFC 03 moldado no local com extrusora e concreto betoneira e lançamento manual - areia e brita comerciais
A11: P9821 | B11: Pedreiro | C11: 1 | D11: h | J11: Principal | K11: =IF(LEFT(A11,2)="E9",A11,"") | M11: 2003943-A | N11: Meio-fio de concreto - MFC 03 moldado no local com extrusora e concreto betoneira e lançamento manual - areia e brita comerciais
A12: P9824 | B12: Servente | C12: 2 | D12: h | J12: Principal | K12: =IF(LEFT(A12,2)="E9",A12,"") | M12: 2003943-A | N12: Meio-fio de concreto - MFC 03 moldado no local com extrusora e concreto betoneira e lançamento manual - areia e brita comerciais
G13: Custo horário total de mão de obra | J13: Principal | K13: =IF(LEFT(A13,2)="E9",A13,"") | M13: 2003943-A | N13: Meio-fio de concreto - MFC 03 moldado no local com extrusora e concreto betoneira e lançamento manual - areia e brita comerciais
G14: Custo horário total de execução | J14: Principal | K14: =IF(LEFT(A14,2)="E9",A14,"") | M14: 2003943-A | N14: Meio-fio de concreto - MFC 03 moldado no local com extrusora e concreto betoneira e lançamento manual - areia e brita comerciais
G15: Custo unitário de execução | J15: Principal | K15: =IF(LEFT(A15,2)="E9",A15,"") | M15: 2003943-A | N15: Meio-fio de concreto - MFC 03 moldado no local com extrusora e concreto betoneira e lançamento manual - areia e brita comerciais
G16: Custo do FIC | J16: Principal | K16: =IF(LEFT(A16,2)="E9",A16,"") | M16: 2003943-A | N16: Meio-fio de concreto - MFC 03 moldado no local com extrusora e concreto betoneira e lançamento manual - areia e brita comerciais
G17: Custo do FIT | J17: Principal | K17: =IF(LEFT(A17,2)="E9",A17,"") | M17: 2003943-A | N17: Meio-fio de concreto - MFC 03 moldado no local com extrusora e concreto betoneira e lançamento manual - areia e brita comerciais
A18: C - MATERIAL | C18: Quantidade | D18: Unidade | F18: Preço Unitário | G18: Custo Unitário | J18: Principal | K18: =IF(LEFT(A18,2)="E9",A18,"") | M18: 2003943-A | N18: Meio-fio de concreto - MFC 03 moldado no local com extrusora e concreto betoneira e lançamento manual - areia e brita comerciais
G19: Custo unitário total de material | J19: Principal | K19: =IF(LEFT(A19,2)="E9",A19,"") | M19: 2003943-A | N19: Meio-fio de concreto - MFC 03 moldado no local com extrusora e concreto betoneira e lançamento manual - areia e brita comerciais
A20: D - ATIVIDADES AUXILIARES | C20: Quantidade | D20: Unidade | F20: Custo Unitário | G20: Custo Unitário | J20: Principal | K20: =IF(LEFT(A20,2)="E9",A20,"") | M20: 2003943-A | N20: Meio-fio de concreto - MFC 03 moldado no local com extrusora e concreto betoneira e lançamento manual - areia e brita comerciais
A21: 1107892 | B21: Concreto fck = 20 MPa - confecção em betoneira e lançamento manual - areia e brita comerciais | C21: 0.042 | D21: m³ | J21: Principal | K21: =IF(LEFT(A21,2)="E9",A21,"") | M21: 2003943-A | N21: Meio-fio de concreto - MFC 03 moldado no local com extrusora e concreto betoneira e lançamento manual - areia e brita comerciais
A22: 2003842 | B22: Enchimento de junta de concreto com argamassa asfáltica de densidade 1.700 kg/m³ - espessura de 1 cm | C22: 0.0595 | D22: kg | J22: Principal | K22: =IF(LEFT(A22,2)="E9",A22,"") | M22: 2003943-A | N22: Meio-fio de concreto - MFC 03 moldado no local com extrusora e concreto betoneira e lançamento manual - areia e brita comerciais
A23: 4805750 | B23: Escavação manual em material de 1ª categoria na profundidade de até 1 m | C23: 0.03 | D23: m³ | J23: Principal | K23: =IF(LEFT(A23,2)="E9",A23,"") | M23: 2003943-A | N23: Meio-fio de concreto - MFC 03 moldado no local com extrusora e concreto betoneira e lançamento manual - areia e brita comerciais
G24: Custo total de atividades auxiliares | J24: Principal | K24: =IF(LEFT(A24,2)="E9",A24,"") | M24: 2003943-A | N24: Meio-fio de concreto - MFC 03 moldado no local com extrusora e concreto betoneira e lançamento manual - areia e brita comerciais
G25: Subtotal | J25: Principal | K25: =IF(LEFT(A25,2)="E9",A25,"") | M25: 2003943-A | N25: Meio-fio de concreto - MFC 03 moldado no local com extrusora e concreto betoneira e lançamento manual - areia e brita comerciais
A26: E - TEMPO FIXO | C26: Código | D26: Quantidade | E26: Unidade | G26: Custo Unitário | H26: Custo Unitário | J26: Principal | K26: =IF(LEFT(A26,2)="E9",A26,"") | M26: 2003943-A | N26: Meio-fio de concreto - MFC 03 moldado no local com extrusora e concreto betoneira e lançamento manual - areia e brita comerciais
G27: Custo unitário total de tempo fixo | J27: Principal | K27: =IF(LEFT(A27,2)="E9",A27,"") | M27: 2003943-A | N27: Meio-fio de concreto - MFC 03 moldado no local com extrusora e concreto betoneira e lançamento manual - areia e brita comerciais
A28: F - MOMENTO DE TRANSPORTE | C28: Quantidade | D28: Unidade | E28: DMT | I28: Custo Unitário | J28: Principal | K28: =IF(LEFT(A28,2)="E9",A28,"") | M28: 2003943-A | N28: Meio-fio de concreto - MFC 03 moldado no local com extrusora e concreto betoneira e lançamento manual - areia e brita comerciais
E29: LN | F29: RP | G29: P | J29: Principal | K29: =IF(LEFT(A29,2)="E9",A29,"") | M29: 2003943-A | N29: Meio-fio de concreto - MFC 03 moldado no local com extrusora e concreto betoneira e lançamento manual - areia e brita comerciais
G30: Custo unitário total de transporte | J30: Principal | K30: =IF(LEFT(A30,2)="E9",A30,"") | M30: 2003943-A | N30: Meio-fio de concreto - MFC 03 moldado no local com extrusora e concreto betoneira e lançamento manual - areia e brita comerciais
E31: Custo unitário direto total | J31: Principal | K31: =IF(LEFT(A31,2)="E9",A31,"") | M31: 2003943-A | N31: Meio-fio de concreto - MFC 03 moldado no local com extrusora e concreto betoneira e lançamento manual - areia e brita comerciais
A32: CGCIT | I32: DNIT | J32: Principal | K32: =IF(LEFT(A32,2)="E9",A32,"") | M32: 2003947-A | N32: Meio-fio de concreto - MFC 05 moldado no local com extrusora e concreto betoneira e lançamento manual - areia e brita comerciais
A33: SISTEMA DE CUSTOS REFERENCIAIS DE OBRAS - SICRO | D33: Goiás | J33: Principal | K33: =IF(LEFT(A33,2)="E9",A33,"") | M33: 2003947-A | N33: Meio-fio de concreto - MFC 05 moldado no local com extrusora e concreto betoneira e lançamento manual - areia e brita comerciais
A34: Custo Unitário de Referência | D34: Abril/2024 | G34: Produção da equipe | H34: 93.19 | I34: m | J34: Principal | K34: =IF(LEFT(A34,2)="E9",A34,"") | M34: 2003947-A | N34: Meio-fio de concreto - MFC 05 moldado no local com extrusora e concreto betoneira e lançamento manual - areia e brita comerciais
A35: 2003947 | B35: Meio-fio de concreto - MFC 05 moldado no local com extrusora e concreto betoneira e lançamento manual - areia e brita comerciais | H35: Valores em reais (R$) | J35: Principal | K35: =IF(LEFT(A35,2)="E9",A35,"") | M35: 2003947-A | N35: Meio-fio de concreto - MFC 05 moldado no local com extrusora e concreto betoneira e lançamento manual - areia e brita comerciais
A36: A - EQUIPAMENTOS | C36: Quantidade | D36: Utilização | F36: Custo Horário | I36: Custo | J36: Principal | K36: =IF(LEFT(A36,2)="E9",A36,"") | M36: 2003947-A | N36: Meio-fio de concreto - MFC 05 moldado no local com extrusora e concreto betoneira e lançamento manual - areia e brita comerciais
D37: Operativa | E37: Improdutiva | F37: Produtivo | G37: Improdutivo | I37: Horário Total | J37: Principal | K37: =IF(LEFT(A37,2)="E9",A37,"") | M37: 2003947-A | N37: Meio-fio de concreto - MFC 05 moldado no local com extrusora e concreto betoneira e lançamento manual - areia e brita comerciais
A38: E9103 | B38: Extrusora para meio-fio de concreto - 10,44 kW | C38: 1 | D38: 1 | E38: 0 | J38: Principal | K38: =IF(LEFT(A38,2)="E9",A38,"") -> E9103 | M38: 2003947-A | N38: Meio-fio de concreto - MFC 05 moldado no local com extrusora e concreto betoneira e lançamento manual - areia e brita comerciais
G39: Custo horário total de equipamentos | J39: Principal | K39: =IF(LEFT(A39,2)="E9",A39,"") | M39: 2003947-A | N39: Meio-fio de concreto - MFC 05 moldado no local com extrusora e concreto betoneira e lançamento manual - areia e brita comerciais
A40: B - MÃO DE OBRA | C40: Quantidade | D40: Unidade | F40: Custo Horário | G40: Custo Horário Total | J40: Principal | K40: =IF(LEFT(A40,2)="E9",A40,"") | M40: 2003947-A | N40: Meio-fio de concreto - MFC 05 moldado no local com extrusora e concreto betoneira e lançamento manual - areia e brita comerciais
...

Sheet Mob
A4: ='RESUMO MODULO TOTAL'!$C$5 -> Contratação de serviços de pavimentação asfáltica com concreto betuminoso usinado a quente (CBUQ) em vias urbanas e rurais inseridas na área de atuação da Codevasf, no estado de Goiás
A5: MOBILIZAÇÃO/DESMOBILIZAÇÃO (MOB) | F5: Frentes de serviços | H5: 10
F6: Distância da Capital ao Canteiro: | I6: Inserir a distância adequada de acordo com o histórico de mobilização
F7: Velocidade média de transporte (pavim.): | H7: 60
A8: Transporte dos equipamentos
A9: CODIGO | B9: EQUIPAMENTO | C9: VEÍCULO TRANSPORTADOR | D9: QTDE | E9: K | F9: FU | G9: CUSTO DO TRANSPORTE
G10: (R$/h) | H10: (R$)/km
A12: E9559 | B12: Aquecedor de fluido térmico - 12 kW | C12: Veículo(s) da própria frota. | D12: 1 | E12: 2 | F12: 0 | G12: 0 | H12: =((D12*E12*F12)/$H$7)*G12 -> 0
A13: E9010 | B13: Balança plataforma digital à bateria, com mesa de 75 x 75 cm e capacidade de 500 kg | C13: Veículo(s) da própria frota. | D13: 1 | E13: 2 | F13: 0 | G13: 0 | H13: =((D13*E13*F13)/$H$7)*G13 -> 0
A14: E9519 | B14: Betoneira com motor a gasolina com capacidade de 600 l - 10 kW | C14: Veículo(s) da própria frota. | D14: 1 | E14: 2 | F14: 0 | G14: 0 | H14: =((D14*E14*F14)/$H$7)*G14 -> 0
A15: E9256 | B15: Equipamento para pintura com cal rebocável com dois bicos aplicadores e capacidade de 2.200 l | C15: Veículo(s) da própria frota. | D15: 1 | E15: 2 | F15: 0 | G15: 0 | H15: =((D15*E15*F15)/$H$7)*G15 -> 0
A16: E9103 | B16: Extrusora para meio-fio de concreto - 10,44 kW | C16: Veículo(s) da própria frota. | D16: 1 | E16: 2 | F16: 0 | G16: 0 | H16: =((D16*E16*F16)/$H$7)*G16 -> 0
A17: E9568 | B17: Furadeira de impacto de 12,5 mm - 0,80 kW | C17: Veículo(s) da própria frota. | D17: 1 | E17: 2 | F17: 0 | G17: 0 | H17: =((D17*E17*F17)/$H$7)*G17 -> 0
A18: E9518 | B18: Grade de 24 discos rebocável de D = 60 cm (24") | C18: Veículo(s) da própria frota. | D18: 1 | E18: 2 | F18: 0 | G18: 0 | H18: =((D18*E18*F18)/$H$7)*G18 -> 0
A19: E9753 | B19: Grupo gerador - 23 kVA | C19: Veículo(s) da própria frota. | D19: 1 | E19: 2 | F19: 0 | G19: 0 | H19: =((D19*E19*F19)/$H$7)*G19 -> 0
A20: E9623 | B20: Máquina de bancada guilhotina - 4,00 kW | C20: Veículo(s) da própria frota. | D20: 1 | E20: 2 | F20: 0 | G20: 0 | H20: =((D20*E20*F20)/$H$7)*G20 -> 0
A21: E9622 | B21: Máquina de bancada universal para corte de chapa - 1,50 kW | C21: Veículo(s) da própria frota. | D21: 1 | E21: 2 | F21: 0 | G21: 0 | H21: =((D21*E21*F21)/$H$7)*G21 -> 0
A22: E9156 | B22: Soprador de ar costal - 2,6 kW | C22: Veículo(s) da própria frota. | D22: 1 | E22: 2 | F22: 0 | G22: 0 | H22: =((D22*E22*F22)/$H$7)*G22 -> 0
A23: E9071 | B23: Transportador manual carrinho de mão com capacidade de 80 l | C23: Veículo(s) da própria frota. | D23: 4 | E23: 2 | F23: 0 | G23: 0 | H23: =((D23*E23*F23)/$H$7)*G23 -> 0
A24: E9064 | B24: Transportador manual gerica com capacidade de 180 l | C24: Veículo(s) da própria frota. | D24: 3 | E24: 2 | F24: 0 | G24: 0 | H24: =((D24*E24*F24)/$H$7)*G24 -> 0
A25: E9687 | B25: Caminhão carroceria com capacidade de 5 t - 115 kW | C25: E9687 | D25: 1 | E25: 1 | F25: 1 | H25: =((D25*E25*F25)/$H$7)*G25 -> 0
A26: E9667 | B26: Caminhão basculante com capacidade de 14 m³ - 210 kW | C26: E9667 | D26: 5 | E26: 1 | F26: 1 | H26: =((D26*E26*F26)/$H$7)*G26 -> 0
A27: E9515 | B27: Escavadeira hidráulica sobre esteiras com caçamba com capacidade de 1,56 m³ - 118 kW | C27: E9666 | D27: 1 | E27: 2 | F27: 1 | H27: =((D27*E27*F27)/$H$7)*G27 -> 0
A28: E9762 | B28: Rolo compactador de pneus autopropelido de 27 t - 85 kW | C28: E9666 | D28: 1 | E28: 2 | F28: 0.5 | H28: =((D28*E28*F28)/$H$7)*G28 -> 0
A29: E9681 | B29: Rolo compactador liso tandem vibratório autopropelido de 10,4 t - 82 kW | C29: E9666 | D29: 1 | E29: 2 | F29: 0.5 | H29: =((D29*E29*F29)/$H$7)*G29 -> 0
A30: E9685 | B30: Rolo compactador pé de carneiro vibratório autopropelido por pneus de 11,6 t - 82 kW | C30: E9666 | D30: 1 | E30: 2 | F30: 0.5 | H30: =((D30*E30*F30)/$H$7)*G30 -> 0
A31: E9689 | B31: Usina de asfalto a quente gravimétrica com capacidade de 100/140 t/h - 260 kW | C31: E9666 | D31: 1 | E31: 2 | F31: 3 | H31: =((D31*E31*F31)/$H$7)*G31 -> 0
A32: E9584 | B32: Carregadeira de pneus com capacidade de 1,72 m³ - 113 kW | C32: E9665 | D32: 1 | E32: 2 | F32: 1 | H32: =((D32*E32*F32)/$H$7)*G32 -> 0
A33: E9076 | B33: Equipamento para pintura eletrostática com cabine dupla de 7,00 kW e estufa de 80.000 kCal | C33: E9665 | D33: 1 | E33: 2 | F33: 1 | H33: =((D33*E33*F33)/$H$7)*G33 -> 0
A34: E9524 | B34: Motoniveladora - 93 kW | C34: E9665 | D34: 1 | E34: 2 | F34: 1 | H34: =((D34*E34*F34)/$H$7)*G34 -> 0
A35: E9558 | B35: Tanque de estocagem de asfalto com capacidade de 30.000 l | C35: E9665 | D35: 2 | E35: 2 | F35: 1 | H35: =((D35*E35*F35)/$H$7)*G35 -> 0
A36: E9577 | B36: Trator agrícola sobre pneus - 77 kW | C36: E9665 | D36: 1 | E36: 2 | F36: 0.5 | H36: =((D36*E36*F36)/$H$7)*G36 -> 0
... A45: E9545 | B45: Vibroacabadora de asfalto sobre esteiras - 82 kW | C45: E9018 | D45: 1 | E45: 2 | F45: 0.5 | H45: =((D45*E45*F45)/$H$7)*G45 -> 0
B46: TOTAL | D46: =SUM(D12:D45) -> 45 | H46: =SUM(H12:H45) -> 0
A49: CUSTO TOTAL MOBILIZAÇÃO E DESMOBILIZAÇÃO
A50: DESCRIÇÃO | B50: VALOR
A51: Custo Mobilização (km) | B51: =H46 -> 0
A52: BDI (%) | B52: =BDI!C17/100 -> 0
A53: Custo Mobilização (R$/km) com BDI | B53: =B51+(B51*B52) -> 0
A54: Total de Frentes | B54: 10
...

Sheet  Canteiro
A4: CANTEIRO DE OBRAS PARA CONSTRUÇAO RODOVIÁRIA
A5: Descrição dos serviços | B5: Tipo de container | C5: Unidade | D5: Quantidade | E5: Preço unitário (R$) | F5: Total (R$)
A6: Escritório e seção técnica
A7: LOCACAO DE CONTAINER 2,30 X 6,00 M, ALT. 2,50 M, PARA ESCRITORIO, SEM DIVISORIAS INTERNAS E SEM SANITARIO (NAO INCLUI MOBILIZACAO/DESMOBILIZACAO) | B7: 10776 | C7: und | D7: 1 | F7: =TRUNC(D7*E7,2) -> 0
A8: Banheiro e vestiário
A9: LOCACAO DE CONTAINER 2,30 X 4,30 M, ALT. 2,50 M, PARA SANITARIO, COM 3 BACIAS, 4 CHUVEIROS, 1 LAVATORIO E 1 MICTORIO (NAO INCLUI MOBILIZACAO/DESMOBILIZACAO) | B9: 10777 | C9: und | D9: 1 | F9: =TRUNC(D9*E9,2) -> 0
D10: TOTAL DO CANTEIRO | F10: =SUM(F7:F9) -> 0
D11: DURAÇÃO (MESES) | E11: 12 | F11: =F10*E11 -> 0
D12: BDI | F12: =BDI!C17/100 -> 0
D13: TOTAL DO CANTEIRO (com BDI) | F13: =F11+(F11*F12) -> 0

Sheet CPU CODEVASF
A4: ='RESUMO MODULO TOTAL'!$C$5 -> Contratação de serviços de pavimentação asfáltica com concreto betuminoso usinado a quente (CBUQ) em vias urbanas e rurais inseridas na área de atuação da Codevasf, no estado de Goiás
F5: BDI %: | G5: =BDI!$C$17/100 -> 0
E6: Encargos Sociais: | G6: Horista | H6: Mensalista
G7: ='ENC. SOCIAIS'!F51/100 -> 1.0884 | H7: ='ENC. SOCIAIS'!G51/100 -> 0.6724
A8: COMPOSIÇÕES DE CUSTO UNITARIO
A10: CPU-12 | B10: CODEVASF | D10: Correção de vazamentos no ramal na rua sem pavimento com fornecimento do material hidráulico | E10: M | F10: COEF. | G10: PRECO UNITÁRIO (R$) | H10: TOTAL (R$)
A12: SICRO | B12: SICRO | C12: P9824 | D12: Servente | E12: H | F12: 0.2 | H12: =F12*G12 -> 0
A13: SICRO | B13: SICRO | C13: P9807 | D13: Bombeiro hidráulico | E13: H | F13: 0.1 | H13: =F13*G13 -> 0
A14: INS. SINAPI | B14: SINAPI | C14: 9867 | D14: Tubo pvc, soldavel, dn 20 mm, agua fria (NBR-5648) | E14: m | F14: 1 | H14: =F14*G14 -> 0
A15: INSUMO | B15: ORSE | C15: 10585 | D15: Arco de serra | E15: un | F15: 0.1 | H15: =F15*G15 -> 0
A16: INS. SINAPI | B16: SINAPI | C16: 3859 | D16: Luva soldavel com rosca, pvc, 20 mm x 1/2", para agua fria predial | E16: un | F16: 2 | H16: =F16*G16 -> 0
E17: Sub total: | H17: =SUM(H12:H16) -> 0
F18: BDI | G18: =BDI!$C$17/100 -> 0 | H18: =H17*G18 -> 0
G19: Total Serviços: | H19: =H17+H18 -> 0
E20: =A10 -> CPU-12 | F20: PREÇO UNITÁRIO TOTAL: | H20: =H19 -> 0 | I20: =H17 -> 0
A22: CPU-13 | B22: CODEVASF | D22: AQUISIÇÃO DE CIMENTO ASFALTICO CAP 50/70 | E22: t | F22: COEF. | G22: PRECO UNITÁRIO (R$) | H22: TOTAL (R$)
D24: CIMENTO ASFALTICO 50/70 | E24: t | F24: 1 | G24: =Resumo_Transp!$V$17 -> #VALUE! | H24: =F24*G24 -> #VALUE!
E25: Sub total: | H25: =SUM(H24) -> #VALUE!
F26: BDI | G26: 0.15 | H26: =H25*G26 -> #VALUE!
G27: Total Serviços: | H27: =H25+H26 -> #VALUE!
E28: =A22 -> CPU-13 | F28: PREÇO UNITÁRIO TOTAL: | H28: =H27 -> #VALUE! | I28: =H25 -> #VALUE!
A30: CPU-14 | B30: CODEVASF | D30: AQUISIÇÃO DE EAI | E30: t | F30: COEF. | G30: PRECO UNITÁRIO (R$) | H30: TOTAL (R$)
D32: EAI | E32: t | F32: 1 | G32: =Resumo_Transp!$V$35 -> #VALUE! | H32: =F32*G32 -> #VALUE!
E33: Sub total: | H33: =SUM(H32) -> #VALUE!
F34: BDI | G34: 0.15 | H34: =H33*G34 -> #VALUE!
G35: Total Serviços: | H35: =H33+H34 -> #VALUE!
E36: =A30 -> CPU-14 | F36: PREÇO UNITÁRIO TOTAL: | H36: =H35 -> #VALUE! | I36: =H33 -> #VALUE!
A38: CPU-15 | B38: CODEVASF | D38: AQUISIÇÃO DE EMULSÃO ASFÁLTICA RR-1C | E38: t | F38: COEF. | G38: PRECO UNITÁRIO (R$) | H38: TOTAL (R$)
D40: EMULSÃO ASFÁLTICA RR-1C | E40: t | F40: 1 | G40: =Resumo_Transp!$V$40 -> #VALUE! | H40: =F40*G40 -> #VALUE!
E41: Sub total: | H41: =SUM(H40) -> #VALUE!
F42: BDI | G42: 0.15 | H42: =ROUND(H41,2)*ROUND(G42,4) -> #VALUE!
G43: Total Serviços: | H43: =H41+H42 -> #VALUE!
E44: =A38 -> CPU-15 | F44: PREÇO UNITÁRIO TOTAL: | H44: =H43 -> #VALUE! | I44: =H41 -> #VALUE!
A46: CPU-17 | B46: CODEVASF | D46: TRANSPORTE DE CIMENTO ASFALTICO CAP 50/70 | E46: t | F46: COEF. | G46: PRECO UNITÁRIO (R$) | H46: TOTAL (R$)
D48: TRANSPORTE DE CIMENTO ASFALTICO 50/70 | E48: t | F48: 1 | G48: =Resumo_Transp!$U$17 -> #VALUE! | H48: =F48*G48 -> #VALUE!
E49: Sub total: | H49: =SUM(H48) -> #VALUE!
F50: BDI | G50: 0.15 | H50: =H49*G50 -> #VALUE!
G51: Total Serviços: | H51: =H49+H50 -> #VALUE!
E52: =A46 -> CPU-17 | F52: PREÇO UNITÁRIO TOTAL: | H52: =H51 -> #VALUE! | I52: =H49 -> #VALUE!
A54: CPU-18 | B54: CODEVASF | D54: TRANSPORTE DE EAI | E54: t | F54: COEF. | G54: PRECO UNITÁRIO (R$) | H54: TOTAL (R$)
...

Sheet Adm Local
A2: parcela fixa da administração local (mão de obra)
A3: Código | B3: Discriminação | C3: Unidade | D3: Quantidade | F3: Custo Unitário (R$) | H3: Custo Total (R$)
B4: Mão de Obra
B5: Gerência Técnica
B6: Geral
A7: P9955 | B7: Engenheiro chefe | C7: mês | D7: 0.5 | H7: =F7*D7 -> 0
A8: P9840 | B8: Encarregado geral | C8: mês | D8: 0.5 | H8: =F8*D8 -> 0
A9: P9897 | B9: Técnico de meio ambiente | C9: mês | D9: 0 | H9: =F9*D9 -> 0
A10: P9948 | B10: Motorista | C10: mês | D10: 0 | H10: =F10*D10 -> 0
A11: P9878 | B11: Secretária | C11: mês | D11: 0 | H11: =F11*D11 -> 0
F12: Subtotal do Item 1.1 | H12: =SUM(H7:I11) -> 0
B13: Auxiliar
A14: P9946 | B14: Engenheiro auxiliar | C14: mês | D14: 1 | H14: =D14*F14 -> 0
A15: P9903 | B15: Auxiliar técnico | C15: mês | D15: 0 | H15: =D15*F15 -> 0
F16: Subtotal do Item 1.2 | H16: =SUM(H14:I15) -> 0
B17: Gerência Administrativa
B18: Geral
A19: P9883 | B19: Chefe do setor administrativo | C19: mês | D19: 1 | H19: =F19*D19 -> 0
A20: P9809 | B20: Encarregado administrativo | C20: mês | D20: 0 | H20: =F20*D20 -> 0
A21: P9896 | B21: Porteiro | C21: mês | D21: 0 | H21: =F21*D21 -> 0
A22: P9827 | B22: Vigia | C22: mês | D22: 0 | H22: =F22*D22 -> 0
A23: P9948 | B23: Motorista | C23: mês | D23: 0 | H23: =F23*D23 -> 0
F24: Subtotal do Item 1.3 | H24: =SUM(H19:I23) -> 0
B25: Auxiliar
A26: P9806 | B26: Auxiliar administrativo | C26: mês | D26: 1 | H26: =F26*D26 -> 0
A27: P9842 | B27: Faxineiro | C27: mês | D27: 0 | H27: =F27*D27 -> 0
F28: Subtotal do Item 1.4 | H28: =SUM(H26:I27) -> 0
H29: Total da Mão de Obra da Parcela Fixa | I29: =H28+H24+H16+H12 -> 0
A31: parcela fixa da administração local (veículos)
A32: Código | B32: Discriminação | C32: Unidade | D32: Quantidade | E32: Utilização Produtiva | F32: Utilização Improdutiva | G32: Custo Horário Produtivo (R$) | H32: Custo Horário Improdutivo (R$) | I32: Custo Total (R$)
A33: 2 | B33: Veículos
B34: Gerência Técnica
A35: 2.1 | B35: Geral
A36: E9093 | B36: Veículo Leve 53 kw | C36: mês | D36: 1 | E36: 44 | F36: 176 | I36: =((E36*G36)+(F36*H36))*D36 -> 0
A37: E9560 | B37: Ônibus coletivo - 175 kw | C37: mês | D37: 0 | E37: 44 | F37: 176 | I37: =((E37*G37)+(F37*H37))*D37 -> 0
H38: Subtotal do Item 2 | I38: =SUM(I36:I37) -> 0
A39: 2.2 | B39: Auxiliar
A40: E9093 | B40: Veículo Leve 53 kw | C40: mês | D40: 0 | E40: 44 | F40: 176 | I40: =((E40*G40)+(F40*H40))*D40 -> 0
H41: Subtotal do Item 2 | I41: =SUM(I40) -> 0
A42: 2.3 | B42: Gerência Administrativa
...

Sheet Projeto Executivo
A2: COMPOSIÇAO PREÇO PROJETO EXECUTIVO
A3: DISCRIMINAÇAO | F3: Pr. Unit. | G3: Pr. Total
A5: A· EOUIPE TECNICA | G5: =G6+G9 -> 0
B6: A. 1 - Pessoal de Nível Superior | C6: Unidade | D6: Quantitativo | E6: SICRO e Rel.Custos Gerais | G6: =G7+G8 -> 0
B7: Engenheiro | C7: mês | D7: 0.4 | E7: P9812 | G7: =F7*D7 -> 0
B8: Topógrafo | C8: mês | D8: 0.25 | E8: P9949 | G8: =F8*D8 -> 0
B9: A.2 - Pessoal de Nível Técnico e Aux. | G9: =G10+G11 -> 0
B10: Auxiliar de topógrafo | C10: mês | D10: 0.125 | E10: P9950 | G10: =F10*D10 -> 0
B11: Auxiliar Técnico/Assistente de Engenharia | C11: mês | D11: 0.5 | E11: P9903 | G11: =F11*D11 -> 0
A12: B - ENCARGOS SOCIAIS | G12: =G13 -> 0
B13: =CONCATENATE("Taxas ",'ENC. SOCIAIS'!F51,"%") -> Taxas 108,84% | C13: JÁ INCLUSAS EM "A"
A14: C - DESPESAS GERAIS | G14: =G15+G17+G16 -> 0
B15: C.1 - MATERIAIS DE CONSUMO | C15: Estimativa % como referência de equipe técnica com encargos sociais | D15: 0.03 | F15: =G5+G13 -> 0 | G15: =F15*D15 -> 0
B16: C.2 - VEÍCULOS (Veículo leve picape 4 x 4 com capacidade de 1,10 t - 147 kW) | C16: h | D16: 40 | E16: E9684 | G16: =F16*D16 -> 0
B17: C.3 - Estação total eletrônica com alcance máximo de 3.000 m | C17: h | D17: 75.213265 | E17: E9553 | G17: =F17*D17 -> 0
A18: D - ENSAIOS | G18: =SUM(G19:G22) -> 0
B19: Laboratorista | C19: mês | D19: =1/4 -> 0.25 | E19: P9858 | G19: =F19*D19 -> 0
B20: Auxiliar de Laboratório | C20: mês | D20: =1/8 -> 0.125 | E20: P9833 | G20: =F20*D20 -> 0
B21: Laboratório de solos | C21: mês | D21: =1/8 -> 0.125 | E21: B8957 | G21: =F21*D21 -> 0
B22: Laboratório de asfalto | C22: mês | D22: =1/8 -> 0.125 | E22: B8955 | G22: =F22*D22 -> 0
A23: I - SOMA (A+B+C+D) | G23: =G5+G12+G14+G18 -> 0
A24: II - CUSTOS ADMINISTRATIVOS | D24: =BDI!C17/100 -> 0 | G24: =D24*G23 -> 0
A25: TOTAL | G25: =G23+G24 -> 0
F26: Por m²: | G26: =G25/14000 -> 0

Sheet BDI
I1: https://www.gov.br/dnit/pt-br/assuntos/planejamento-e-pesquisa/custos-e-pagamentos/custos-e-pagamentos-dnit/sistemas-de-custos/bdi/bdi-2
A2: OBRA: | I2: Utilizar o período de vigência da data de elaboração do orçamento.
A3: LOCAL:
A4: DATA BASE:
A5: DETALHAMENTO DO BDI - SEM DESONERAÇÃO | E5: DETALHAMENTO DO BDI DIFERENCIADO - SEM DESONERAÇÃO
A6: ='RESUMO MODULO TOTAL'!$C$5 -> Contratação de serviços de pavimentação asfáltica com concreto betuminoso usinado a quente (CBUQ) em vias urbanas e rurais inseridas na área de atuação da Codevasf, no estado de Goiás | E6: ='RESUMO MODULO TOTAL'!$C$5 -> Contratação de serviços de pavimentação asfáltica com concreto betuminoso usinado a quente (CBUQ) em vias urbanas e rurais inseridas na área de atuação da Codevasf, no estado de Goiás
A7: DESCRIÇÃO DOS SERVIÇOS | B7: PREÇO DE VENDA (%) | C7: CUSTO DIRETO (%) | E7: DESCRIÇÃO DOS SERVIÇOS | F7: PREÇO DE VENDA (%) | G7: CUSTO DIRETO (%)
A8: Administração Central | B8: =C8/(1+C$17/100) -> 0 | E8: ADMINISTRAÇÃO CENTRAL | F8: =G8/(1+G$17/100) -> 0.037643535 | G8: 0.0377
A9: =100*((1+A23)^(1/12)-1) -> 0 | B9: =C9/(1+C$17/100) -> 0 | C9: =(C17-(C8+C10+C11+C12+C13+C14+C15+C16)) -> 0 | E9: DESPESA FINANCEIRAS | F9: 0.0102 | G9: =(G17-(G8+G10+G11+G12+G13+G14+G15+G16)) -> 0.018234
A10: Seguros e Garantias Contratuais | C10: =B10*(1+C$17/100) -> 0 | E10: SEGUROS E GARANTIAS CONTRATUAIS | F10: 0.0025 | G10: =F10*(1+G$17/100) -> 0.00250375
A11: Riscos | C11: =B11*(1+C$17/100) -> 0 | E11: RISCOS | F11: 0.005 | G11: =F11*(1+G$17/100) -> 0.0050075
A12: Lucro Operacional | B12: =C12/(1+C$17/100) -> 0 | E12: LUCRO OPERACIONAL | F12: =G12/(1+G$17/100) -> 0.049925112 | G12: 0.05
A13: PIS | C13: =B13*(1+C$17/100) -> 0 | E13: PIS | F13: 0.0065 | G13: =F13*(1+G$17/100) -> 0.00650975
A14: COFINS | C14: =B14*(1+C$17/100) -> 0 | E14: COFINS | F14: 0.03 | G14: =F14*(1+G$17/100) -> 0.030045
A15: ISSQN | C15: =B15*(1+C$17/100) -> 0 | E15: ISSQN | F15: 0 | G15: =F15*(1+G$17/100) -> 0
A16: Contribuição Previdenciaria | C16: =B16*(1+C$17/100) -> 0 | E16: Contribuição Previdenciaria | F16: 0 | G16: =F16*(1+G$17/100) -> 0
B17: BDI | C17: =TRUNC(((1+(C8/100+C12/100-(A9/100*C12/100)))/(1-(A9/100+B11/100+B10/100+B13/100+B14/100+B15/100+B16/100))-1)*100,2) -> 0 | F17: BDI | G17: =ROUND((1+(G8+G12))/(1-(F9+F10+F11+F13+F14+F15+F16))-1,4) -> 0.15
A19: Observação: O percentual de ISSQN aqui utilizado consiste apenas em um referencial médio. | E19: Fonte da composição, valores de referência e fórmula do BDI: Instrução Normativa N° 62/DNIT SEDE
B20: O valor real do ISSQN a ser adotado deve ser aquele proveniente das alíquotas dos municípios situados na área de
B21: influência das obras.
A22: DF = [(1+SELIC)^(1/12)-1] sobre (PV - Lucro), o que resulta em DF = 0,84% sobre (PV - Lucro)
A34: Desde 24 de maio de 2024
A35: 262ª Reunião do Copom, o qual estabeleceu a alíquota da meta Selic no valor de 10,50% a.a.
A36: Ofício-Circular nº 2699/2024 (SEI DNIT nº 17818943)

Sheet ENC. SOCIAIS
L2: https://www.caixa.gov.br/poder-publico/modernizacao-gestao/sinapi/Paginas/default.aspx
B6: NOME DA CONCORRENTE:
B7: EDITAL:
B8: FOLHA:
B9: ='RESUMO MODULO TOTAL'!$C$5 -> Contratação de serviços de pavimentação asfáltica com concreto betuminoso usinado a quente (CBUQ) em vias urbanas e rurais inseridas na área de atuação da Codevasf, no estado de Goiás
B11: DETALHAMENTO DOS ENCARGOS SOCIAIS (%)
B12: VIGÊNCIA A PARTIR DE 12/2023 | D12: COM DESONERAÇÃO | F12: SEM DESONERAÇÃO
D14: HORISTA | E14: MENSALISTA | F14: HORISTA | G14: MENSALISTA
B16: GRUPO A
B17: A1 | C17: INSS | D17: 0 | E17: 0 | F17: 20 | G17: 20
B18: A2 | C18: SESI | D18: 1.5 | E18: 1.5 | F18: 1.5 | G18: 1.5
B19: A3 | C19: SENAI | D19: 1 | E19: 1 | F19: 1 | G19: 1
B20: A4 | C20: INCRA | D20: 0.2 | E20: 0.2 | F20: 0.2 | G20: 0.2
B21: A5 | C21: SEBRAE | D21: 0.6 | E21: 0.6 | F21: 0.6 | G21: 0.6
B22: A6 | C22: Salário Educação | D22: 2.5 | E22: 2.5 | F22: 2.5 | G22: 2.5
B23: A7 | C23: Seguro Contra Acidentes de Trabalho | D23: 3 | E23: 3 | F23: 3 | G23: 3
B24: A8 | C24: FGTS | D24: 8 | E24: 8 | F24: 8 | G24: 8
B25: A9 | C25: SECONCI | D25: 1 | E25: 1 | F25: 1 | G25: 1
B26: A | C26: Total | D26: =SUM(D17:D25) -> 17.8 | E26: =SUM(E17:E25) -> 17.8 | F26: =SUM(F17:F25) -> 37.8 | G26: =SUM(G17:G25) -> 37.8
B27: GRUPO B
B28: B1 | C28: Repouso Semanal Remunerado | D28: 17.81 | E28: - | F28: 17.81 | G28: -
B29: B2 | C29: Feriados | D29: 3.7 | E29: - | F29: 3.7 | G29: -
B30: B3 | C30: Auxílio-enfermidade | D30: 0.86 | E30: 0.64 | F30: 0.86 | G30: 0.64
B31: B4 | C31: 13° salário | D31: 11.18 | E31: 8.33 | F31: 11.18 | G31: 8.33
B32: B5 | C32: Licença-paternidade | D32: 0.06 | E32: 0.04 | F32: 0.06 | G32: 0.04
B33: B6 | C33: Faltas Justificadas | D33: 0.75 | E33: 0.56 | F33: 0.75 | G33: 0.56
B34: B7 | C34: Dias de chuva | D34: 1.36 | E34: - | F34: 1.36 | G34: -
B35: B8 | C35: Auxílio Acidente de Trabalho | D35: 0.1 | E35: 0.08 | F35: 0.1 | G35: 0.08 | L35: https://www.caixa.gov.br/Downloads/sinapi-composicoes-aferidas-sumario-composicoes-aferidas/SUMARIO_DE_PUBLICACOES_E_DOCUMENTACAO_DO_SINAPI.pdf
B36: B9 | C36: Férias Gozadas | D36: 0 | E36: 0 | F36: 0 | G36: 0 | L36: PDF INTERATIVO
B37: B10 | C37: Salário Maternidade | D37: 0.04 | E37: 0.03 | F37: 0.04 | G37: 0.03
B38: B | C38: Total | D38: =SUM(D28:D37) -> 35.86 | E38: =SUM(E28:E37) -> 9.68 | F38: =SUM(F28:F37) -> 35.86 | G38: =SUM(G28:G37) -> 9.68
B39: GRUPO C
B40: C1 | C40: Aviso Prévio Indenizado | D40: 5.91 | E40: 4.4 | F40: 5.91 | G40: 4.4
B41: C2 | C41: Aviso Prévio Trabalhado | D41: 0.14 | E41: 0.1 | F41: 0.14 | G41: 0.1
B42: C3 | C42: Férias Indenizadas | D42: 12.02 | E42: 8.96 | F42: 12.02 | G42: 8.96
B43: C4 | C43: Depósito Rescisão Sem Justa Causa | D43: 2.52 | E43: 1.88 | F43: 2.52 | G43: 1.88
B44: C5 | C44: Indenização Adicional | D44: 0.5 | E44: 0.37 | F44: 0.5 | G44: 0.37
B45: C | C45: Total | D45: =SUM(D40:D44) -> 21.09 | E45: =SUM(E40:E44) -> 15.71 | F45: =SUM(F40:F44) -> 21.09 | G45: =SUM(G40:G44) -> 15.71
B46: GRUPO D
B47: D1 | C47: Reincidência de A sobre B | D47: 6.38 | E47: 1.72 | F47: 13.56 | G47: 3.66
...

Sheet  Consumo Material Betuminoso
B3: CONSUMO DO MATERIAL BETUMINOSO TOTAL
B5: TRECHO | D5: QUANTIDADES | M5: MAT. BETUMINOSO
B6: Inicio (km) | C6: Fim (km) | D6: Extensão (m) | E6: Largura (m) | F6: Espess. (m) | G6: Área (m2) | H6: Volume (m3) | I6: Densidade (t/m3) | J6: Massa (t) | K6: Unid | L6: Quant. | M6: Tipo | N6: Consumo Taxa de Aplicação | O6: Unid. | P6: Quant.
A7: ='RESUMO MODULO TOTAL'!C23 -> 4011352 | B7: IMPRIMAÇÃO
F8: 1 | G8: 140000 | M8: EAI | N8: =Q8*1000 -> 1.3 | O8: t | P8: =ROUND((G8*N8)/1000,2) -> 182 | Q8: 0.0013 | R8: t/m²
F9: 1 | M9: CM-30 | N9: =Q9*1000 -> 1.2 | O9: t | P9: =ROUND((G9*N9)/1000,2) -> 0 | Q9: 0.0012 | R9: t/m²
A10: ='RESUMO MODULO TOTAL'!C24 -> 4011353 | B10: PINTURA DE LIGAÇÃO
F11: 1 | G11: 140000 | M11: RR-1C | N11: =Q11*1000 -> 0.45 | O11: t | P11: =ROUND((G11*N11)/1000,2) -> 63 | Q11: 0.00045 | R11: t/m²
A12: 6416078 | B12: CBUQ FAIXA "C"
G13: 16800 | M13: CAP-50/70 | N13: =Q13*1000 -> 64.49 | O13: t | P13: =ROUND((G13*N13)/1000,2) -> 1083.43 | Q13: 0.06449 | R13: t/m²
A14: 6416143 | B14: CBUQ FAIXA "B"
M15: CAP-50/70 | N15: =Q15*1000 -> 57.73 | O15: t | P15: =ROUND((G15*N15)/1000,2) -> 0 | Q15: 0.05773 | R15: t/m²
B73: 4011463 Concreto asfáltico - faixa C - areia e brita comerciais | O73: 4011459 Concreto asfáltico - faixa B - areia e brita comerciais
B74: 6416078 Usinagem de concreto asfáltico - faixa C - areia e brita comerciais | O74: 6416143 Usinagem de concreto asfáltico - faixa B - areia e brita comerciais

Sheet Transp. CAP 50-70
C2: MEMÓRIA DE CÁLCULO
F3: LEGENDA | G3: ENTRADA DE DADOS | H3: RESULTADO PARCIAL | I3: RESULTADO FINAL
E5: DADOS ANP | G5: ÍNDICE DE PAVIMENTAÇÃO DNIT | M5: IMPOSTOS | N5: COFINS
E6: TIPOLOGIA DO MATERIAL | F6: CIMENTOS ASFÁLTICOS CAP-50-70 | G6: ÍNDICE INICIAL | H6: 41821 | I6: 270.237 | N6: PIS | AC6: As empresas tributadas pelo Lucro Presumido pagam 0,65% de PIS e 3% de COFINS
E7: DATA ANP | F7: 45383 | G7: ÍNDICE FINAL | H7: 45383 | I7: 567.092 | N7: ICMS | Q7: =1-(O7/1) -> 1 | R7: =1-(P7/1) -> 1 | S7: =1-(Q7/1) -> 0 | AC7: As empresas tributadas pelo Lucro Real pagam 1,65% de PIS e 7,60% de COFINS
C9: DATA-BASE | D9: PRODUTOS | E9: LOCALIDADES | J9: CUSTO ANP (R$/Kg) | L9: CUSTO ANP | M9: IMPOSTOS DO PRODUTO | N9: CUSTO DO PRODUTO COM IMPOSTOS | O9: DMT's | P9: DMT's FLUVIAL | Q9: CUSTO DO TRANSPORTE RODOVIA PAVIMENTADA | R9: CUSTO DO TRANSPORTE FLUVIAL | S9: CUSTO DO TRANSPORTE TOTAL | T9: ICMS | U9: ATUALIZAÇÃO DO CUSTO DE TRANSPORTE | V9: CUSTO DO TRANSPORTE RODOVIA PAVIMENTADA COM IMPOSTOS E ATUALIZAÇÃO MONETÁRIA | W9: PEDÁGIO | Y9: TOTAL TRANSPORTE | Z9: AQUISIÇÃO DO PRODUTO | AA9: TOTAL GERAL (TRANSP + AQUISIÇÃO) | AC9: 1 | AD9: 2 | AE9: 3
C10: =H7 -> 45383 | E10: REFINARIAS | F10: ENDEREÇO | G10: ESTADO | H10: CIDADE | I10: DESTINO | J10: ESTADO | K10: REGIÃO | L10: R$/t | M10: R$/t | N10: R$/t | O10: KM | P10: KM | Q10: R$/t | R10: R$/t | S10: R$/t | T10: R$/t | U10: R$/t | V10: R$/t | W10: CUSTO | X10: R$/t | Y10: R$/t | Z10: R$/t | AA10: R$/t | AC10: TOTAL GERAL (TRANSP + AQUISIÇÃO) | AD10: TOTAL TRANSPORTE | AE10: AQUISIÇÃO DO PRODUTO
B11: =AA11 -> #VALUE! | C11: 1 | D11: =F6 -> CIMENTOS ASFÁLTICOS CAP-50-70 | E11: Refinaria Abreu e Lima | F11: Rodovia PE 60, Km 10 - Ipojuca - PE CEP:55590-000 | G11: Pernambuco | H11: IPOJUCA - PE | I11: GOIÂNIA - GO | L11: =IF(AND(J11="-",K11="-"),"",IF(AND(J11<>0,K11="-"),J11*1000,IF(AND(J11="-",K11<>0),K11*1000,IF(AND(J11<>0,K11<>0),J11*1000,"")))) | M11: =ROUND(((L11/(1-$O$5-$O$6-$O$7))-L11),2) -> #VALUE! | N11: =L11+M11 -> #VALUE! | O11: =INDEX($D$83:$O$146,MATCH(C11,$D$83:$D$146,0),12) -> 2365.75 | Q11: =ROUND((26.939+0.253*O11),2) -> 625.47 | S11: =Q11+R11 -> 625.47 | T11: =TRUNC(S11*($O$7/(1-$O$7)),2) -> 0 | U11: =TRUNC(IF($I$6="","",(($I$7-$I$6)/$I$6)*(S11+T11)),2) -> 687.07 | V11: =S11+T11+U11 -> 1312.54 | Y11: =IF(AND(Q11="",T11=""),"",V11+X11) -> 1312.54 | Z11: =IF(OR(L11="",M11=""),"",L11+M11) -> #VALUE! | AA11: =IF(OR(Y11="",Z11=""),"",Y11+Z11) -> #VALUE! | AC11: =AA11 -> #VALUE! | AD11: =Y11 -> 1312.54 | AE11: =Z11 -> #VALUE! | AH11: =IF(OR(G11=$D$41,G11=$D$42,G11=$D$44,G11=$D$50,G11=$D$34,G11=$D$30,G11=$D$26,G11=$D$39,G11=$D$29),"NORDESTE",IF(OR(G11=$D$25,G11=$D$27,G11=$D$28,G11=$D$38,G11=$D$46,G11=$D$47,G11=$D$51),"NORTE",IF(OR(G11=$D$31,G11=$D$33,G11=$D$35,G11=$D$36),"CENTRO-OESTE",IF(OR(G11=$D$49,G11=$D$43,G11=$D$37,G11=$D$32),"SUDESTE",IF(OR(G11=$D$48,G11=$D$40,G11=$D$45),"SUL",""))))) -> NORDESTE
B12: =AA12 -> #VALUE! | C12: 2 | E12: Refinaria Potiguar Clara Camarão | F12: Rodovia RN 221, KM 25 - Guamaré - RN CEP:59598-000 | G12: Rio Grande do Norte | H12: GUAMARÉ - RN | I12: GOIÂNIA - GO | L12: =IF(AND(J12="-",K12=""),"",IF(AND(J12<>0,K12=""),J12*1000,IF(AND(J12="-",K12<>0),K12*1000,IF(AND(J12<>0,K12<>0),J12*1000,"")))) | M12: =ROUND(((L12/(1-$O$5-$O$6-$O$7))-L12),2) -> #VALUE! | N12: =L12+M12 -> #VALUE! | O12: =INDEX($D$83:$O$146,MATCH(C12,$D$83:$D$146,0),12) -> 2563.5 | Q12: =ROUND((26.939+0.253*O12),2) -> 675.5 | S12: =Q12+R12 -> 675.5 | T12: =TRUNC(S12*($O$7/(1-$O$7)),2) -> 0 | U12: =TRUNC(IF($I$6="","",(($I$7-$I$6)/$I$6)*(S12+T12)),2) -> 742.03 | V12: =S12+T12+U12 -> 1417.53 | Y12: =IF(AND(Q12="",T12=""),"",V12+X12) -> 1417.53 | Z12: =IF(OR(L12="",M12=""),"",L12+M12) -> #VALUE! | AA12: =IF(OR(Y12="",Z12=""),"",Y12+Z12) -> #VALUE! | AC12: =AA12 -> #VALUE! | AD12: =Y12 -> 1417.53 | AE12: =Z12 -> #VALUE! | AH12: =IF(OR(G12=$D$41,G12=$D$42,G12=$D$44,G12=$D$50,G12=$D$34,G12=$D$30,G12=$D$26,G12=$D$39,G12=$D$29),"NORDESTE",IF(OR(G12=$D$25,G12=$D$27,G12=$D$28,G12=$D$38,G12=$D$46,G12=$D$47,G12=$D$51),"NORTE",IF(OR(G12=$D$31,G12=$D$33,G12=$D$35,G12=$D$36),"CENTRO-OESTE",IF(OR(G12=$D$49,G12=$D$43,G12=$D$37,G12=$D$32),"SUDESTE",IF(OR(G12=$D$48,G12=$D$40,G12=$D$45),"SUL",""))))) -> NORDESTE
B13: =AA13 -> #VALUE! | C13: 3 | E13: Refinaria Landulpho Alves (RLAM) | F13: Rodovia BA 523, KM 4 – Mataripe São Francisco do Conde - BA CEP:43900-000 | G13: Bahia | H13: SÃO FRANCISCO DO CONDE - BA | I13: GOIÂNIA - GO | L13: =IF(AND(J13="-",K13=""),"",IF(AND(J13<>0,K13=""),J13*1000,IF(AND(J13="-",K13<>0),K13*1000,IF(AND(J13<>0,K13<>0),J13*1000,"")))) | M13: =ROUND(((L13/(1-$O$5-$O$6-$O$7))-L13),2) -> #VALUE! | N13: =L13+M13 -> #VALUE! | O13: =INDEX($D$83:$O$146,MATCH(C13,$D$83:$D$146,0),12) -> 1673 | Q13: =ROUND((26.939+0.253*O13),2) -> 450.21 | S13: =Q13+R13 -> 450.21 | T13: =TRUNC(S13*($O$7/(1-$O$7)),2) -> 0 | U13: =TRUNC(IF($I$6="","",(($I$7-$I$6)/$I$6)*(S13+T13)),2) -> 494.55 | V13: =S13+T13+U13 -> 944.76 | Y13: =IF(AND(Q13="",T13=""),"",V13+X13) -> 944.76 | Z13: =IF(OR(L13="",M13=""),"",L13+M13) -> #VALUE! | AA13: =IF(OR(Y13="",Z13=""),"",Y13+Z13) -> #VALUE! | AC13: =AA13 -> #VALUE! | AD13: =Y13 -> 944.76 | AE13: =Z13 -> #VALUE! | AH13: =IF(OR(G13=$D$41,G13=$D$42,G13=$D$44,G13=$D$50,G13=$D$34,G13=$D$30,G13=$D$26,G13=$D$39,G13=$D$29),"NORDESTE",IF(OR(G13=$D$25,G13=$D$27,G13=$D$28,G13=$D$38,G13=$D$46,G13=$D$47,G13=$D$51),"NORTE",IF(OR(G13=$D$31,G13=$D$33,G13=$D$35,G13=$D$36),"CENTRO-OESTE",IF(OR(G13=$D$49,G13=$D$43,G13=$D$37,G13=$D$32),"SUDESTE",IF(OR(G13=$D$48,G13=$D$40,G13=$D$45),"SUL",""))))) -> NORDESTE
A14: 2403 | B14: =AA14 -> #VALUE! | C14: 4 | E14: Refinaria Lubrificantes e Derivados do Nordeste (Lubnor) | F14: Av. Leite Barbosa, s/nº - Mucuripe Fortaleza - Ceará CEP:60180-420 | G14: Ceará | H14: FORTALEZA - CE | I14: GOIÂNIA - GO | L14: =IF(AND(J14="-",K14=""),"",IF(AND(J14<>0,K14=""),J14*1000,IF(AND(J14="-",K14<>0),K14*1000,IF(AND(J14<>0,K14<>0),J14*1000,"")))) | M14: =ROUND(((L14/(1-$O$5-$O$6-$O$7))-L14),2) -> #VALUE! | N14: =L14+M14 -> #VALUE! | O14: =INDEX($D$83:$O$146,MATCH(C14,$D$83:$D$146,0),12) -> 2391.5 | Q14: =ROUND((26.939+0.253*O14),2) -> 631.99 | S14: =Q14+R14 -> 631.99 | T14: =TRUNC(S14*($O$7/(1-$O$7)),2) -> 0 | U14: =TRUNC(IF($I$6="","",(($I$7-$I$6)/$I$6)*(S14+T14)),2) -> 694.24 | V14: =S14+T14+U14 -> 1326.23 | Y14: =IF(AND(Q14="",T14=""),"",V14+X14) -> 1326.23 | Z14: =IF(OR(L14="",M14=""),"",L14+M14) -> #VALUE! | AA14: =IF(OR(Y14="",Z14=""),"",Y14+Z14) -> #VALUE! | AC14: =AA14 -> #VALUE! | AD14: =Y14 -> 1326.23 | AE14: =Z14 -> #VALUE! | AH14: =IF(OR(G14=$D$41,G14=$D$42,G14=$D$44,G14=$D$50,G14=$D$34,G14=$D$30,G14=$D$26,G14=$D$39,G14=$D$29),"NORDESTE",IF(OR(G14=$D$25,G14=$D$27,G14=$D$28,G14=$D$38,G14=$D$46,G14=$D$47,G14=$D$51),"NORTE",IF(OR(G14=$D$31,G14=$D$33,G14=$D$35,G14=$D$36),"CENTRO-OESTE",IF(OR(G14=$D$49,G14=$D$43,G14=$D$37,G14=$D$32),"SUDESTE",IF(OR(G14=$D$48,G14=$D$40,G14=$D$45),"SUL",""))))) -> NORDESTE
