Workbook

Sheet Capa
C1: Ministério da Integração e do Desenvolvimento Regional
C2: Companhia de Desenvolvimento dos Vales do São Francisco e do Parnaíba
A5: FORMULÁRIO PARA MAPEAMENTO/GERENCIAMENTO DOS RISCOS DA CONTRATAÇÃO
A6: Documento desenvolvido com base na Metodologia de Gerenciamento de Riscos e Controles da Codevasf, aprovada por meio da Resolução nº 192, de 7 de fevereiro de 2024 e Deliberação nº 09, de 26 de fevereiro de 2024.
A8: 1. DADOS GERAIS DO OBJETO DA CONTRATAÇÃO
A10: 1.1. IDENTIFICAÇÃO DO OBJETO DA CONTRATAÇÃO
A11: PROCESSO: | C11: 59550.000508/2024-18
A12: OBJETO DA CONTRATAÇÃO: | C12: EXECUÇÃO DAS OBRAS DE PAVIMENTAÇÃO E DRENAGEM, DA RODOVIA DA AL- 485, QUE LIGA O MUNICÍPIO DE SÃO SEBASTIÃO/AL AO DE FEIRA GRANDE/AL.
A13: OBJETIVO DA CONTRATAÇÃO: | C13: A via, que atualmente é caracterizada como estrada vicinal, possui 14 quilômetros de extensão, e quando pavimentada trará inúmeros benefícios, entre eles o fato de encurtar a distância entre as duas cidades. Atualmente, para se deslocar de Feira Grande até São Sebastião por meio de rodovias asfaltadas é necessário trafegar por três rodovias: AL 485 até Arapiraca; a AL 115 dentro de Arapiraca e, por último, a rodovia AL 110 até a entrada de São Sebastião, totalizando 40 quilômetros de distância. Com a pavimentação da estrada vicinal de apenas 14km de extensão, haverá melhoria no escoamento da produção das duas cidades, como também o fortalecimento do livre comércio entre ambas. Além disso, haverá benefício na cidadania da população, uma vez que atualmente o Cartório Eleitoral que atende Feira Grande fica é localizado na cidade vizinha, São Sebastião.
A14: LOCAL DE EXECUÇÃO: | C14: Município de Feira Grande a São Sebastião, no estado de Alagoas.
A15: ÁREA/UNIDADE SUPRIDORA: | C15: Área de Desenvolvimento e Infraestrutura (AD)
A16: ÁREA/UNIDADE DEMANDANTE: | C16: Gerência de Qualificação Viária (AD/GQV)
A17: LOCAL/DATA: | C17: 45433
A19: 1.2. IDENTIFICAÇÃO DOS RESPONSÁVEIS
A20: COORDENADOR DO PROJETO OBJETO DA CONTRATAÇÃO - DEMANDANTE
A21: Nome: | B21: Roberto Hiroshi Barros Kubo | F21: Lotação: | G21: AD/GQV
A22: ANALISTAS RESPONSÁVEIS PELO MAPEAMENTO DOS RISCOS DA CONTRATAÇÃO - DEMANDANTE
A23: Nome: | B23: Ramon Gonçalves de Lima | F23: Lotação: | G23: AD/GQV/UGV
A24: Nome: | B24: Thiago Freitas De Porfírio Sousa | F24: Lotação: | G24: AD/GQV/UIO
A25: Nome: | F25: Lotação:
A26: Nome: | F26: Lotação:
A27: Nome: | F27: Lotação:
A59: LEI 14.133/21 - XXVII - matriz de riscos: cláusula contratual definidora de riscos e de responsabilidades entre as partes e caracterizadora do equilíbrio econômico-financeiro inicial do contrato, em termos de ônus financeiro decorrente de eventos supervenientes à contratação, contendo, no mínimo, as seguintes informações:
A62: chrome-extension://efaidnbmnnnibpcajpcglclefindmkaj/https://www.cge.ms.gov.br/wp-content/uploads/2024/04/CGE-MS_Guia-de-Gestao-de-Riscos-nas-Contratacoes.pdf
A63: https://www.conjur.com.br/2023-mar-31/caio-albuquerque-problemas-matriz-alocacao-riscos-mal-formulada/#:~:text=A%20matriz%20de%20riscos%20%C3%A9,para%20prever%20medidas%20de%20mitiga%C3%A7%C3%A3o.
A64: https://www.jusbrasil.com.br/doutrina/secao/artigo-6-incisos-xxvii-a-xxxviii-capitulo-iii-das-definicoes-lei-de-licitacoes-e-contratos-administrativos-comentada-lei-14133-21/1440739664#:~:text=A%20Lei%20n%C2%BA%2014.133%2F2021,contratante%20e%20contratado%20ou%20compartilhados.

Sheet Dicionário
A1: FORMULÁRIO PARA MAPEAMENTO/GERENCIAMENTO DOS RISCOS DA CONTRATAÇÃO
A2: Planilha Documentadora de Riscos de Contratação Dicionário das Informações
A7: Código Geral
A8: Definição | B8: Código geral de identificação do risco da unidade
A9: Tipo | B9: Critérios/Definições
A11: Sequência numérica | B11: Campo de Fórmula (não editável)
A14: Etapa da Contratação
A15: Definição | B15: Etapas da Contratação para Mapeamento dos Riscos de Contratação
A16: Tipo | B16: Critérios/Definições
A17: Diagnóstico e Formalização da demanda - Planejamento
A18: Fase Preliminar da Contratação - Planejamento | B18: Campo selecionável mas não editável
A19: Seleção de Fornecedor e Contratação
A20: Gestão e Fiscalização do Contrato
A22: Tipo de Risco
A23: Definição | B23: Níveis de risco que influenciam diretamente o resultado do contrato ou o risco que ele está sujeito
A24: Tipo | B24: Critérios/Definições
A25: Risco Institucional | B25: São os riscos inerentes à própria contratação pela Codevasf ou seja, independem do tipo de contrato, porém afetam todos os contratos e podem atingir a Codevasf, caso o risco se materialize.
A26: Risco do Contrato | B26: São riscos relacionados ao tipo de contrato a ser executado e podem afetar à qualquer contrato daquele mesmo tipo. (aquisição de bens, obras ou serviços).
A27: Risco Específico | B27: São os riscos referentes àquele contrato específico que está sendo trabalhado, visto que cada contrato tem a sua especificidade.
A29: Macrofatores de risco
A30: Definição | B30: Origem/fonte que precede uma causa ou fator de risco e gera possível incerteza, podendo ser pessoas, processos, infraestrutura, tecnologia e sistemas e fatores externos.
A31: Tipo | B31: Critérios/Definições
A32: Externos | B32: Eventos ambientais, climáticos, econômicos, políticos, sazonais, sociais.
A33: Infraestrutura | B33: Inadequada, inacessível, ineficiente, precária, insuficiente
A34: Pessoas | B34: Baixa capacitação e motivação ao trabalho; perfil negligente; desvios de conduta e equipes mal dimensionadas.
A35: Processos | B35: Ineficiente, mal estruturado, redundante, imaturo, sem métricas, desalinhado de propósitos.
A36: Tecnologia/Sistemas | B36: Obsoleto, incompatível, não documentado, sem segurança, de alto custo, desalinhado dos requisitos do negócio.
A38: Fator de Risco/Causa (Devido a)
A39: Definição | B39: Fatores internos ou externos que podem originar os eventos de risco na forma de uma vulnerabilidade ou ameaça.
A40: Tipo | B40: Critérios/Definições
A41: Campos livre para edição de texto | B41: Texto livre
A43: Risco/Incerteza (Poderá ocorrer)
A44: Definição | B44: Possibilidade de ocorrer um evento que venha a ter impacto no cumprimento dos objetivos, sendo medido em termos de impacto e de probabilidade / Incapacidade de saber com antecedência a real probabilidade ou impacto de eventos futuros.
A46: Categoria do Risco
A47: Definição | B47: Classificação dos tipos de riscos definidos pela Codevasf que podem afetar o alcance de seus objetivos estratégicos, observadas as características de sua área de atuação e as particularidades do setor público.
A48: Tipo | B48: Critérios/Definições
A49: Estratégico | B49: Eventos que afetam de forma direta o cumprimento de metas estabelecidas para as iniciativas desdobradas dos objetivos estratégicos planejados.
A50: Imagem | B50: Eventos que possam comprometer a imagem institucional da Empresa junto a partes interessadas e a sociedade como um todo, repercutindo na mídia televisada, falada e escrita segundo diferentes graus.
A51: Integridade | B51: Eventos vinculados ao tema da Integridade e seus desdobramentos.
A52: Legal | B52: Eventos associados à conformidade em cumprir normas aplicáveis ao arcabouço legal e regulatório aplicável.
...

Sheet Mapeamento de Riscos
A1: MAPEAMENTO/GERENCIAMENTO DOS RISCOS DA CONTRATAÇÃO
A3: PROCESSO: | D3: =Capa!C11 -> 59550.000508/2024-18
A4: =Capa!A12 -> OBJETO DA CONTRATAÇÃO: | D4: =Capa!C12 -> EXECUÇÃO DAS OBRAS DE PAVIMENTAÇÃO E DRENAGEM, DA RODOVIA DA AL- 485, QUE LIGA O MUNICÍPIO DE SÃO SEBASTIÃO/AL AO DE FEIRA GRANDE/AL.
K5: ocultar | L5: ocultar | S5: ocultar | T5: ocultar | U5: ocultar | W5: ocultar | X5: ocultar | AC5: ocultar | AD5: ocultar | AE5: ocultar | AF5: ocultar
A6: Código | B6: Etapa da Contratação | C6: Tipo de Risco | D6: Macrofatores de risco | E6: Fator de Risco/Causa (devido a) | F6: Evento de Risco/Incerteza (poderá ocorrer...) | G6: Categoria do Risco | H6: Consequência (Ocasionando) | I6: Responsável pelo risco (Alocação) | J6: Probabilidade | K6: PROB | L6: PROB PESO | M6: Impacto | W6: Risco Inerente valor | X6: Risco Inerente Ref. | Y6: Classificação do Risco Inerente | Z6: Controles Existentes | AE6: Risco Residual | AF6: Classificação do Risco Residual | AG6: Nível de Risco Classificação do Risco Residual | AH6: Tratamento
M7: Manutenção dos Projetos, Processos e/ou Ações (MP) | N7: Regulação e Controle (RC) | O7: Imagem da Codevasf (IMG) | P7: Missão Institucional (MI) | Q7: Intervenção de Gestão para Atenuação do Impacto (IG) | R7: Orçamentário/ Financeiro (OF) | S7: Peso | T7: Peso arred | U7: Impacto ref. | V7: Impacto Total | Z7: Controle Preventivo | AA7: Controle Atenuante | AB7: Avaliação do Controle | AC7: Peso | AD7: peso contrl | AH7: Resposta - Tipo de Tratamento | AI7: Tratamento Preventivo | AJ7: Responsável - Tratamento Preventivo | AK7: Tratamento Atenuante | AL7: Responsável - Tratamento Atenuante | AM7: Investimento (R$) | AN7: Perda Esperada (R$) | AO7: Memória de Cálculo da Perda Esperada | AP7: Início Previsto | AQ7: Término previsto
A8: RC001 | B8: Fase preliminar da contratação - Planejamento | C8: Risco do Contrato | D8: Fatores externos | E8: Não obtenção de licenças, permissões e autorizações relativas à execução do contrato e o cumprimento das condicionantes da licença ambiental e/ou dos requisitos técnicos dos órgãos envolvidos (Prefeitura, órgão ambiental, DNIT, IPHAN, DER, etc.) | F8: Poderá ocorrer impossibilidade de início dos serviços | G8: Legal | H8: Inviabilidade na celebração do contrato. | I8: Contratante | J8: 1- Muito baixa | K8: =IF(J8="1- Muito Baixa",1,IF(J8="2- Baixa",2,IF(J8="3- Média",3,IF(J8="4- Alta",4,IF(J8="5- Muito Alta",5,0))))) -> 1 | L8: =ROUNDUP(((K8+5)/2),0) -> 3 | M8: Muito Grande | N8: Muito Grande | O8: Insignificante | P8: Moderado | Q8: Pequeno | R8: Insignificante | S8: =ROUNDUP(((IF(M8="pequeno",2,IF(M8="insignificante",1,IF(M8="moderado",3,IF(M8="Grande",4,IF(M8="Muito Grande",5,0)))))+IF(N8="pequeno",2,IF(N8="insignificante",1,IF(N8="moderado",3,IF(N8="Grande",4,IF(N8="Muito Grande",5,0)))))+IF(O8="pequeno",2,IF(O8="insignificante",1,IF(O8="moderado",3,IF(O8="Grande",4,IF(O8="Muito Grande",5,0)))))+IF(P8="pequeno",2,IF(P8="insignificante",1,IF(P8="moderado",3,IF(P8="Grande",4,IF(P8="Muito Grande",5,0)))))+IF(Q8="pequeno",2,IF(Q8="insignificante",1,IF(Q8="moderado",3,IF(Q8="Grande",4,IF(Q8="Muito Grande",5,0)))))+IF(R8="pequeno",2,IF(R8="insignificante",1,IF(R8="moderado",3,IF(R8="Grande",4,IF(R8="Muito Grande",5,0))))))/6),0) -> 3 | T8: =ROUNDUP(S8,0) -> 3 | U8: =IF(T8=1,"1- Insignificante",IF(T8=2,"2- Pequeno",IF(T8=3,"3- Moderado",IF(T8=4,"4- Grande",IF(T8=5,"5- Muito Grande",""))))) -> 3- Moderado | V8: =U8 -> 3- Moderado | W8: =ROUNDUP((((K8+5)/2)*S8),0) -> 9 | X8: =IF(AND(S8=1,L8=1),"Risco Baixo",IF(AND(S8=1,L8=2),"Risco Baixo",IF(AND(S8=1,L8=3),"Risco Baixo",IF(AND(S8=1,L8=4),"Risco Baixo",IF(AND(S8=1,L8=5),"Risco Moderado",IF(AND(S8=2,L8=1),"Risco Baixo",IF(AND(S8=2,L8=2),"Risco Baixo",IF(AND(S8=2,L8=3),"Risco Moderado",IF(AND(S8=2,L8=4),"Risco Moderado",IF(AND(S8=2,L8=5),"Risco Moderado",IF(AND(S8=3,L8=1),"Risco Baixo",IF(AND(S8=3,L8=2),"Risco Moderado",IF(AND(S8=3,L8=3),"Risco Moderado",IF(AND(S8=3,L8=4),"Risco Alto",IF(AND(S8=3,L8=5),"Risco Alto",IF(AND(S8=4,L8=1),"Risco Baixo",IF(AND(S8=4,L8=2),"Risco Moderado",IF(AND(S8=4,L8=3),"Risco Alto",IF(AND(S8=4,L8=4),"Risco Alto",IF(AND(S8=4,L8=5),"Risco Extremo",IF(AND(S8=5,L8=1),"Risco Moderado",IF(AND(S8=5,L8=2),"Risco Moderado",IF(AND(S8=5,L8=3),"Risco Alto",IF(AND(S8=5,L8=4),"Risco Extremo",IF(AND(S8=5,L8=5),"Risco Extremo",0))))))))))))))))))))))))) -> Risco Moderado | Y8: =IF(X8>0,X8,"") -> Risco Moderado | Z8: 1. Diligências junto às Áreas técnicas da Codevasf e às partes externas para obtenção de licenças, permissões e autorizações relativas à execução do contrato e o cumprimento das condicionantes da licença ambiental e/ou dos requisitos técnicos dos órgãos envolvidos | AA8: Não se dá continuidade à contratação dos serviços | AB8: Forte | AC8: =IF(AB8="Inexistente",5,IF(AB8="Fraco",4,IF(AB8="Mediano",3,IF(AB8="Satisfatório",2,IF(AB8="Forte",1))))) -> 1 | AD8: =ROUNDUP((AVERAGE(K8,AC8)),0) -> 1 | AE8: =(AVERAGE(K8,AC8))*T8 -> 3 | AF8: =IF(AND(S8=1,AD8=1),"Risco Baixo",IF(AND(S8=1, AD8=2),"Risco Baixo",IF(AND(S8=1,AD8=3),"Risco Baixo",IF(AND(S8=1,AD8=4),"Risco Baixo",IF(AND(S8=1,AD8=5),"Risco Moderado",IF(AND(S8=2,AD8=1),"Risco Baixo",IF(AND(S8=2,AD8=2),"Risco Baixo",IF(AND(S8=2,AD8=3),"Risco Moderado",IF(AND(S8=2,AD8=4),"Risco Moderado",IF(AND(S8=2,AD8=5),"Risco Moderado",IF(AND(S8=3,AD8=1),"Risco Baixo",IF(AND(S8=3,AD8=2),"Risco Moderado",IF(AND(S8=3,AD8=3),"Risco Moderado",IF(AND(S8=3,AD8=4),"Risco Alto",IF(AND(S8=3,AD8=5),"Risco Alto",IF(AND(S8=4,AD8=1),"Risco Baixo",IF(AND(S8=4,AD8=2),"Risco Moderado",IF(AND(S8=4,AD8=3),"Risco Alto",IF(AND(S8=4,AD8=4),"Risco Alto",IF(AND(S8=4,AD8=5),"Risco Extremo",IF(AND(S8=5,AD8=1),"Risco Moderado",IF(AND(S8=5,AD8=2),"Risco Moderado",IF(AND(S8=5,AD8=3),"Risco Alto",IF(AND(S8=5,AD8=4),"Risco Extremo",IF(AND(S8=5,AD8=5),"Risco Extremo",0))))))))))))))))))))))))) -> Risco Baixo | AG8: =IF(AND(AF8>0,AB8>0),AF8,"") -> Risco Baixo | AH8: Evitar
A9: RC002 | B9: Gestão e fiscalização do contrato | C9: Risco do Contrato | D9: Fatores externos | E9: Não obtenção de licenças, permissões e autorizações relativas à execução do contrato e o cumprimento das condicionantes da licença ambiental e/ou dos requisitos técnicos dos órgãos envolvidos (Prefeitura, órgão ambiental, DNIT, IPHAN, DER, etc.) | F9: Poderá ocorrer imprevisibilidade na aquisição ou/e entrega de bens e serviços | G9: Legal | H9: Inviabilidade ou atraso na execução da obra. | I9: Contratada | J9: 1- Muito baixa | K9: =IF(J9="1- Muito Baixa",1,IF(J9="2- Baixa",2,IF(J9="3- Média",3,IF(J9="4- Alta",4,IF(J9="5- Muito Alta",5,0))))) -> 1 | L9: =ROUNDUP(((K9+5)/2),0) -> 3 | M9: Muito Grande | N9: Muito Grande | O9: Insignificante | P9: Moderado | Q9: Pequeno | R9: Insignificante | S9: =ROUNDUP(((IF(M9="pequeno",2,IF(M9="insignificante",1,IF(M9="moderado",3,IF(M9="Grande",4,IF(M9="Muito Grande",5,0)))))+IF(N9="pequeno",2,IF(N9="insignificante",1,IF(N9="moderado",3,IF(N9="Grande",4,IF(N9="Muito Grande",5,0)))))+IF(O9="pequeno",2,IF(O9="insignificante",1,IF(O9="moderado",3,IF(O9="Grande",4,IF(O9="Muito Grande",5,0)))))+IF(P9="pequeno",2,IF(P9="insignificante",1,IF(P9="moderado",3,IF(P9="Grande",4,IF(P9="Muito Grande",5,0)))))+IF(Q9="pequeno",2,IF(Q9="insignificante",1,IF(Q9="moderado",3,IF(Q9="Grande",4,IF(Q9="Muito Grande",5,0)))))+IF(R9="pequeno",2,IF(R9="insignificante",1,IF(R9="moderado",3,IF(R9="Grande",4,IF(R9="Muito Grande",5,0))))))/6),0) -> 3 | T9: =ROUNDUP(S9,0) -> 3 | U9: =IF(T9=1,"1- Insignificante",IF(T9=2,"2- Pequeno",IF(T9=3,"3- Moderado",IF(T9=4,"4- Grande",IF(T9=5,"5- Muito Grande",""))))) -> 3- Moderado | V9: =U9 -> 3- Moderado | W9: =ROUNDUP((((K9+5)/2)*S9),0) -> 9 | X9: =IF(AND(T9=1,L9=1),"Risco Baixo",IF(AND(S9=1,L9=2),"Risco Baixo",IF(AND(S9=1,L9=3),"Risco Baixo",IF(AND(S9=1,L9=4),"Risco Baixo",IF(AND(S9=1,L9=5),"Risco Moderado",IF(AND(S9=2,L9=1),"Risco Baixo",IF(AND(S9=2,L9=2),"Risco Baixo",IF(AND(S9=2,L9=3),"Risco Moderado",IF(AND(S9=2,L9=4),"Risco Moderado",IF(AND(S9=2,L9=5),"Risco Moderado",IF(AND(S9=3,L9=1),"Risco Baixo",IF(AND(S9=3,L9=2),"Risco Moderado",IF(AND(S9=3,L9=3),"Risco Moderado",IF(AND(S9=3,L9=4),"Risco Alto",IF(AND(S9=3,L9=5),"Risco Alto",IF(AND(S9=4,L9=1),"Risco Baixo",IF(AND(S9=4,L9=2),"Risco Moderado",IF(AND(S9=4,L9=3),"Risco Alto",IF(AND(S9=4,L9=4),"Risco Alto",IF(AND(S9=4,L9=5),"Risco Extremo",IF(AND(S9=5,L9=1),"Risco Moderado",IF(AND(S9=5,L9=2),"Risco Moderado",IF(AND(S9=5,L9=3),"Risco Alto",IF(AND(S9=5,L9=4),"Risco Extremo",IF(AND(S9=5,L9=5),"Risco Extremo",0))))))))))))))))))))))))) -> Risco Moderado | Y9: =IF(X9>0,X9,"") -> Risco Moderado | Z9: 1. Diligências junto às Áreas técnicas da Codevasf e às partes externas para obtenção de licenças, permissões e autorizações relativas à execução do contrato e o cumprimento das condicionantes da licença ambiental e/ou dos requisitos técnicos dos órgãos envolvidos | AA9: Não se dá continuidade à contratação dos serviços | AB9: Inexistente | AC9: =IF(AB9="Inexistente",5,IF(AB9="Fraco",4,IF(AB9="Mediano",3,IF(AB9="Satisfatório",2,IF(AB9="Forte",1))))) -> 5 | AD9: =ROUNDUP((AVERAGE(K9,AC9)),0) -> 3 | AE9: =(AVERAGE(K9,AC9))*T9 -> 9 | AF9: =IF(AND(S9=1,AD9=1),"Risco Baixo",IF(AND(S9=1, AD9=2),"Risco Baixo",IF(AND(S9=1,AD9=3),"Risco Baixo",IF(AND(S9=1,AD9=4),"Risco Baixo",IF(AND(S9=1,AD9=5),"Risco Moderado",IF(AND(S9=2,AD9=1),"Risco Baixo",IF(AND(S9=2,AD9=2),"Risco Baixo",IF(AND(S9=2,AD9=3),"Risco Moderado",IF(AND(S9=2,AD9=4),"Risco Moderado",IF(AND(S9=2,AD9=5),"Risco Moderado",IF(AND(S9=3,AD9=1),"Risco Baixo",IF(AND(S9=3,AD9=2),"Risco Moderado",IF(AND(S9=3,AD9=3),"Risco Moderado",IF(AND(S9=3,AD9=4),"Risco Alto",IF(AND(S9=3,AD9=5),"Risco Alto",IF(AND(S9=4,AD9=1),"Risco Baixo",IF(AND(S9=4,AD9=2),"Risco Moderado",IF(AND(S9=4,AD9=3),"Risco Alto",IF(AND(S9=4,AD9=4),"Risco Alto",IF(AND(S9=4,AD9=5),"Risco Extremo",IF(AND(S9=5,AD9=1),"Risco Moderado",IF(AND(S9=5,AD9=2),"Risco Moderado",IF(AND(S9=5,AD9=3),"Risco Alto",IF(AND(S9=5,AD9=4),"Risco Extremo",IF(AND(S9=5,AD9=5),"Risco Extremo",0))))))))))))))))))))))))) -> Risco Moderado | AG9: =IF(AND(AF9>0,AB9>0),AF9,"") -> Risco Moderado | AH9: Evitar
A10: RC003 | B10: Gestão e fiscalização do contrato | C10: Risco do Contrato | D10: Fatores externos | E10: Atrasos no cronograma devido à indisponibilidade de insumos necessários ao início ou continuidade da obra. | F10: Poderá ocorrer imprevisibilidade na aquisição ou/e entrega de bens e serviços | G10: Operacional | H10: Atraso na execução da obra. | I10: Contratada | J10: 2- Baixa | K10: =IF(J10="1- Muito Baixa",1,IF(J10="2- Baixa",2,IF(J10="3- Média",3,IF(J10="4- Alta",4,IF(J10="5- Muito Alta",5,0))))) -> 2 | L10: =ROUNDUP(((K10+5)/2),0) -> 4 | M10: Grande | N10: Insignificante | O10: Insignificante | P10: Insignificante | Q10: Pequeno | R10: Moderado | S10: =ROUNDUP(((IF(M10="pequeno",2,IF(M10="insignificante",1,IF(M10="moderado",3,IF(M10="Grande",4,IF(M10="Muito Grande",5,0)))))+IF(N10="pequeno",2,IF(N10="insignificante",1,IF(N10="moderado",3,IF(N10="Grande",4,IF(N10="Muito Grande",5,0)))))+IF(O10="pequeno",2,IF(O10="insignificante",1,IF(O10="moderado",3,IF(O10="Grande",4,IF(O10="Muito Grande",5,0)))))+IF(P10="pequeno",2,IF(P10="insignificante",1,IF(P10="moderado",3,IF(P10="Grande",4,IF(P10="Muito Grande",5,0)))))+IF(Q10="pequeno",2,IF(Q10="insignificante",1,IF(Q10="moderado",3,IF(Q10="Grande",4,IF(Q10="Muito Grande",5,0)))))+IF(R10="pequeno",2,IF(R10="insignificante",1,IF(R10="moderado",3,IF(R10="Grande",4,IF(R10="Muito Grande",5,0))))))/6),0) -> 2 | T10: =ROUNDUP(S10,0) -> 2 | U10: =IF(T10=1,"1- Insignificante",IF(T10=2,"2- Pequeno",IF(T10=3,"3- Moderado",IF(T10=4,"4- Grande",IF(T10=5,"5- Muito Grande",""))))) -> 2- Pequeno | V10: =U10 -> 2- Pequeno | W10: =ROUNDUP((((K10+5)/2)*S10),0) -> 7 | X10: =IF(AND(T10=1,L10=1),"Risco Baixo",IF(AND(S10=1,L10=2),"Risco Baixo",IF(AND(S10=1,L10=3),"Risco Baixo",IF(AND(S10=1,L10=4),"Risco Baixo",IF(AND(S10=1,L10=5),"Risco Moderado",IF(AND(S10=2,L10=1),"Risco Baixo",IF(AND(S10=2,L10=2),"Risco Baixo",IF(AND(S10=2,L10=3),"Risco Moderado",IF(AND(S10=2,L10=4),"Risco Moderado",IF(AND(S10=2,L10=5),"Risco Moderado",IF(AND(S10=3,L10=1),"Risco Baixo",IF(AND(S10=3,L10=2),"Risco Moderado",IF(AND(S10=3,L10=3),"Risco Moderado",IF(AND(S10=3,L10=4),"Risco Alto",IF(AND(S10=3,L10=5),"Risco Alto",IF(AND(S10=4,L10=1),"Risco Baixo",IF(AND(S10=4,L10=2),"Risco Moderado",IF(AND(S10=4,L10=3),"Risco Alto",IF(AND(S10=4,L10=4),"Risco Alto",IF(AND(S10=4,L10=5),"Risco Extremo",IF(AND(S10=5,L10=1),"Risco Moderado",IF(AND(S10=5,L10=2),"Risco Moderado",IF(AND(S10=5,L10=3),"Risco Alto",IF(AND(S10=5,L10=4),"Risco Extremo",IF(AND(S10=5,L10=5),"Risco Extremo",0))))))))))))))))))))))))) -> Risco Moderado | Y10: =IF(X10>0,X10,"") -> Risco Moderado | Z10: Diligência junto à contratada para que ela planeje a aquisição de insumos de modo que a ocorrência de atrasos não impacte no ritmo dos serviços. | AA10: Verificar a necessidade de paralisação dos serviços caso não haja previsão de entrega dos insumos. | AB10: Mediano | AC10: =IF(AB10="Inexistente",5,IF(AB10="Fraco",4,IF(AB10="Mediano",3,IF(AB10="Satisfatório",2,IF(AB10="Forte",1))))) -> 3 | AD10: =ROUNDUP((AVERAGE(K10,AC10)),0) -> 3 | AE10: =(AVERAGE(K10,AC10))*T10 -> 5 | AF10: =IF(AND(S10=1,AD10=1),"Risco Baixo",IF(AND(S10=1, AD10=2),"Risco Baixo",IF(AND(S10=1,AD10=3),"Risco Baixo",IF(AND(S10=1,AD10=4),"Risco Baixo",IF(AND(S10=1,AD10=5),"Risco Moderado",IF(AND(S10=2,AD10=1),"Risco Baixo",IF(AND(S10=2,AD10=2),"Risco Baixo",IF(AND(S10=2,AD10=3),"Risco Moderado",IF(AND(S10=2,AD10=4),"Risco Moderado",IF(AND(S10=2,AD10=5),"Risco Moderado",IF(AND(S10=3,AD10=1),"Risco Baixo",IF(AND(S10=3,AD10=2),"Risco Moderado",IF(AND(S10=3,AD10=3),"Risco Moderado",IF(AND(S10=3,AD10=4),"Risco Alto",IF(AND(S10=3,AD10=5),"Risco Alto",IF(AND(S10=4,AD10=1),"Risco Baixo",IF(AND(S10=4,AD10=2),"Risco Moderado",IF(AND(S10=4,AD10=3),"Risco Alto",IF(AND(S10=4,AD10=4),"Risco Alto",IF(AND(S10=4,AD10=5),"Risco Extremo",IF(AND(S10=5,AD10=1),"Risco Moderado",IF(AND(S10=5,AD10=2),"Risco Moderado",IF(AND(S10=5,AD10=3),"Risco Alto",IF(AND(S10=5,AD10=4),"Risco Extremo",IF(AND(S10=5,AD10=5),"Risco Extremo",0))))))))))))))))))))))))) -> Risco Moderado | AG10: =IF(AND(AF10>0,AB10>0),AF10,"") -> Risco Moderado | AH10: Aceitar
A11: RC004 | B11: Gestão e fiscalização do contrato | C11: Risco do Contrato | D11: Fatores externos | E11: Refazer serviços danificados por chuva ou outro fenômeno da natureza que acarretem atraso no cronograma original e/ou aumento dos custos. | F11: Poderá ocorrer acréscimo dos custos operacionais | G11: Orçamentário/financeiro | H11: Atraso na execução da obra. | I11: Contratada | J11: 2- Baixa | K11: =IF(J11="1- Muito Baixa",1,IF(J11="2- Baixa",2,IF(J11="3- Média",3,IF(J11="4- Alta",4,IF(J11="5- Muito Alta",5,0))))) -> 2 | L11: =ROUNDUP(((K11+5)/2),0) -> 4 | M11: Pequeno | N11: Pequeno | O11: Pequeno | P11: Pequeno | Q11: Pequeno | R11: Pequeno | S11: =ROUNDUP(((IF(M11="pequeno",2,IF(M11="insignificante",1,IF(M11="moderado",3,IF(M11="Grande",4,IF(M11="Muito Grande",5,0)))))+IF(N11="pequeno",2,IF(N11="insignificante",1,IF(N11="moderado",3,IF(N11="Grande",4,IF(N11="Muito Grande",5,0)))))+IF(O11="pequeno",2,IF(O11="insignificante",1,IF(O11="moderado",3,IF(O11="Grande",4,IF(O11="Muito Grande",5,0)))))+IF(P11="pequeno",2,IF(P11="insignificante",1,IF(P11="moderado",3,IF(P11="Grande",4,IF(P11="Muito Grande",5,0)))))+IF(Q11="pequeno",2,IF(Q11="insignificante",1,IF(Q11="moderado",3,IF(Q11="Grande",4,IF(Q11="Muito Grande",5,0)))))+IF(R11="pequeno",2,IF(R11="insignificante",1,IF(R11="moderado",3,IF(R11="Grande",4,IF(R11="Muito Grande",5,0))))))/6),0) -> 2 | T11: =ROUNDUP(S11,0) -> 2 | U11: =IF(T11=1,"1- Insignificante",IF(T11=2,"2- Pequeno",IF(T11=3,"3- Moderado",IF(T11=4,"4- Grande",IF(T11=5,"5- Muito Grande",""))))) -> 2- Pequeno | V11: =U11 -> 2- Pequeno | W11: =ROUNDUP((((K11+5)/2)*S11),0) -> 7 | X11: =IF(AND(T11=1,L11=1),"Risco Baixo",IF(AND(S11=1,L11=2),"Risco Baixo",IF(AND(S11=1,L11=3),"Risco Baixo",IF(AND(S11=1,L11=4),"Risco Baixo",IF(AND(S11=1,L11=5),"Risco Moderado",IF(AND(S11=2,L11=1),"Risco Baixo",IF(AND(S11=2,L11=2),"Risco Baixo",IF(AND(S11=2,L11=3),"Risco Moderado",IF(AND(S11=2,L11=4),"Risco Moderado",IF(AND(S11=2,L11=5),"Risco Moderado",IF(AND(S11=3,L11=1),"Risco Baixo",IF(AND(S11=3,L11=2),"Risco Moderado",IF(AND(S11=3,L11=3),"Risco Moderado",IF(AND(S11=3,L11=4),"Risco Alto",IF(AND(S11=3,L11=5),"Risco Alto",IF(AND(S11=4,L11=1),"Risco Baixo",IF(AND(S11=4,L11=2),"Risco Moderado",IF(AND(S11=4,L11=3),"Risco Alto",IF(AND(S11=4,L11=4),"Risco Alto",IF(AND(S11=4,L11=5),"Risco Extremo",IF(AND(S11=5,L11=1),"Risco Moderado",IF(AND(S11=5,L11=2),"Risco Moderado",IF(AND(S11=5,L11=3),"Risco Alto",IF(AND(S11=5,L11=4),"Risco Extremo",IF(AND(S11=5,L11=5),"Risco Extremo",0))))))))))))))))))))))))) -> Risco Moderado | Y11: =IF(X11>0,X11,"") -> Risco Moderado | Z11: Diligência junto à contratada para que ela planeje a execução dos serviços em período sem ocorrência de chuvas, para que não afete o cronograma nem a qualidade dos serviços | AA11: Exigir da Contratada o refazimento dos serviços para que estes atendam os requisitos de qualidade necessários. | AB11: Satisfatório | AC11: =IF(AB11="Inexistente",5,IF(AB11="Fraco",4,IF(AB11="Mediano",3,IF(AB11="Satisfatório",2,IF(AB11="Forte",1))))) -> 2 | AD11: =ROUNDUP((AVERAGE(K11,AC11)),0) -> 2 | AE11: =(AVERAGE(K11,AC11))*T11 -> 4 | AF11: =IF(AND(S11=1,AD11=1),"Risco Baixo",IF(AND(S11=1, AD11=2),"Risco Baixo",IF(AND(S11=1,AD11=3),"Risco Baixo",IF(AND(S11=1,AD11=4),"Risco Baixo",IF(AND(S11=1,AD11=5),"Risco Moderado",IF(AND(S11=2,AD11=1),"Risco Baixo",IF(AND(S11=2,AD11=2),"Risco Baixo",IF(AND(S11=2,AD11=3),"Risco Moderado",IF(AND(S11=2,AD11=4),"Risco Moderado",IF(AND(S11=2,AD11=5),"Risco Moderado",IF(AND(S11=3,AD11=1),"Risco Baixo",IF(AND(S11=3,AD11=2),"Risco Moderado",IF(AND(S11=3,AD11=3),"Risco Moderado",IF(AND(S11=3,AD11=4),"Risco Alto",IF(AND(S11=3,AD11=5),"Risco Alto",IF(AND(S11=4,AD11=1),"Risco Baixo",IF(AND(S11=4,AD11=2),"Risco Moderado",IF(AND(S11=4,AD11=3),"Risco Alto",IF(AND(S11=4,AD11=4),"Risco Alto",IF(AND(S11=4,AD11=5),"Risco Extremo",IF(AND(S11=5,AD11=1),"Risco Moderado",IF(AND(S11=5,AD11=2),"Risco Moderado",IF(AND(S11=5,AD11=3),"Risco Alto",IF(AND(S11=5,AD11=4),"Risco Extremo",IF(AND(S11=5,AD11=5),"Risco Extremo",0))))))))))))))))))))))))) -> Risco Baixo | AG11: =IF(AND(AF11>0,AB11>0),AF11,"") -> Risco Baixo | AH11: Aceitar
A12: RC005 | B12: Gestão e fiscalização do contrato | C12: Risco Específico | D12: Processos de trabalho | E12: Custos e atrasos decorrentes de pesquisas e descobertas arqueológicas ou outras interferências com o patrimônio histórico, artístico e cultural de quaisquer tipos. | F12: Poderá ocorrer imprevisibilidade na aquisição ou/e entrega de bens e serviços | G12: Operacional | H12: Atraso na execução da obra; Impossibilidade de execução; Aditivo ao contrato. | I12: Contratante | J12: 1- Muito baixa | K12: =IF(J12="1- Muito Baixa",1,IF(J12="2- Baixa",2,IF(J12="3- Média",3,IF(J12="4- Alta",4,IF(J12="5- Muito Alta",5,0))))) -> 1 | L12: =ROUNDUP(((K12+5)/2),0) -> 3 | M12: Grande | N12: Grande | O12: Pequeno | P12: Pequeno | Q12: Moderado | R12: Grande | S12: =ROUNDUP(((IF(M12="pequeno",2,IF(M12="insignificante",1,IF(M12="moderado",3,IF(M12="Grande",4,IF(M12="Muito Grande",5,0)))))+IF(N12="pequeno",2,IF(N12="insignificante",1,IF(N12="moderado",3,IF(N12="Grande",4,IF(N12="Muito Grande",5,0)))))+IF(O12="pequeno",2,IF(O12="insignificante",1,IF(O12="moderado",3,IF(O12="Grande",4,IF(O12="Muito Grande",5,0)))))+IF(P12="pequeno",2,IF(P12="insignificante",1,IF(P12="moderado",3,IF(P12="Grande",4,IF(P12="Muito Grande",5,0)))))+IF(Q12="pequeno",2,IF(Q12="insignificante",1,IF(Q12="moderado",3,IF(Q12="Grande",4,IF(Q12="Muito Grande",5,0)))))+IF(R12="pequeno",2,IF(R12="insignificante",1,IF(R12="moderado",3,IF(R12="Grande",4,IF(R12="Muito Grande",5,0))))))/6),0) -> 4 | T12: =ROUNDUP(S12,0) -> 4 | U12: =IF(T12=1,"1- Insignificante",IF(T12=2,"2- Pequeno",IF(T12=3,"3- Moderado",IF(T12=4,"4- Grande",IF(T12=5,"5- Muito Grande",""))))) -> 4- Grande | V12: =U12 -> 4- Grande | W12: =ROUNDUP((((K12+5)/2)*S12),0) -> 12 | X12: =IF(AND(T12=1,L12=1),"Risco Baixo",IF(AND(S12=1,L12=2),"Risco Baixo",IF(AND(S12=1,L12=3),"Risco Baixo",IF(AND(S12=1,L12=4),"Risco Baixo",IF(AND(S12=1,L12=5),"Risco Moderado",IF(AND(S12=2,L12=1),"Risco Baixo",IF(AND(S12=2,L12=2),"Risco Baixo",IF(AND(S12=2,L12=3),"Risco Moderado",IF(AND(S12=2,L12=4),"Risco Moderado",IF(AND(S12=2,L12=5),"Risco Moderado",IF(AND(S12=3,L12=1),"Risco Baixo",IF(AND(S12=3,L12=2),"Risco Moderado",IF(AND(S12=3,L12=3),"Risco Moderado",IF(AND(S12=3,L12=4),"Risco Alto",IF(AND(S12=3,L12=5),"Risco Alto",IF(AND(S12=4,L12=1),"Risco Baixo",IF(AND(S12=4,L12=2),"Risco Moderado",IF(AND(S12=4,L12=3),"Risco Alto",IF(AND(S12=4,L12=4),"Risco Alto",IF(AND(S12=4,L12=5),"Risco Extremo",IF(AND(S12=5,L12=1),"Risco Moderado",IF(AND(S12=5,L12=2),"Risco Moderado",IF(AND(S12=5,L12=3),"Risco Alto",IF(AND(S12=5,L12=4),"Risco Extremo",IF(AND(S12=5,L12=5),"Risco Extremo",0))))))))))))))))))))))))) -> Risco Alto | Y12: =IF(X12>0,X12,"") -> Risco Alto | Z12: Regularização fundiária prévia à execução da obra. | AA12: Verificação da regularização fundiária com os órgãos competentes | AB12: Mediano | AC12: =IF(AB12="Inexistente",5,IF(AB12="Fraco",4,IF(AB12="Mediano",3,IF(AB12="Satisfatório",2,IF(AB12="Forte",1))))) -> 3 | AD12: =ROUNDUP((AVERAGE(K12,AC12)),0) -> 2 | AE12: =(AVERAGE(K12,AC12))*T12 -> 8 | AF12: =IF(AND(S12=1,AD12=1),"Risco Baixo",IF(AND(S12=1, AD12=2),"Risco Baixo",IF(AND(S12=1,AD12=3),"Risco Baixo",IF(AND(S12=1,AD12=4),"Risco Baixo",IF(AND(S12=1,AD12=5),"Risco Moderado",IF(AND(S12=2,AD12=1),"Risco Baixo",IF(AND(S12=2,AD12=2),"Risco Baixo",IF(AND(S12=2,AD12=3),"Risco Moderado",IF(AND(S12=2,AD12=4),"Risco Moderado",IF(AND(S12=2,AD12=5),"Risco Moderado",IF(AND(S12=3,AD12=1),"Risco Baixo",IF(AND(S12=3,AD12=2),"Risco Moderado",IF(AND(S12=3,AD12=3),"Risco Moderado",IF(AND(S12=3,AD12=4),"Risco Alto",IF(AND(S12=3,AD12=5),"Risco Alto",IF(AND(S12=4,AD12=1),"Risco Baixo",IF(AND(S12=4,AD12=2),"Risco Moderado",IF(AND(S12=4,AD12=3),"Risco Alto",IF(AND(S12=4,AD12=4),"Risco Alto",IF(AND(S12=4,AD12=5),"Risco Extremo",IF(AND(S12=5,AD12=1),"Risco Moderado",IF(AND(S12=5,AD12=2),"Risco Moderado",IF(AND(S12=5,AD12=3),"Risco Alto",IF(AND(S12=5,AD12=4),"Risco Extremo",IF(AND(S12=5,AD12=5),"Risco Extremo",0))))))))))))))))))))))))) -> Risco Moderado | AG12: =IF(AND(AF12>0,AB12>0),AF12,"") -> Risco Moderado | AH12: Aceitar | AI12: Regularização fundiária prévia à execução da obra. | AJ12: Gerência de Implantação de Obras (AD/GIM) | AK12: Possibilidade de alteração contratual (excepcional), novo cronograma físico-financeiro, aditivo de prazo e/ou suspensão temporária do contrato por parte da Contratante. | AL12: Gerência Regional de Desenvolvimento (5ª/GRD)
A13: RC006 | B13: Gestão e fiscalização do contrato | C13: Risco do Contrato | D13: Fatores externos | E13: Atos de vandalismo, roubos e furtos que causem danos às instalações ou aos equipamentos/materiais, antes do recebimento definitivo pela Contratante. | F13: Poderá ocorrer acréscimo dos custos operacionais | G13: Orçamentário/financeiro | H13: Atraso na execução da obra. | I13: Contratada | J13: 2- Baixa | K13: =IF(J13="1- Muito Baixa",1,IF(J13="2- Baixa",2,IF(J13="3- Média",3,IF(J13="4- Alta",4,IF(J13="5- Muito Alta",5,0))))) -> 2 | L13: =ROUNDUP(((K13+5)/2),0) -> 4 | M13: Pequeno | N13: Pequeno | O13: Pequeno | P13: Pequeno | Q13: Pequeno | R13: Pequeno | S13: =ROUNDUP(((IF(M13="pequeno",2,IF(M13="insignificante",1,IF(M13="moderado",3,IF(M13="Grande",4,IF(M13="Muito Grande",5,0)))))+IF(N13="pequeno",2,IF(N13="insignificante",1,IF(N13="moderado",3,IF(N13="Grande",4,IF(N13="Muito Grande",5,0)))))+IF(O13="pequeno",2,IF(O13="insignificante",1,IF(O13="moderado",3,IF(O13="Grande",4,IF(O13="Muito Grande",5,0)))))+IF(P13="pequeno",2,IF(P13="insignificante",1,IF(P13="moderado",3,IF(P13="Grande",4,IF(P13="Muito Grande",5,0)))))+IF(Q13="pequeno",2,IF(Q13="insignificante",1,IF(Q13="moderado",3,IF(Q13="Grande",4,IF(Q13="Muito Grande",5,0)))))+IF(R13="pequeno",2,IF(R13="insignificante",1,IF(R13="moderado",3,IF(R13="Grande",4,IF(R13="Muito Grande",5,0))))))/6),0) -> 2 | T13: =ROUNDUP(S13,0) -> 2 | U13: =IF(T13=1,"1- Insignificante",IF(T13=2,"2- Pequeno",IF(T13=3,"3- Moderado",IF(T13=4,"4- Grande",IF(T13=5,"5- Muito Grande",""))))) -> 2- Pequeno | V13: =U13 -> 2- Pequeno | W13: =ROUNDUP((((K13+5)/2)*S13),0) -> 7 | X13: =IF(AND(T13=1,L13=1),"Risco Baixo",IF(AND(S13=1,L13=2),"Risco Baixo",IF(AND(S13=1,L13=3),"Risco Baixo",IF(AND(S13=1,L13=4),"Risco Baixo",IF(AND(S13=1,L13=5),"Risco Moderado",IF(AND(S13=2,L13=1),"Risco Baixo",IF(AND(S13=2,L13=2),"Risco Baixo",IF(AND(S13=2,L13=3),"Risco Moderado",IF(AND(S13=2,L13=4),"Risco Moderado",IF(AND(S13=2,L13=5),"Risco Moderado",IF(AND(S13=3,L13=1),"Risco Baixo",IF(AND(S13=3,L13=2),"Risco Moderado",IF(AND(S13=3,L13=3),"Risco Moderado",IF(AND(S13=3,L13=4),"Risco Alto",IF(AND(S13=3,L13=5),"Risco Alto",IF(AND(S13=4,L13=1),"Risco Baixo",IF(AND(S13=4,L13=2),"Risco Moderado",IF(AND(S13=4,L13=3),"Risco Alto",IF(AND(S13=4,L13=4),"Risco Alto",IF(AND(S13=4,L13=5),"Risco Extremo",IF(AND(S13=5,L13=1),"Risco Moderado",IF(AND(S13=5,L13=2),"Risco Moderado",IF(AND(S13=5,L13=3),"Risco Alto",IF(AND(S13=5,L13=4),"Risco Extremo",IF(AND(S13=5,L13=5),"Risco Extremo",0))))))))))))))))))))))))) -> Risco Moderado | Y13: =IF(X13>0,X13,"") -> Risco Moderado | AB13: Mediano | AC13: =IF(AB13="Inexistente",5,IF(AB13="Fraco",4,IF(AB13="Mediano",3,IF(AB13="Satisfatório",2,IF(AB13="Forte",1))))) -> 3 | AD13: =ROUNDUP((AVERAGE(K13,AC13)),0) -> 3 | AE13: =(AVERAGE(K13,AC13))*T13 -> 5 | AF13: =IF(AND(S13=1,AD13=1),"Risco Baixo",IF(AND(S13=1, AD13=2),"Risco Baixo",IF(AND(S13=1,AD13=3),"Risco Baixo",IF(AND(S13=1,AD13=4),"Risco Baixo",IF(AND(S13=1,AD13=5),"Risco Moderado",IF(AND(S13=2,AD13=1),"Risco Baixo",IF(AND(S13=2,AD13=2),"Risco Baixo",IF(AND(S13=2,AD13=3),"Risco Moderado",IF(AND(S13=2,AD13=4),"Risco Moderado",IF(AND(S13=2,AD13=5),"Risco Moderado",IF(AND(S13=3,AD13=1),"Risco Baixo",IF(AND(S13=3,AD13=2),"Risco Moderado",IF(AND(S13=3,AD13=3),"Risco Moderado",IF(AND(S13=3,AD13=4),"Risco Alto",IF(AND(S13=3,AD13=5),"Risco Alto",IF(AND(S13=4,AD13=1),"Risco Baixo",IF(AND(S13=4,AD13=2),"Risco Moderado",IF(AND(S13=4,AD13=3),"Risco Alto",IF(AND(S13=4,AD13=4),"Risco Alto",IF(AND(S13=4,AD13=5),"Risco Extremo",IF(AND(S13=5,AD13=1),"Risco Moderado",IF(AND(S13=5,AD13=2),"Risco Moderado",IF(AND(S13=5,AD13=3),"Risco Alto",IF(AND(S13=5,AD13=4),"Risco Extremo",IF(AND(S13=5,AD13=5),"Risco Extremo",0))))))))))))))))))))))))) -> Risco Moderado | AG13: =IF(AND(AF13>0,AB13>0),AF13,"") -> Risco Moderado | AH13: Aceitar
A14: RC007 | B14: Gestão e fiscalização do contrato | C14: Risco do Contrato | D14: Fatores externos | E14: Restrições de horário de trabalho que impactem no cronograma, como a impossibilidade de trabalho noturno, em finais de semana ou outros horários determinados. | F14: Poderá ocorrer atraso na execução do serviço | G14: Operacional | H14: Aumento do prazo necessário para a execução dos serviços | I14: Contratada | J14: 1- Muito baixa | K14: =IF(J14="1- Muito Baixa",1,IF(J14="2- Baixa",2,IF(J14="3- Média",3,IF(J14="4- Alta",4,IF(J14="5- Muito Alta",5,0))))) -> 1 | L14: =ROUNDUP(((K14+5)/2),0) -> 3 | M14: Pequeno | N14: Insignificante | O14: Insignificante | P14: Insignificante | Q14: Insignificante | R14: Pequeno | S14: =ROUNDUP(((IF(M14="pequeno",2,IF(M14="insignificante",1,IF(M14="moderado",3,IF(M14="Grande",4,IF(M14="Muito Grande",5,0)))))+IF(N14="pequeno",2,IF(N14="insignificante",1,IF(N14="moderado",3,IF(N14="Grande",4,IF(N14="Muito Grande",5,0)))))+IF(O14="pequeno",2,IF(O14="insignificante",1,IF(O14="moderado",3,IF(O14="Grande",4,IF(O14="Muito Grande",5,0)))))+IF(P14="pequeno",2,IF(P14="insignificante",1,IF(P14="moderado",3,IF(P14="Grande",4,IF(P14="Muito Grande",5,0)))))+IF(Q14="pequeno",2,IF(Q14="insignificante",1,IF(Q14="moderado",3,IF(Q14="Grande",4,IF(Q14="Muito Grande",5,0)))))+IF(R14="pequeno",2,IF(R14="insignificante",1,IF(R14="moderado",3,IF(R14="Grande",4,IF(R14="Muito Grande",5,0))))))/6),0) -> 2 | T14: =ROUNDUP(S14,0) -> 2 | U14: =IF(T14=1,"1- Insignificante",IF(T14=2,"2- Pequeno",IF(T14=3,"3- Moderado",IF(T14=4,"4- Grande",IF(T14=5,"5- Muito Grande",""))))) -> 2- Pequeno | V14: =U14 -> 2- Pequeno | W14: =ROUNDUP((((K14+5)/2)*S14),0) -> 6 | X14: =IF(AND(T14=1,L14=1),"Risco Baixo",IF(AND(S14=1,L14=2),"Risco Baixo",IF(AND(S14=1,L14=3),"Risco Baixo",IF(AND(S14=1,L14=4),"Risco Baixo",IF(AND(S14=1,L14=5),"Risco Moderado",IF(AND(S14=2,L14=1),"Risco Baixo",IF(AND(S14=2,L14=2),"Risco Baixo",IF(AND(S14=2,L14=3),"Risco Moderado",IF(AND(S14=2,L14=4),"Risco Moderado",IF(AND(S14=2,L14=5),"Risco Moderado",IF(AND(S14=3,L14=1),"Risco Baixo",IF(AND(S14=3,L14=2),"Risco Moderado",IF(AND(S14=3,L14=3),"Risco Moderado",IF(AND(S14=3,L14=4),"Risco Alto",IF(AND(S14=3,L14=5),"Risco Alto",IF(AND(S14=4,L14=1),"Risco Baixo",IF(AND(S14=4,L14=2),"Risco Moderado",IF(AND(S14=4,L14=3),"Risco Alto",IF(AND(S14=4,L14=4),"Risco Alto",IF(AND(S14=4,L14=5),"Risco Extremo",IF(AND(S14=5,L14=1),"Risco Moderado",IF(AND(S14=5,L14=2),"Risco Moderado",IF(AND(S14=5,L14=3),"Risco Alto",IF(AND(S14=5,L14=4),"Risco Extremo",IF(AND(S14=5,L14=5),"Risco Extremo",0))))))))))))))))))))))))) -> Risco Moderado | Y14: =IF(X14>0,X14,"") -> Risco Moderado | Z14: Realizar o planejamento contínuo da execução da obra de maneira a se adaptar às possíveis restrições que possam acontecer. | AB14: Inexistente | AC14: =IF(AB14="Inexistente",5,IF(AB14="Fraco",4,IF(AB14="Mediano",3,IF(AB14="Satisfatório",2,IF(AB14="Forte",1))))) -> 5 | AD14: =ROUNDUP((AVERAGE(K14,AC14)),0) -> 3 | AE14: =(AVERAGE(K14,AC14))*T14 -> 6 | AF14: =IF(AND(S14=1,AD14=1),"Risco Baixo",IF(AND(S14=1, AD14=2),"Risco Baixo",IF(AND(S14=1,AD14=3),"Risco Baixo",IF(AND(S14=1,AD14=4),"Risco Baixo",IF(AND(S14=1,AD14=5),"Risco Moderado",IF(AND(S14=2,AD14=1),"Risco Baixo",IF(AND(S14=2,AD14=2),"Risco Baixo",IF(AND(S14=2,AD14=3),"Risco Moderado",IF(AND(S14=2,AD14=4),"Risco Moderado",IF(AND(S14=2,AD14=5),"Risco Moderado",IF(AND(S14=3,AD14=1),"Risco Baixo",IF(AND(S14=3,AD14=2),"Risco Moderado",IF(AND(S14=3,AD14=3),"Risco Moderado",IF(AND(S14=3,AD14=4),"Risco Alto",IF(AND(S14=3,AD14=5),"Risco Alto",IF(AND(S14=4,AD14=1),"Risco Baixo",IF(AND(S14=4,AD14=2),"Risco Moderado",IF(AND(S14=4,AD14=3),"Risco Alto",IF(AND(S14=4,AD14=4),"Risco Alto",IF(AND(S14=4,AD14=5),"Risco Extremo",IF(AND(S14=5,AD14=1),"Risco Moderado",IF(AND(S14=5,AD14=2),"Risco Moderado",IF(AND(S14=5,AD14=3),"Risco Alto",IF(AND(S14=5,AD14=4),"Risco Extremo",IF(AND(S14=5,AD14=5),"Risco Extremo",0))))))))))))))))))))))))) -> Risco Moderado | AG14: =IF(AND(AF14>0,AB14>0),AF14,"") -> Risco Moderado | AH14: Aceitar
A15: RC008 | B15: Gestão e fiscalização do contrato | C15: Risco do Contrato | D15: Fatores externos | E15: Custos adicionais para manutenção e operação de desvios de tráfego necessários a continuidade do fluxo de veículos na região da realização da pavimentação. | F15: Poderá ocorrer acréscimo dos custos operacionais | G15: Orçamentário/financeiro | H15: Aumento nos custos dos serviços | I15: Contratada | J15: 2- Baixa | K15: =IF(J15="1- Muito Baixa",1,IF(J15="2- Baixa",2,IF(J15="3- Média",3,IF(J15="4- Alta",4,IF(J15="5- Muito Alta",5,0))))) -> 2 | L15: =ROUNDUP(((K15+5)/2),0) -> 4 | M15: Pequeno | N15: Insignificante | O15: Insignificante | P15: Insignificante | Q15: Insignificante | R15: Pequeno | S15: =ROUNDUP(((IF(M15="pequeno",2,IF(M15="insignificante",1,IF(M15="moderado",3,IF(M15="Grande",4,IF(M15="Muito Grande",5,0)))))+IF(N15="pequeno",2,IF(N15="insignificante",1,IF(N15="moderado",3,IF(N15="Grande",4,IF(N15="Muito Grande",5,0)))))+IF(O15="pequeno",2,IF(O15="insignificante",1,IF(O15="moderado",3,IF(O15="Grande",4,IF(O15="Muito Grande",5,0)))))+IF(P15="pequeno",2,IF(P15="insignificante",1,IF(P15="moderado",3,IF(P15="Grande",4,IF(P15="Muito Grande",5,0)))))+IF(Q15="pequeno",2,IF(Q15="insignificante",1,IF(Q15="moderado",3,IF(Q15="Grande",4,IF(Q15="Muito Grande",5,0)))))+IF(R15="pequeno",2,IF(R15="insignificante",1,IF(R15="moderado",3,IF(R15="Grande",4,IF(R15="Muito Grande",5,0))))))/6),0) -> 2 | T15: =ROUNDUP(S15,0) -> 2 | U15: =IF(T15=1,"1- Insignificante",IF(T15=2,"2- Pequeno",IF(T15=3,"3- Moderado",IF(T15=4,"4- Grande",IF(T15=5,"5- Muito Grande",""))))) -> 2- Pequeno | V15: =U15 -> 2- Pequeno | W15: =ROUNDUP((((K15+5)/2)*S15),0) -> 7 | X15: =IF(AND(T15=1,L15=1),"Risco Baixo",IF(AND(S15=1,L15=2),"Risco Baixo",IF(AND(S15=1,L15=3),"Risco Baixo",IF(AND(S15=1,L15=4),"Risco Baixo",IF(AND(S15=1,L15=5),"Risco Moderado",IF(AND(S15=2,L15=1),"Risco Baixo",IF(AND(S15=2,L15=2),"Risco Baixo",IF(AND(S15=2,L15=3),"Risco Moderado",IF(AND(S15=2,L15=4),"Risco Moderado",IF(AND(S15=2,L15=5),"Risco Moderado",IF(AND(S15=3,L15=1),"Risco Baixo",IF(AND(S15=3,L15=2),"Risco Moderado",IF(AND(S15=3,L15=3),"Risco Moderado",IF(AND(S15=3,L15=4),"Risco Alto",IF(AND(S15=3,L15=5),"Risco Alto",IF(AND(S15=4,L15=1),"Risco Baixo",IF(AND(S15=4,L15=2),"Risco Moderado",IF(AND(S15=4,L15=3),"Risco Alto",IF(AND(S15=4,L15=4),"Risco Alto",IF(AND(S15=4,L15=5),"Risco Extremo",IF(AND(S15=5,L15=1),"Risco Moderado",IF(AND(S15=5,L15=2),"Risco Moderado",IF(AND(S15=5,L15=3),"Risco Alto",IF(AND(S15=5,L15=4),"Risco Extremo",IF(AND(S15=5,L15=5),"Risco Extremo",0))))))))))))))))))))))))) -> Risco Moderado | Y15: =IF(X15>0,X15,"") -> Risco Moderado | Z15: Maior rigor quanto ao detalhamento do projeto executivo, possibilitando o planejamento adequado e, por consequência, a correta execução da obra | AB15: Inexistente | AC15: =IF(AB15="Inexistente",5,IF(AB15="Fraco",4,IF(AB15="Mediano",3,IF(AB15="Satisfatório",2,IF(AB15="Forte",1))))) -> 5 | AD15: =ROUNDUP((AVERAGE(K15,AC15)),0) -> 4 | AE15: =(AVERAGE(K15,AC15))*T15 -> 7 | AF15: =IF(AND(S15=1,AD15=1),"Risco Baixo",IF(AND(S15=1, AD15=2),"Risco Baixo",IF(AND(S15=1,AD15=3),"Risco Baixo",IF(AND(S15=1,AD15=4),"Risco Baixo",IF(AND(S15=1,AD15=5),"Risco Moderado",IF(AND(S15=2,AD15=1),"Risco Baixo",IF(AND(S15=2,AD15=2),"Risco Baixo",IF(AND(S15=2,AD15=3),"Risco Moderado",IF(AND(S15=2,AD15=4),"Risco Moderado",IF(AND(S15=2,AD15=5),"Risco Moderado",IF(AND(S15=3,AD15=1),"Risco Baixo",IF(AND(S15=3,AD15=2),"Risco Moderado",IF(AND(S15=3,AD15=3),"Risco Moderado",IF(AND(S15=3,AD15=4),"Risco Alto",IF(AND(S15=3,AD15=5),"Risco Alto",IF(AND(S15=4,AD15=1),"Risco Baixo",IF(AND(S15=4,AD15=2),"Risco Moderado",IF(AND(S15=4,AD15=3),"Risco Alto",IF(AND(S15=4,AD15=4),"Risco Alto",IF(AND(S15=4,AD15=5),"Risco Extremo",IF(AND(S15=5,AD15=1),"Risco Moderado",IF(AND(S15=5,AD15=2),"Risco Moderado",IF(AND(S15=5,AD15=3),"Risco Alto",IF(AND(S15=5,AD15=4),"Risco Extremo",IF(AND(S15=5,AD15=5),"Risco Extremo",0))))))))))))))))))))))))) -> Risco Moderado | AG15: =IF(AND(AF15>0,AB15>0),AF15,"") -> Risco Moderado | AH15: Aceitar
A16: RC009 | B16: Gestão e fiscalização do contrato | C16: Risco do Contrato | D16: Fatores externos | E16: Custos associados ao remanejamento de elementos interferentes, como linhas de energia (redes de alta e baixa tensão) telecomunicações e saneamento, Dutos e Tubulações de Gás ou petróleo. | F16: Poderá ocorrer acréscimo dos custos operacionais | G16: Operacional | H16: Necessidade de celebração de aditivos contratuais | I16: Contratante | J16: 3- Média | K16: =IF(J16="1- Muito Baixa",1,IF(J16="2- Baixa",2,IF(J16="3- Média",3,IF(J16="4- Alta",4,IF(J16="5- Muito Alta",5,0))))) -> 3 | L16: =ROUNDUP(((K16+5)/2),0) -> 4 | M16: Grande | N16: Insignificante | O16: Insignificante | P16: Insignificante | Q16: Pequeno | R16: Grande | S16: =ROUNDUP(((IF(M16="pequeno",2,IF(M16="insignificante",1,IF(M16="moderado",3,IF(M16="Grande",4,IF(M16="Muito Grande",5,0)))))+IF(N16="pequeno",2,IF(N16="insignificante",1,IF(N16="moderado",3,IF(N16="Grande",4,IF(N16="Muito Grande",5,0)))))+IF(O16="pequeno",2,IF(O16="insignificante",1,IF(O16="moderado",3,IF(O16="Grande",4,IF(O16="Muito Grande",5,0)))))+IF(P16="pequeno",2,IF(P16="insignificante",1,IF(P16="moderado",3,IF(P16="Grande",4,IF(P16="Muito Grande",5,0)))))+IF(Q16="pequeno",2,IF(Q16="insignificante",1,IF(Q16="moderado",3,IF(Q16="Grande",4,IF(Q16="Muito Grande",5,0)))))+IF(R16="pequeno",2,IF(R16="insignificante",1,IF(R16="moderado",3,IF(R16="Grande",4,IF(R16="Muito Grande",5,0))))))/6),0) -> 3 | T16: =ROUNDUP(S16,0) -> 3 | U16: =IF(T16=1,"1- Insignificante",IF(T16=2,"2- Pequeno",IF(T16=3,"3- Moderado",IF(T16=4,"4- Grande",IF(T16=5,"5- Muito Grande",""))))) -> 3- Moderado | V16: =U16 -> 3- Moderado | W16: =ROUNDUP((((K16+5)/2)*S16),0) -> 12 | X16: =IF(AND(T16=1,L16=1),"Risco Baixo",IF(AND(S16=1,L16=2),"Risco Baixo",IF(AND(S16=1,L16=3),"Risco Baixo",IF(AND(S16=1,L16=4),"Risco Baixo",IF(AND(S16=1,L16=5),"Risco Moderado",IF(AND(S16=2,L16=1),"Risco Baixo",IF(AND(S16=2,L16=2),"Risco Baixo",IF(AND(S16=2,L16=3),"Risco Moderado",IF(AND(S16=2,L16=4),"Risco Moderado",IF(AND(S16=2,L16=5),"Risco Moderado",IF(AND(S16=3,L16=1),"Risco Baixo",IF(AND(S16=3,L16=2),"Risco Moderado",IF(AND(S16=3,L16=3),"Risco Moderado",IF(AND(S16=3,L16=4),"Risco Alto",IF(AND(S16=3,L16=5),"Risco Alto",IF(AND(S16=4,L16=1),"Risco Baixo",IF(AND(S16=4,L16=2),"Risco Moderado",IF(AND(S16=4,L16=3),"Risco Alto",IF(AND(S16=4,L16=4),"Risco Alto",IF(AND(S16=4,L16=5),"Risco Extremo",IF(AND(S16=5,L16=1),"Risco Moderado",IF(AND(S16=5,L16=2),"Risco Moderado",IF(AND(S16=5,L16=3),"Risco Alto",IF(AND(S16=5,L16=4),"Risco Extremo",IF(AND(S16=5,L16=5),"Risco Extremo",0))))))))))))))))))))))))) -> Risco Alto | Y16: =IF(X16>0,X16,"") -> Risco Alto | Z16: Analisar o projeto executivo e verificar a necessidade de celebração de aditivos contratuais e/ou diligências com órgãos competentes | AB16: Satisfatório | AC16: =IF(AB16="Inexistente",5,IF(AB16="Fraco",4,IF(AB16="Mediano",3,IF(AB16="Satisfatório",2,IF(AB16="Forte",1))))) -> 2 | AD16: =ROUNDUP((AVERAGE(K16,AC16)),0) -> 3 | AE16: =(AVERAGE(K16,AC16))*T16 -> 7.5 | AF16: =IF(AND(S16=1,AD16=1),"Risco Baixo",IF(AND(S16=1, AD16=2),"Risco Baixo",IF(AND(S16=1,AD16=3),"Risco Baixo",IF(AND(S16=1,AD16=4),"Risco Baixo",IF(AND(S16=1,AD16=5),"Risco Moderado",IF(AND(S16=2,AD16=1),"Risco Baixo",IF(AND(S16=2,AD16=2),"Risco Baixo",IF(AND(S16=2,AD16=3),"Risco Moderado",IF(AND(S16=2,AD16=4),"Risco Moderado",IF(AND(S16=2,AD16=5),"Risco Moderado",IF(AND(S16=3,AD16=1),"Risco Baixo",IF(AND(S16=3,AD16=2),"Risco Moderado",IF(AND(S16=3,AD16=3),"Risco Moderado",IF(AND(S16=3,AD16=4),"Risco Alto",IF(AND(S16=3,AD16=5),"Risco Alto",IF(AND(S16=4,AD16=1),"Risco Baixo",IF(AND(S16=4,AD16=2),"Risco Moderado",IF(AND(S16=4,AD16=3),"Risco Alto",IF(AND(S16=4,AD16=4),"Risco Alto",IF(AND(S16=4,AD16=5),"Risco Extremo",IF(AND(S16=5,AD16=1),"Risco Moderado",IF(AND(S16=5,AD16=2),"Risco Moderado",IF(AND(S16=5,AD16=3),"Risco Alto",IF(AND(S16=5,AD16=4),"Risco Extremo",IF(AND(S16=5,AD16=5),"Risco Extremo",0))))))))))))))))))))))))) -> Risco Moderado | AG16: =IF(AND(AF16>0,AB16>0),AF16,"") -> Risco Moderado | AH16: Aceitar
A17: RC010 | B17: Gestão e fiscalização do contrato | C17: Risco do Contrato | D17: Fatores externos | E17: Decisão arbitral, judicial ou administrativa que impeça ou impossibilite a CONTRATADA de executar fielmente suas obrigações contratuais, exceto nos casos em que a CONTRATADA houver dado causa a tal decisão. | F17: Poderá ocorrer descumprimento de instrumentos contratuais | G17: Legal | H17: Impossibilidade do cumprimento contratual, possível paralisação e rescisão contratual, | I17: Contratada | J17: 2- Baixa | K17: =IF(J17="1- Muito Baixa",1,IF(J17="2- Baixa",2,IF(J17="3- Média",3,IF(J17="4- Alta",4,IF(J17="5- Muito Alta",5,0))))) -> 2 | L17: =ROUNDUP(((K17+5)/2),0) -> 4 | M17: Muito Grande | N17: Moderado | O17: Moderado | P17: Moderado | Q17: Pequeno | R17: Moderado | S17: =ROUNDUP(((IF(M17="pequeno",2,IF(M17="insignificante",1,IF(M17="moderado",3,IF(M17="Grande",4,IF(M17="Muito Grande",5,0)))))+IF(N17="pequeno",2,IF(N17="insignificante",1,IF(N17="moderado",3,IF(N17="Grande",4,IF(N17="Muito Grande",5,0)))))+IF(O17="pequeno",2,IF(O17="insignificante",1,IF(O17="moderado",3,IF(O17="Grande",4,IF(O17="Muito Grande",5,0)))))+IF(P17="pequeno",2,IF(P17="insignificante",1,IF(P17="moderado",3,IF(P17="Grande",4,IF(P17="Muito Grande",5,0)))))+IF(Q17="pequeno",2,IF(Q17="insignificante",1,IF(Q17="moderado",3,IF(Q17="Grande",4,IF(Q17="Muito Grande",5,0)))))+IF(R17="pequeno",2,IF(R17="insignificante",1,IF(R17="moderado",3,IF(R17="Grande",4,IF(R17="Muito Grande",5,0))))))/6),0) -> 4 | T17: =ROUNDUP(S17,0) -> 4 | U17: =IF(T17=1,"1- Insignificante",IF(T17=2,"2- Pequeno",IF(T17=3,"3- Moderado",IF(T17=4,"4- Grande",IF(T17=5,"5- Muito Grande",""))))) -> 4- Grande | V17: =U17 -> 4- Grande | W17: =ROUNDUP((((K17+5)/2)*S17),0) -> 14 | X17: =IF(AND(T17=1,L17=1),"Risco Baixo",IF(AND(S17=1,L17=2),"Risco Baixo",IF(AND(S17=1,L17=3),"Risco Baixo",IF(AND(S17=1,L17=4),"Risco Baixo",IF(AND(S17=1,L17=5),"Risco Moderado",IF(AND(S17=2,L17=1),"Risco Baixo",IF(AND(S17=2,L17=2),"Risco Baixo",IF(AND(S17=2,L17=3),"Risco Moderado",IF(AND(S17=2,L17=4),"Risco Moderado",IF(AND(S17=2,L17=5),"Risco Moderado",IF(AND(S17=3,L17=1),"Risco Baixo",IF(AND(S17=3,L17=2),"Risco Moderado",IF(AND(S17=3,L17=3),"Risco Moderado",IF(AND(S17=3,L17=4),"Risco Alto",IF(AND(S17=3,L17=5),"Risco Alto",IF(AND(S17=4,L17=1),"Risco Baixo",IF(AND(S17=4,L17=2),"Risco Moderado",IF(AND(S17=4,L17=3),"Risco Alto",IF(AND(S17=4,L17=4),"Risco Alto",IF(AND(S17=4,L17=5),"Risco Extremo",IF(AND(S17=5,L17=1),"Risco Moderado",IF(AND(S17=5,L17=2),"Risco Moderado",IF(AND(S17=5,L17=3),"Risco Alto",IF(AND(S17=5,L17=4),"Risco Extremo",IF(AND(S17=5,L17=5),"Risco Extremo",0))))))))))))))))))))))))) -> Risco Alto | Y17: =IF(X17>0,X17,"") -> Risco Alto | Z17: Verificar junto à área jurídica os impactos da decisão na execução do instrumento | AB17: Mediano | AC17: =IF(AB17="Inexistente",5,IF(AB17="Fraco",4,IF(AB17="Mediano",3,IF(AB17="Satisfatório",2,IF(AB17="Forte",1))))) -> 3 | AD17: =ROUNDUP((AVERAGE(K17,AC17)),0) -> 3 | AE17: =(AVERAGE(K17,AC17))*T17 -> 10 | AF17: =IF(AND(S17=1,AD17=1),"Risco Baixo",IF(AND(S17=1, AD17=2),"Risco Baixo",IF(AND(S17=1,AD17=3),"Risco Baixo",IF(AND(S17=1,AD17=4),"Risco Baixo",IF(AND(S17=1,AD17=5),"Risco Moderado",IF(AND(S17=2,AD17=1),"Risco Baixo",IF(AND(S17=2,AD17=2),"Risco Baixo",IF(AND(S17=2,AD17=3),"Risco Moderado",IF(AND(S17=2,AD17=4),"Risco Moderado",IF(AND(S17=2,AD17=5),"Risco Moderado",IF(AND(S17=3,AD17=1),"Risco Baixo",IF(AND(S17=3,AD17=2),"Risco Moderado",IF(AND(S17=3,AD17=3),"Risco Moderado",IF(AND(S17=3,AD17=4),"Risco Alto",IF(AND(S17=3,AD17=5),"Risco Alto",IF(AND(S17=4,AD17=1),"Risco Baixo",IF(AND(S17=4,AD17=2),"Risco Moderado",IF(AND(S17=4,AD17=3),"Risco Alto",IF(AND(S17=4,AD17=4),"Risco Alto",IF(AND(S17=4,AD17=5),"Risco Extremo",IF(AND(S17=5,AD17=1),"Risco Moderado",IF(AND(S17=5,AD17=2),"Risco Moderado",IF(AND(S17=5,AD17=3),"Risco Alto",IF(AND(S17=5,AD17=4),"Risco Extremo",IF(AND(S17=5,AD17=5),"Risco Extremo",0))))))))))))))))))))))))) -> Risco Alto | AG17: =IF(AND(AF17>0,AB17>0),AF17,"") -> Risco Alto | AH17: Aceitar
A18: RC011 | B18: Fase preliminar da contratação - Planejamento | C18: Risco Institucional | D18: Fatores externos | E18: Indisponibilidade orçamentária para realização de licitação. | F18: Poderá ocorrer morosidade no processo e/ou atividade | G18: Orçamentário/financeiro | H18: Impossibilidade da contratação; Compromentimento do orçamento com outras contratações e aditivos. | I18: Contratante | J18: 2- Baixa | K18: =IF(J18="1- Muito Baixa",1,IF(J18="2- Baixa",2,IF(J18="3- Média",3,IF(J18="4- Alta",4,IF(J18="5- Muito Alta",5,0))))) -> 2 | L18: =ROUNDUP(((K18+5)/2),0) -> 4 | M18: Grande | N18: Pequeno | O18: Moderado | P18: Pequeno | Q18: Moderado | R18: Moderado | S18: =ROUNDUP(((IF(M18="pequeno",2,IF(M18="insignificante",1,IF(M18="moderado",3,IF(M18="Grande",4,IF(M18="Muito Grande",5,0)))))+IF(N18="pequeno",2,IF(N18="insignificante",1,IF(N18="moderado",3,IF(N18="Grande",4,IF(N18="Muito Grande",5,0)))))+IF(O18="pequeno",2,IF(O18="insignificante",1,IF(O18="moderado",3,IF(O18="Grande",4,IF(O18="Muito Grande",5,0)))))+IF(P18="pequeno",2,IF(P18="insignificante",1,IF(P18="moderado",3,IF(P18="Grande",4,IF(P18="Muito Grande",5,0)))))+IF(Q18="pequeno",2,IF(Q18="insignificante",1,IF(Q18="moderado",3,IF(Q18="Grande",4,IF(Q18="Muito Grande",5,0)))))+IF(R18="pequeno",2,IF(R18="insignificante",1,IF(R18="moderado",3,IF(R18="Grande",4,IF(R18="Muito Grande",5,0))))))/6),0) -> 3 | T18: =ROUNDUP(S18,0) -> 3 | U18: =IF(T18=1,"1- Insignificante",IF(T18=2,"2- Pequeno",IF(T18=3,"3- Moderado",IF(T18=4,"4- Grande",IF(T18=5,"5- Muito Grande",""))))) -> 3- Moderado | V18: =U18 -> 3- Moderado | W18: =ROUNDUP((((K18+5)/2)*S18),0) -> 11 | X18: =IF(AND(T18=1,L18=1),"Risco Baixo",IF(AND(S18=1,L18=2),"Risco Baixo",IF(AND(S18=1,L18=3),"Risco Baixo",IF(AND(S18=1,L18=4),"Risco Baixo",IF(AND(S18=1,L18=5),"Risco Moderado",IF(AND(S18=2,L18=1),"Risco Baixo",IF(AND(S18=2,L18=2),"Risco Baixo",IF(AND(S18=2,L18=3),"Risco Moderado",IF(AND(S18=2,L18=4),"Risco Moderado",IF(AND(S18=2,L18=5),"Risco Moderado",IF(AND(S18=3,L18=1),"Risco Baixo",IF(AND(S18=3,L18=2),"Risco Moderado",IF(AND(S18=3,L18=3),"Risco Moderado",IF(AND(S18=3,L18=4),"Risco Alto",IF(AND(S18=3,L18=5),"Risco Alto",IF(AND(S18=4,L18=1),"Risco Baixo",IF(AND(S18=4,L18=2),"Risco Moderado",IF(AND(S18=4,L18=3),"Risco Alto",IF(AND(S18=4,L18=4),"Risco Alto",IF(AND(S18=4,L18=5),"Risco Extremo",IF(AND(S18=5,L18=1),"Risco Moderado",IF(AND(S18=5,L18=2),"Risco Moderado",IF(AND(S18=5,L18=3),"Risco Alto",IF(AND(S18=5,L18=4),"Risco Extremo",IF(AND(S18=5,L18=5),"Risco Extremo",0))))))))))))))))))))))))) -> Risco Alto | Y18: =IF(X18>0,X18,"") -> Risco Alto | Z18: Acompanhamento dos tetos definidos pelo Orçamento; Repriorização faz contratações; Criação de rotina e de fluxo de identificação de eventos que podem comprometer o cumprimento do orçamento e do cronograma de desembolso da unidade. | AA18: Redução de valor de outros contatos/despesas para viabilizar o remanejamento orçamentário. | AB18: Mediano | AC18: =IF(AB18="Inexistente",5,IF(AB18="Fraco",4,IF(AB18="Mediano",3,IF(AB18="Satisfatório",2,IF(AB18="Forte",1))))) -> 3 | AD18: =ROUNDUP((AVERAGE(K18,AC18)),0) -> 3 | AE18: =(AVERAGE(K18,AC18))*T18 -> 7.5 | AF18: =IF(AND(S18=1,AD18=1),"Risco Baixo",IF(AND(S18=1, AD18=2),"Risco Baixo",IF(AND(S18=1,AD18=3),"Risco Baixo",IF(AND(S18=1,AD18=4),"Risco Baixo",IF(AND(S18=1,AD18=5),"Risco Moderado",IF(AND(S18=2,AD18=1),"Risco Baixo",IF(AND(S18=2,AD18=2),"Risco Baixo",IF(AND(S18=2,AD18=3),"Risco Moderado",IF(AND(S18=2,AD18=4),"Risco Moderado",IF(AND(S18=2,AD18=5),"Risco Moderado",IF(AND(S18=3,AD18=1),"Risco Baixo",IF(AND(S18=3,AD18=2),"Risco Moderado",IF(AND(S18=3,AD18=3),"Risco Moderado",IF(AND(S18=3,AD18=4),"Risco Alto",IF(AND(S18=3,AD18=5),"Risco Alto",IF(AND(S18=4,AD18=1),"Risco Baixo",IF(AND(S18=4,AD18=2),"Risco Moderado",IF(AND(S18=4,AD18=3),"Risco Alto",IF(AND(S18=4,AD18=4),"Risco Alto",IF(AND(S18=4,AD18=5),"Risco Extremo",IF(AND(S18=5,AD18=1),"Risco Moderado",IF(AND(S18=5,AD18=2),"Risco Moderado",IF(AND(S18=5,AD18=3),"Risco Alto",IF(AND(S18=5,AD18=4),"Risco Extremo",IF(AND(S18=5,AD18=5),"Risco Extremo",0))))))))))))))))))))))))) -> Risco Moderado | AG18: =IF(AND(AF18>0,AB18>0),AF18,"") -> Risco Moderado | AH18: Aceitar
A19: RC012 | B19: Gestão e fiscalização do contrato | C19: Risco do Contrato | D19: Fatores externos | E19: Divergências qualitativas inerentes à categoria de solos, verificadas durante a execução dos serviços, que ensejem a alteração na distribuição das estimativas de volumes escavados para cada categoria de solo, sem alteração do volume final escavado. | F19: Poderá ocorrer acréscimo dos custos operacionais | G19: Orçamentário/financeiro | H19: Atraso na execução da obra; Aumento nos custos dos serviços - necessidade de complementação orçamentária; Aditivo ao contrato. | I19: Contratante | J19: 3- Média | K19: =IF(J19="1- Muito Baixa",1,IF(J19="2- Baixa",2,IF(J19="3- Média",3,IF(J19="4- Alta",4,IF(J19="5- Muito Alta",5,0))))) -> 3 | L19: =ROUNDUP(((K19+5)/2),0) -> 4 | M19: Grande | N19: Pequeno | O19: Moderado | P19: Pequeno | Q19: Moderado | R19: Moderado | S19: =ROUNDUP(((IF(M19="pequeno",2,IF(M19="insignificante",1,IF(M19="moderado",3,IF(M19="Grande",4,IF(M19="Muito Grande",5,0)))))+IF(N19="pequeno",2,IF(N19="insignificante",1,IF(N19="moderado",3,IF(N19="Grande",4,IF(N19="Muito Grande",5,0)))))+IF(O19="pequeno",2,IF(O19="insignificante",1,IF(O19="moderado",3,IF(O19="Grande",4,IF(O19="Muito Grande",5,0)))))+IF(P19="pequeno",2,IF(P19="insignificante",1,IF(P19="moderado",3,IF(P19="Grande",4,IF(P19="Muito Grande",5,0)))))+IF(Q19="pequeno",2,IF(Q19="insignificante",1,IF(Q19="moderado",3,IF(Q19="Grande",4,IF(Q19="Muito Grande",5,0)))))+IF(R19="pequeno",2,IF(R19="insignificante",1,IF(R19="moderado",3,IF(R19="Grande",4,IF(R19="Muito Grande",5,0))))))/6),0) -> 3 | T19: =ROUNDUP(S19,0) -> 3 | U19: =IF(T19=1,"1- Insignificante",IF(T19=2,"2- Pequeno",IF(T19=3,"3- Moderado",IF(T19=4,"4- Grande",IF(T19=5,"5- Muito Grande",""))))) -> 3- Moderado | V19: =U19 -> 3- Moderado | W19: =ROUNDUP((((K19+5)/2)*S19),0) -> 12 | X19: =IF(AND(T19=1,L19=1),"Risco Baixo",IF(AND(S19=1,L19=2),"Risco Baixo",IF(AND(S19=1,L19=3),"Risco Baixo",IF(AND(S19=1,L19=4),"Risco Baixo",IF(AND(S19=1,L19=5),"Risco Moderado",IF(AND(S19=2,L19=1),"Risco Baixo",IF(AND(S19=2,L19=2),"Risco Baixo",IF(AND(S19=2,L19=3),"Risco Moderado",IF(AND(S19=2,L19=4),"Risco Moderado",IF(AND(S19=2,L19=5),"Risco Moderado",IF(AND(S19=3,L19=1),"Risco Baixo",IF(AND(S19=3,L19=2),"Risco Moderado",IF(AND(S19=3,L19=3),"Risco Moderado",IF(AND(S19=3,L19=4),"Risco Alto",IF(AND(S19=3,L19=5),"Risco Alto",IF(AND(S19=4,L19=1),"Risco Baixo",IF(AND(S19=4,L19=2),"Risco Moderado",IF(AND(S19=4,L19=3),"Risco Alto",IF(AND(S19=4,L19=4),"Risco Alto",IF(AND(S19=4,L19=5),"Risco Extremo",IF(AND(S19=5,L19=1),"Risco Moderado",IF(AND(S19=5,L19=2),"Risco Moderado",IF(AND(S19=5,L19=3),"Risco Alto",IF(AND(S19=5,L19=4),"Risco Extremo",IF(AND(S19=5,L19=5),"Risco Extremo",0))))))))))))))))))))))))) -> Risco Alto | Y19: =IF(X19>0,X19,"") -> Risco Alto | Z19: Exigência de ART - Projetista. Análise e aprovação do projeto. | AA19: Empresa projetista realiza ajustes necessários. | AB19: Mediano | AC19: =IF(AB19="Inexistente",5,IF(AB19="Fraco",4,IF(AB19="Mediano",3,IF(AB19="Satisfatório",2,IF(AB19="Forte",1))))) -> 3 | AD19: =ROUNDUP((AVERAGE(K19,AC19)),0) -> 3 | AE19: =(AVERAGE(K19,AC19))*T19 -> 9 | AF19: =IF(AND(S19=1,AD19=1),"Risco Baixo",IF(AND(S19=1, AD19=2),"Risco Baixo",IF(AND(S19=1,AD19=3),"Risco Baixo",IF(AND(S19=1,AD19=4),"Risco Baixo",IF(AND(S19=1,AD19=5),"Risco Moderado",IF(AND(S19=2,AD19=1),"Risco Baixo",IF(AND(S19=2,AD19=2),"Risco Baixo",IF(AND(S19=2,AD19=3),"Risco Moderado",IF(AND(S19=2,AD19=4),"Risco Moderado",IF(AND(S19=2,AD19=5),"Risco Moderado",IF(AND(S19=3,AD19=1),"Risco Baixo",IF(AND(S19=3,AD19=2),"Risco Moderado",IF(AND(S19=3,AD19=3),"Risco Moderado",IF(AND(S19=3,AD19=4),"Risco Alto",IF(AND(S19=3,AD19=5),"Risco Alto",IF(AND(S19=4,AD19=1),"Risco Baixo",IF(AND(S19=4,AD19=2),"Risco Moderado",IF(AND(S19=4,AD19=3),"Risco Alto",IF(AND(S19=4,AD19=4),"Risco Alto",IF(AND(S19=4,AD19=5),"Risco Extremo",IF(AND(S19=5,AD19=1),"Risco Moderado",IF(AND(S19=5,AD19=2),"Risco Moderado",IF(AND(S19=5,AD19=3),"Risco Alto",IF(AND(S19=5,AD19=4),"Risco Extremo",IF(AND(S19=5,AD19=5),"Risco Extremo",0))))))))))))))))))))))))) -> Risco Moderado | AG19: =IF(AND(AF19>0,AB19>0),AF19,"") -> Risco Moderado | AH19: Aceitar
