Workbook
Name \0: #N/A
Name \A: #REF!
Name \A: #REF!
Name \B: #REF!
Name \B: #REF!
Name \C: #REF!
Name \C: #REF!
Name \e: #N/A
Name \I: #REF!
Name \I: #REF!
Name \J: #REF!
Name \J: #REF!
Name \O: #REF!
Name \O: #REF!
Name \P: #REF!
Name \P: #REF!
Name ___\i: #REF!
Name _________aga14: #REF!
Name _________aga16: #REF!
Name _________asc321: #REF!
Name _________bur3220: #REF!
Name _________cap20: #REF!
Name _________ccr12: #REF!
Name _________cva32: #REF!
Name _________cva50: #REF!
Name _________cva60: #REF!
Name _________cve45100: #REF!
Name _________cve90100: #REF!
Name _________cve9040: #REF!
Name _________djm10: #REF!
Name _________djm15: #REF!
Name _________epl2: #REF!
Name _________epl5: #REF!
Name _________est15: #REF!
Name _________fil1: #REF!
Name _________fil2: #REF!
Name _________fio12: #REF!
Name _________fis5: #REF!
Name _________flf50: #REF!
Name _________flf60: #REF!
Name _________fpd12: #REF!
Name _________fvr10: #REF!
Name _________itu1: #REF!
Name _________jla20: #REF!
Name _________jla32: #REF!
Name _________lpi100: #REF!
Name _________lvg10060: #REF!
Name _________lvp32: #REF!
Name _________lxa1: #REF!
Name _________man50: #REF!
Name _________ope1: #REF!
Name _________ope2: #REF!
Name _________ope3: #REF!
Name _________pne1: #REF!
Name _________pne2: #REF!
Name _________prg1515: #REF!
Name _________prg1827: #REF!
Name _________ptc7: #REF!
Name _________ptm6: #REF!
Name _________qdm3: #REF!

Sheet Resumo
C1: SINAPI AL: | D1: 03/2024 | E1: BDI : | F1: 0.2649
C2: SICRO AL: | D2: 01/2024 | E2: BDI Diferenciado: | F2: 0.15
C3: ORSE: | D3: 02/2024
C4: EMBASA: | D4: 01/2024
A5: Contratação de empresa para execução da 2ª Etapa das obras de pavimentação e drenagem da AL 485, que liga o município de São Sebastião/AL ao de Feira Grande/AL.
A6: ITEM | B6: DESCRIÇÃO | E6: VALOR R$ | F6: PESO %
A7: 1 | B7: MOBILIZAÇÃO E DESMOBILIZAÇÃO | E7: =VLOOKUP(A7,'Planilha Orçamentária'!$A$9:$J$110,10) -> 33432.926 | F7: =E7/$E$17 -> 0.00079213892
A8: 2 | B8: ADMINISTRAÇÃO DE OBRA | E8: =VLOOKUP(A8,'Planilha Orçamentária'!$A$9:$J$110,10) -> 2128799.1 | F8: =E8/$E$17 -> 0.050438439
A9: 3 | B9: PROJETO EXECUTIVO | E9: =VLOOKUP(A9,'Planilha Orçamentária'!$A$9:$J$110,10) -> 991065.05 | F9: =E9/$E$17 -> 0.023481678
A10: 4 | B10: CANTEIRO DE OBRA | E10: =VLOOKUP(A10,'Planilha Orçamentária'!$A$9:$J$110,10) -> 100827.3 | F10: =E10/$E$17 -> 0.0023889393
A11: 5 | B11: SERVIÇOS PRELIMINARES | E11: =VLOOKUP(A11,'Planilha Orçamentária'!$A$9:$J$110,10) -> 12113.565 | F11: =E11/$E$17 -> 0.00028701127
A12: 6 | B12: SERVIÇOS DE DRENAGEM | E12: =VLOOKUP(A12,'Planilha Orçamentária'!$A$9:$J$110,10) -> 4874312.7 | F12: =E12/$E$17 -> 0.11548893
A13: 7 | B13: SERVIÇOS DE TERRAPLENAGEM | E13: =VLOOKUP(A13,'Planilha Orçamentária'!$A$9:$J$110,10) -> 14003273 | F13: =E13/$E$17 -> 0.33178484
A14: 8 | B14: SERVIÇOS DE PAVIMENTAÇÃO | E14: =VLOOKUP(A14,'Planilha Orçamentária'!$A$9:$J$110,10) -> 15516392 | F14: =E14/$E$17 -> 0.36763572
A15: 9 | B15: SERVIÇOS DE SINALIZAÇÃO | E15: =VLOOKUP(A15,'Planilha Orçamentária'!$A$9:$J$110,10) -> 667655.76 | F15: =E15/$E$17 -> 0.01581902
A16: 10 | B16: OBRAS COMPLEMENTARES | E16: =VLOOKUP(A16,'Planilha Orçamentária'!$A$9:$J$110,10) -> 3878015.8 | F16: =E16/$E$17 -> 0.091883291
D17: VALOR TOTAL: | E17: =SUM(E7:E16) -> 42205887

Sheet Planilha Orçamentária
I1: SINAPI AL: | J1: 03/2024 | K1: BDI : | L1: 0.2649
I2: SICRO AL: | J2: 01/2024 | K2: BDI Diferenciado: | L2: 0.15
I3: ORSE: | J3: 02/2024
I4: EMBASA: | J4: 01/2024
A5: Contratação de empresa para execução da 2ª Etapa das obras de pavimentação e drenagem da AL 485, que liga o município de São Sebastião/AL ao de Feira Grande/AL.
A7: ITEM | B7: CÓDIGO | C7: DESCRIÇÃO | D7: FONTE | E7: UNID | F7: QUANTIDADE | G7: PREÇO UNITÁRIO R$ | J7: PREÇO TOTAL R$ | K7: BDI | L7: PESO
G8: SEM BDI | H8: BDI | I8: COM BDI | O8: BASE | P8: PREÇO | Q8: QTDE
A9: 1 | B9: MOBILIZAÇÃO E DESMOBILIZAÇÃO | J9: =SUM(J10:J11) -> 33432.926 | L9: =(J9/$J$114)*100 -> 0.079213892 | M9: x | Q9: =H9*F9 -> 0
A10: 1.1 | B10: COMP-42893817 | C10: MOBILIZAÇÃO DE EQUIPAMENTOS DE MACEIÓ ( ACESSO AL - 485 SÃO SEBASTIÃO - FEIRA GRANDE - REV02) | D10: Composições Próprias | E10: UN | F10: 1 | G10: =SUMIF('Comp próprias'!A:A,B10,'Comp próprias'!J:J) -> 13215.64 | H10: =(G10*K10)/100 -> 3500.823 | I10: =SUM(G10:H10) -> 16716.463 | J10: =F10*I10 -> 16716.463 | K10: 26.49 | L10: =(J10/$J$114)*100 -> 0.039606946 | M10: =J10-(G10*F10) -> 3500.823 | N10: =(J10/(G10*F10))-1 -> 0.2649 | R10: =H10*F10 -> 3500.823
A11: 1.2 | B11: COMP-39510826 | C11: DESMOBILIZAÇÃO DE EQUIPAMENTOS DE MACEIÓ ( ACESSO AL - 485 SÃO SEBASTIÃO - FEIRA GRANDE - REV02) | D11: Composições Próprias | E11: UN | F11: 1 | G11: =SUMIF('Comp próprias'!A:A,B11,'Comp próprias'!J:J) -> 13215.64 | H11: =(G11*K11)/100 -> 3500.823 | I11: =SUM(G11:H11) -> 16716.463 | J11: =F11*I11 -> 16716.463 | K11: 26.49 | L11: =(J11/$J$114)*100 -> 0.039606946 | M11: =J11-(G11*F11) -> 3500.823 | N11: =(J11/(G11*F11))-1 -> 0.2649 | R11: =H11*F11 -> 3500.823
A12: 2 | B12: ADMINISTRAÇÃO DE OBRA | J12: =J13 -> 2128799.1 | L12: =(J12/$J$114)*100 -> 5.0438439 | M12: x | Q12: =H12*F12 -> 0
A13: 2.1 | B13: COMP-52766000 | C13: ADMINISTRAÇÃO LOCAL DE OBRA - INCLUINDO EXAMES, ALIMENTAÇÃO E SEGURO (SÃO SEBASTIÃO) | D13: Composições Próprias | E13: UND | F13: 1 | G13: =SUMIF('Comp próprias'!A:A,B13,'Comp próprias'!J:J) -> 1682978.2 | H13: =(G13*K13)/100 -> 445820.91 | I13: =SUM(G13:H13) -> 2128799.1 | J13: =F13*I13 -> 2128799.1 | K13: 26.49 | L13: =(J13/$J$114)*100 -> 5.0438439 | M13: =J13-(G13*F13) -> 445820.91 | N13: =(J13/(G13*F13))-1 -> 0.2649 | R13: =H13*F13 -> 445820.91
A14: 3 | B14: PROJETO EXECUTIVO | J14: =J15 -> 991065.05 | L14: =(J14/$J$114)*100 -> 2.3481678 | M14: x
A15: 3.1 | B15: COMP-00428179 | C15: PROJETOS EXECUTIVOS OBRA DE GRANDE PORTE - PAVIMENTAÇÃO E DRENAGEM.REV | D15: Composições Próprias | E15: UN | F15: 1 | G15: =SUMIF('Comp próprias'!A:A,B15,'Comp próprias'!J:J) -> 783512.57 | H15: =(G15*K15)/100 -> 207552.48 | I15: =SUM(G15:H15) -> 991065.05 | J15: =F15*I15 -> 991065.05 | K15: 26.49 | L15: =(J15/$J$114)*100 -> 2.3481678 | M15: =J15-(G15*F15) -> 207552.48 | N15: =(J15/(G15*F15))-1 -> 0.2649 | R15: =H15*F15 -> 207552.48
A16: 4 | B16: CANTEIRO DE OBRA | J16: =SUM(J17:J22) -> 100827.3 | L16: =(J16/$J$114)*100 -> 0.23889393 | M16: x
A17: 4.1 | B17: 104896 | C17: COMPOSIÇÃO PARAMÉTRICA DE EXECUÇÃO DE REFEITÓRIO EM CANTEIRO DE OBRAS, FORA DA PROJEÇÃO DA LAJE, EM CHAPA DE MADEIRA COMPENSADA, NÃO INCLUSO MOBILIÁRIO E EQUIPAMENTOS. AF_01/2024_PE | D17: SINAPI 02/2024 | E17: M2 | F17: 20 | G17: 750.9 | H17: =(G17*K17)/100 -> 198.91341 | I17: =SUM(G17:H17) -> 949.81341 | J17: =F17*I17 -> 18996.268 | K17: 26.49 | L17: =(J17/$J$114)*100 -> 0.045008575 | M17: =J17-(G17*F17) -> 3978.2682 | N17: =(J17/(G17*F17))-1 -> 0.2649 | O17: SINAPI | R17: =H17*F17 -> 3978.2682
A18: 4.2 | B18: 104893 | C18: COMPOSIÇÃO PARAMÉTRICA DE EXECUÇÃO DE ESCRITÓRIO EM CANTEIRO DE OBRAS, FORA DA PROJEÇÃO DA LAJE, EM ALVENARIA, NÃO INCLUSO MOBILIÁRIO E EQUIPAMENTOS. AF_01/2024_PE | D18: SINAPI 02/2024 | E18: M2 | F18: 12 | G18: 1158.3 | H18: =(G18*K18)/100 -> 306.83367 | I18: =SUM(G18:H18) -> 1465.1337 | J18: =F18*I18 -> 17581.604 | K18: 26.49 | L18: =(J18/$J$114)*100 -> 0.041656757 | M18: =J18-(G18*F18) -> 3682.004 | N18: =(J18/(G18*F18))-1 -> 0.2649 | O18: SINAPI | R18: =H18*F18 -> 3682.004
A19: 4.3 | B19: 104897 | C19: COMPOSIÇÃO PARAMÉTRICA DE EXECUÇÃO DE SANITÁRIO E VESTIÁRIO EM CANTEIRO DE OBRAS, FORA DA PROJEÇÃO DA LAJE, EM CHAPA DE MADEIRA COMPENSADA, NÃO INCLUSO MOBILIÁRIO. AF_01/2024_PE | D19: SINAPI 02/2024 | E19: M2 | F19: 12 | G19: 1025.01 | H19: =(G19*K19)/100 -> 271.52515 | I19: =SUM(G19:H19) -> 1296.5351 | J19: =F19*I19 -> 15558.422 | K19: 26.49 | L19: =(J19/$J$114)*100 -> 0.036863155 | M19: =J19-(G19*F19) -> 3258.3018 | N19: =(J19/(G19*F19))-1 -> 0.2649 | O19: SINAPI | R19: =H19*F19 -> 3258.3018
A20: 4.4 | B20: 104895 | C20: COMPOSIÇÃO PARAMÉTRICA DE EXECUÇÃO DE ALMOXARIFADO EM CANTEIRO DE OBRAS, FORA DA PROJEÇÃO DA LAJE, EM CHAPA DE MADEIRA COMPENSADA, NÃO INCLUSO MOBILIÁRIO E EQUIPAMENTOS. AF_01/2024_PE | D20: SINAPI 02/2024 | E20: M2 | F20: 12 | G20: 731.23 | H20: =(G20*K20)/100 -> 193.70283 | I20: =SUM(G20:H20) -> 924.93283 | J20: =F20*I20 -> 11099.194 | K20: 26.49 | L20: =(J20/$J$114)*100 -> 0.026297739 | M20: =J20-(G20*F20) -> 2324.4339 | N20: =(J20/(G20*F20))-1 -> 0.2649 | O20: SINAPI | R20: =H20*F20 -> 2324.4339
A21: 4.5 | B21: 98459 | C21: TAPUME COM TELHA METÁLICA. AF_05/2018 | D21: SINAPI | E21: M2 | F21: 240 | G21: =IFERROR(VLOOKUP(B21,'SINAPI COMP AL'!$G:$L,5,FALSE),VLOOKUP(B21,'SINAPI INS AL'!#REF!,5,FALSE)) -> 89.83 | H21: =(G21*K21)/100 -> 23.795967 | I21: =SUM(G21:H21) -> 113.62597 | J21: =F21*I21 -> 27270.232 | K21: 26.49 | L21: =(J21/$J$114)*100 -> 0.064612389 | M21: =J21-(G21*F21) -> 5711.0321 | N21: =(J21/(G21*F21))-1 -> 0.2649 | O21: SINAPI | R21: =H21*F21 -> 5711.0321
A22: 4.6 | B22: CP-01.10.01-53334570 | C22: BANHEIRO QUIMICO 110X120X230CM COM MANUTENCAO | D22: Composições Próprias | E22: MES | F22: 12 | G22: =SUMIF('Comp próprias'!A:A,B22,'Comp próprias'!J:J) -> 680 | H22: =(G22*K22)/100 -> 180.132 | I22: =SUM(G22:H22) -> 860.132 | J22: =F22*I22 -> 10321.584 | K22: 26.49 | L22: =(J22/$J$114)*100 -> 0.024455318 | M22: =J22-(G22*F22) -> 2161.584 | N22: =(J22/(G22*F22))-1 -> 0.2649 | R22: =H22*F22 -> 2161.584
A23: 5 | B23: SERVIÇOS PRELIMINARES | J23: =SUM(J24:J27) -> 12113.565 | L23: =(J23/$J$114)*100 -> 0.028701127 | M23: x | Q23: =H23*F23 -> 0
A24: 5.1 | B24: CP-103689-80233409 | C24: FORNECIMENTO E INSTALAÇÃO DE PLACA DE OBRA COM CHAPA GALVANIZADA E ESTRUTURA DE MADEIRA COM SUPORTE DE FIXAÇÃO. AF_03/2022_PS | D24: Composições Próprias | E24: M2 | F24: 12 | G24: =SUMIF('Comp próprias'!A:A,B24,'Comp próprias'!J:J) -> 357.53301 | H24: =(G24*K24)/100 -> 94.710494 | I24: =SUM(G24:H24) -> 452.2435 | J24: =F24*I24 -> 5426.922 | K24: 26.49 | L24: =(J24/$J$114)*100 -> 0.012858211 | M24: =J24-(G24*F24) -> 1136.5259 | N24: =(J24/(G24*F24))-1 -> 0.2649 | R24: =H24*F24 -> 1136.5259
A25: 5.2 | B25: COMP-40581667 | C25: Ligação Predial de Água no Passeio em 1 1/2", com fornecimento do material, inclusive hidrômetro de 20m3/h e caixa de proteção c/tampa de concreto - REV.04 - 09/2023 | D25: Composições Próprias | E25: un | F25: 1 | G25: =SUMIF('Comp próprias'!A:A,B25,'Comp próprias'!J:J) -> 467.0859 | H25: =(G25*K25)/100 -> 123.73105 | I25: =SUM(G25:H25) -> 590.81695 | J25: =F25*I25 -> 590.81695 | K25: 26.49 | L25: =(J25/$J$114)*100 -> 0.0013998449 | M25: =J25-(G25*F25) -> 123.73105 | N25: =(J25/(G25*F25))-1 -> 0.2649 | R25: =H25*F25 -> 123.73105
A26: 5.3 | B26: CP-4488-S09416.01 | C26: Instalação provisória de energia elétrica, aerea, trifasica, em poste de concreto, exclusive fornecimento do medidor REV.01(1O/2021) | D26: Composições Próprias | E26: un | F26: 1 | G26: =SUMIF('Comp próprias'!A:A,B26,'Comp próprias'!J:J) -> 2620.246 | H26: =(G26*K26)/100 -> 694.10318 | I26: =SUM(G26:H26) -> 3314.3492 | J26: =F26*I26 -> 3314.3492 | K26: 26.49 | L26: =(J26/$J$114)*100 -> 0.0078528126 | M26: =J26-(G26*F26) -> 694.10318 | N26: =(J26/(G26*F26))-1 -> 0.2649 | R26: =H26*F26 -> 694.10318
A27: 5.4 | B27: CP-0401-73658.01 | C27: LIGAÇÃO DOMICILIAR DE ESGOTO DN 100MM, DA CASA ATÉ A CAIXA, COMPOSTO POR 30,0M TUBO DE PVC ESGOTO PREDIAL DN 100MM E CAIXA DE ALVENARIA COM TAMPA DE CONCRETO - FORNECIMENTO E INSTALAÇÃO. REV.01(10/2021) | D27: Composições Próprias | E27: UN | F27: 1 | G27: =SUMIF('Comp próprias'!A:A,B27,'Comp próprias'!J:J) -> 2198.97 | H27: =(G27*K27)/100 -> 582.50715 | I27: =SUM(G27:H27) -> 2781.4772 | J27: =F27*I27 -> 2781.4772 | K27: 26.49 | L27: =(J27/$J$114)*100 -> 0.0065902587 | M27: =J27-(G27*F27) -> 582.50715 | N27: =(J27/(G27*F27))-1 -> 0.2649 | R27: =H27*F27 -> 582.50715
A28: 6 | B28: SERVIÇOS DE DRENAGEM | J28: =SUM(J29:J57) -> 4874312.7 | L28: =(J28/$J$114)*100 -> 11.548893 | M28: x | Q28: =H28*F28 -> 0
A29: 6.1 | B29: COMP-34042959 | C29: Locação topográfica com nivelamento, inclusive conferências. REV01 | D29: Composições Próprias | E29: m | F29: 129.08 | G29: =SUMIF('Comp próprias'!A:A,B29,'Comp próprias'!J:J) -> 6.6447488 | H29: =(G29*K29)/100 -> 1.760194 | I29: =SUM(G29:H29) -> 8.4049428 | J29: =F29*I29 -> 1084.91 | K29: 26.49 | L29: =(J29/$J$114)*100 -> 0.0025705182 | M29: =J29-(G29*F29) -> 227.20584 | N29: =(J29/(G29*F29))-1 -> 0.2649 | R29: =H29*F29 -> 227.20584
A30: 6.2 | B30: 97087 | C30: CAMADA SEPARADORA PARA EXECUÇÃO DE RADIER, PISO DE CONCRETO OU LAJE SOBRE SOLO, EM LONA PLÁSTICA. AF_09/2021 | D30: SINAPI | E30: M2 | F30: 403.95 | G30: =IFERROR(VLOOKUP(B30,'SINAPI COMP AL'!$G:$L,5,FALSE),VLOOKUP(B30,'SINAPI INS AL'!#REF!,5,FALSE)) -> 3.14 | H30: =(G30*K30)/100 -> 0.831786 | I30: =SUM(G30:H30) -> 3.971786 | J30: =F30*I30 -> 1604.403 | K30: 26.49 | L30: =(J30/$J$114)*100 -> 0.0038013724 | M30: =J30-(G30*F30) -> 335.99995 | N30: =(J30/(G30*F30))-1 -> 0.2649 | O30: SINAPI | R30: =H30*F30 -> 335.99995
A31: 6.3 | B31: CP-83669-69386331 | C31: FORNECIMENTO/INSTALACAO MANTA BIDIM RT-16 | D31: Composições Próprias | E31: M2 | F31: 47.22 | G31: =SUMIF('Comp próprias'!A:A,B31,'Comp próprias'!J:J) -> 18.7416 | H31: =(G31*K31)/100 -> 4.9646498 | I31: =SUM(G31:H31) -> 23.70625 | J31: =F31*I31 -> 1119.4091 | K31: 26.49 | L31: =(J31/$J$114)*100 -> 0.0026522582 | M31: =J31-(G31*F31) -> 234.43077 | N31: =(J31/(G31*F31))-1 -> 0.2649 | R31: =H31*F31 -> 234.43077
A32: 6.4 | B32: 1109669 | C32: Argamassa de cimento e areia 1:3 - confecção em betoneira e lançamento manual - areia comercial | D32: SICRO NOVO | E32: m³ | F32: 0.77 | G32: =VLOOKUP(B32,SICRO!$A:$D,4,FALSE) -> 444.49 | H32: =(G32*K32)/100 -> 117.7454 | I32: =SUM(G32:H32) -> 562.2354 | J32: =F32*I32 -> 432.92126 | K32: 26.49 | L32: =(J32/$J$114)*100 -> 0.0010257367 | M32: =J32-(G32*F32) -> 90.663959 | N32: =(J32/(G32*F32))-1 -> 0.2649 | O32: sicro 01/24 | P32: revisado | R32: =H32*F32 -> 90.663959
A33: 6.5 | B33: 1106380 | C33: Concreto para bombeamento fck = 25 MPa - confecção em central dosadora de 30 m³/h - areia e brita comerciais | D33: SICRO NOVO | E33: m³ | F33: 48.46 | G33: =VLOOKUP(B33,SICRO!$A:$D,4,FALSE) -> 399.57 | H33: =(G33*K33)/100 -> 105.84609 | I33: =SUM(G33:H33) -> 505.41609 | J33: =F33*I33 -> 24492.464 | K33: 26.49 | L33: =(J33/$J$114)*100 -> 0.058030918 | M33: =J33-(G33*F33) -> 5129.3017 | N33: =(J33/(G33*F33))-1 -> 0.2649 | O33: sicro 01/24 | P33: revisado | R33: =H33*F33 -> 5129.3017
A34: 6.6 | B34: 1106128 | C34: Lançamento mecânico de concreto com bomba rebocável com capacidade de 41 m³/h - confecção em central dosadora de 40 m³/h | D34: SICRO NOVO | E34: m³ | F34: 48.46 | G34: =VLOOKUP(B34,SICRO!$A:$D,4,FALSE) -> 45.54 | H34: =(G34*K34)/100 -> 12.063546 | I34: =SUM(G34:H34) -> 57.603546 | J34: =F34*I34 -> 2791.4678 | K34: 26.49 | L34: =(J34/$J$114)*100 -> 0.00661393 | M34: =J34-(G34*F34) -> 584.59944 | N34: =(J34/(G34*F34))-1 -> 0.2649 | O34: sicro 01/24 | P34: revisado | R34: =H34*F34 -> 584.59944
A35: 6.7 | B35: 1100657 | C35: Adensamento de concreto por vibrador de imersão | D35: SICRO NOVO | E35: m³ | F35: 48.46 | G35: =VLOOKUP(B35,SICRO!$A:$D,4,FALSE) -> 3.09 | H35: =(G35*K35)/100 -> 0.818541 | I35: =SUM(G35:H35) -> 3.908541 | J35: =F35*I35 -> 189.4079 | K35: 26.49 | L35: =(J35/$J$114)*100 -> 0.00044877127 | M35: =J35-(G35*F35) -> 39.666497 | N35: =(J35/(G35*F35))-1 -> 0.2649 | O35: sicro 01/24 | P35: revisado | R35: =H35*F35 -> 39.666497
A36: 6.8 | B36: COMP-38003026 | C36: Forma metálica curva para pré-moldados, em chapa e perfis de aço, 60 usos (REV01) | D36: Composições Próprias | E36: m2 | F36: 403.84 | G36: =SUMIF('Comp próprias'!A:A,B36,'Comp próprias'!J:J) -> 55.48033 | H36: =(G36*K36)/100 -> 14.696739 | I36: =SUM(G36:H36) -> 70.177069 | J36: =F36*I36 -> 28340.308 | K36: 26.49 | L36: =(J36/$J$114)*100 -> 0.06714776 | M36: =J36-(G36*F36) -> 5935.1312 | N36: =(J36/(G36*F36))-1 -> 0.2649 | R36: =H36*F36 -> 5935.1312
A37: 6.9 | B37: 407820 | C37: Armação em aço CA-60 - fornecimento, preparo e colocação | D37: SICRO NOVO | E37: kg | F37: 1036.69 | G37: =VLOOKUP(B37,SICRO!$A:$D,4,FALSE) -> 13.31 | H37: =(G37*K37)/100 -> 3.525819 | I37: =SUM(G37:H37) -> 16.835819 | J37: =F37*I37 -> 17453.525 | K37: 26.49 | L37: =(J37/$J$114)*100 -> 0.041353295 | M37: =J37-(G37*F37) -> 3655.1813 | N37: =(J37/(G37*F37))-1 -> 0.2649 | O37: sicro 01/24 | P37: revisado | R37: =H37*F37 -> 3655.1813
A38: 6.10 | B38: 407819 | C38: Armação em aço CA-50 - fornecimento, preparo e colocação | D38: SICRO NOVO | E38: kg | F38: 2507.23 | G38: =VLOOKUP(B38,SICRO!$A:$D,4,FALSE) -> 11.96 | H38: =(G38*K38)/100 -> 3.168204 | I38: =SUM(G38:H38) -> 15.128204 | J38: =F38*I38 -> 37929.887 | K38: 26.49 | L38: =(J38/$J$114)*100 -> 0.089868711 | M38: =J38-(G38*F38) -> 7943.4161 | N38: =(J38/(G38*F38))-1 -> 0.2649 | O38: sicro 01/24 | P38: revisado | R38: =H38*F38 -> 7943.4161
A39: 6.11 | B39: 705261 | C39: Corpo de BDCC 1,50 x 1,50 m - moldado no local - altura do aterro 2,50 a 5,00 m - areia e brita comerciais | D39: SICRO NOVO | E39: m | F39: 35.04 | G39: =VLOOKUP(B39,SICRO!$A:$D,4,FALSE) -> 3578.82 | H39: =(G39*K39)/100 -> 948.02942 | I39: =SUM(G39:H39) -> 4526.8494 | J39: =F39*I39 -> 158620.8 | K39: 26.49 | L39: =(J39/$J$114)*100 -> 0.37582625 | M39: =J39-(G39*F39) -> 33218.951 | N39: =(J39/(G39*F39))-1 -> 0.2649 | O39: sicro 01/24 | P39: revisado | R39: =H39*F39 -> 33218.951
A40: 6.12 | B40: 705259 | C40: Corpo de BDCC 1,50 x 1,50 m - moldado no local - altura do aterro 1,00 a 2,50 m - areia e brita comerciais | D40: SICRO NOVO | E40: m | F40: 28.82 | G40: =VLOOKUP(B40,SICRO!$A:$D,4,FALSE) -> 3349.69 | H40: =(G40*K40)/100 -> 887.33288 | I40: =SUM(G40:H40) -> 4237.0229 | J40: =F40*I40 -> 122111 | K40: 26.49 | L40: =(J40/$J$114)*100 -> 0.2893222 | M40: =J40-(G40*F40) -> 25572.934 | N40: =(J40/(G40*F40))-1 -> 0.2649 | O40: sicro 01/24 | P40: revisado | R40: =H40*F40 -> 25572.934
A41: 6.13 | B41: 705348 | C41: Corpo de BTCC 1,50 x 1,50 m - moldado no local - altura do aterro 1,00 a 2,50 m - areia e brita comerciais | D41: SICRO NOVO | E41: m | F41: 16.84 | G41: =VLOOKUP(B41,SICRO!$A:$D,4,FALSE) -> 4750.72 | H41: =(G41*K41)/100 -> 1258.4657 | I41: =SUM(G41:H41) -> 6009.1857 | J41: =F41*I41 -> 101194.69 | K41: 26.49 | L41: =(J41/$J$114)*100 -> 0.23976439 | M41: =J41-(G41*F41) -> 21192.563 | N41: =(J41/(G41*F41))-1 -> 0.2649 | O41: sicro 01/24 | P41: revisado | R41: =H41*F41 -> 21192.563
...

Sheet Planilha14
C10: PLANILHA ORÇAMENTÁRIA
C11: OBRA: | D11: PROJETO DE IMPLANTAÇÃO, PAVIMENTAÇÃO E DRENAGEM DE ACESSO AL-245 SÃO SEBASTIÃO - FEIRA GRANDE - SEM EXTENSÃO PONTE - SEM DESONERAÇÃO | L11: DATA: 08/05/2024 | M11: FONTE | N11: VERSÃO | O11: DATA REF.
L12: BDI: 26,49% | M12: EMBASA | N12: 2024 SEM DESONERAÇÃO
L13: BDI diferenciado: 15% | M13: ORSE | N13: 2024/01
C14: DESCRIÇÃO: | D14: PROJETO DE IMPLANTAÇÃO, PAVIMENTAÇÃO E DRENAGEM DE ACESSO AL-245 SÃO SEBASTIÃO - FEIRA GRANDE | L14: L.S. Hora: 115,22% | M14: SEINFRA | N14: 028.1 COM DESONERAÇÃO
L15: L.S. Mês: 70,31% | M15: SICRO NOVO | N15: 2023/10
M16: SINAPI | N16: 2024/01 SEM DESONERAÇÃO
C17: LOCAL: | D17: FEIRA GRANDE - SÃO SEBASTIÃO/AL | M17: SMOP | N17: 2023/04 SEM DESONERAÇÃO
C18: CLIENTE: | D18: CODEVASF | M18: SP OBRAS | N18: 193 SEM DESONERAÇÃO
M19: SUDECAP | N19: 2023/10 SEM DESONERAÇÃO
M20: COMPOSIÇÕES | N20: PROPRIA

Sheet Comp próprias
B2: COMP-42893817 MOBILIZAÇÃO DE EQUIPAMENTOS DE MACEIÓ ( ACESSO AL - 485 SÃO SEBASTIÃO - FEIRA GRANDE - REV02) (UN) | K2: x | L2: .
B3: Material | E3: FONTE | G3: UNID | H3: COEFICIENTE | I3: PREÇO UNITÁRIO | J3: TOTAL | L3: .
B4: INS-12724257 | C4: MOBILIZAÇÃO DE EQUIPAMENTOS DE MACEIÓ ( ACESSO AL - 485 SÃO SEBASTIÃO - FEIRA GRANDE - REV02) | E4: Composições | G4: UN | H4: 1 | I4: 13215.64 | J4: =I4*H4 -> 13215.64 | L4: .
H5: TOTAL Material: | J5: =J4 -> 13215.64 | L5: .
A6: COMP-42893817 | H6: VALOR: | J6: =J5 -> 13215.64 | K6: y | L6: .
L7: .
B8: COMP-39510826 DESMOBILIZAÇÃO DE EQUIPAMENTOS DE MACEIÓ ( ACESSO AL - 485 SÃO SEBASTIÃO - FEIRA GRANDE - REV02) (UN) | K8: x | L8: .
B9: Material | E9: FONTE | G9: UNID | H9: COEFICIENTE | I9: PREÇO UNITÁRIO | J9: TOTAL | L9: .
B10: INS-54189885 | C10: DESMOBILIZAÇÃO DE EQUIPAMENTOS DE MACEIÓ ( ACESSO AL - 485 SÃO SEBASTIÃO - FEIRA GRANDE - REV02) | E10: Composições | G10: UN | H10: 1 | I10: 13215.64 | J10: =I10*H10 -> 13215.64 | L10: .
H11: TOTAL Material: | J11: =J10 -> 13215.64 | L11: .
A12: COMP-39510826 | H12: VALOR: | J12: =J11 -> 13215.64 | K12: y | L12: .
L13: .
B14: COMP-52766000 ADMINISTRAÇÃO LOCAL DE OBRA - INCLUINDO EXAMES, ALIMENTAÇÃO E SEGURO (SÃO SEBASTIÃO) (UND) | K14: x | L14: .
B15: Equipamento | E15: FONTE | G15: UNID | H15: COEFICIENTE | I15: PREÇO UNITÁRIO | J15: TOTAL | L15: .
B16: 2789 | C16: Veículo leve - pick up (97kw) | E16: ORSE | G16: h | H16: 8448 | I16: 10.35 | J16: =I16*H16 -> 87436.8 | L16: .
B17: 5896 | C17: Veículo tipo sedan ou pick-up capacidade 0,6 ton | E17: ORSE | G17: h | H17: 4224 | I17: 8.33 | J17: =I17*H17 -> 35185.92 | L17: .
H18: TOTAL Equipamento: | J18: =SUM(J16:J17) -> 122622.72 | L18: .
B19: Geral | E19: FONTE | G19: UNID | H19: COEFICIENTE | I19: PREÇO UNITÁRIO | J19: TOTAL | L19: .
B20: INS-948131 | C20: Aluguel de Terreno para instalação do Canteiro de Obra | E20: Composições | G20: MÊS | H20: 12 | I20: 3000 | J20: =I20*H20 -> 36000 | L20: .
B21: B8953 | C21: Mobiliário para Escritório | E21: Tabela de | G21: ocupan | H21: 144 | I21: 529.1 | J21: =I21*H21 -> 76190.4 | L21: .
H22: TOTAL Geral: | J22: =SUM(J20:J21) -> 112190.4 | L22: .
B23: Material | E23: FONTE | G23: UNID | H23: COEFICIENTE | I23: PREÇO UNITÁRIO | J23: TOTAL | L23: .
B24: 10540 | C24: Aluguel de computador notebook | E24: ORSE | G24: mês | H24: 120 | I24: 18.72 | J24: =I24*H24 -> 2246.4 | L24: .
B25: 10541 | C25: Aluguel de impressora colorida - laser | E25: ORSE | G25: mês | H25: 24 | I25: 12.47 | J25: =I25*H25 -> 299.28 | L25: .
B26: 9811 | C26: Micro computador com de monitor 19", software e ploter | E26: ORSE | G26: mês | H26: 72 | I26: 870 | J26: =I26*H26 -> 62640 | L26: .
H27: TOTAL Material: | J27: =SUM(J24:J26) -> 65185.68 | L27: .
B28: Mão de Obra com Encargos Complementares | E28: FONTE | G28: UNID | H28: COEFICIENTE | I28: PREÇO UNITÁRIO | J28: TOTAL | L28: .
B29: 93563 | C29: ALMOXARIFE COM ENCARGOS COMPLEMENTARES | E29: SINAPI | G29: MES | H29: 24 | I29: =IFERROR(VLOOKUP(B29,'SINAPI COMP AL'!$G:$L,5,FALSE),VLOOKUP(B29,'SINAPI INS AL'!A:E,5,FALSE)) -> 4038.54 | J29: =I29*H29 -> 96924.96 | L29: .
B30: 101390 | C30: AUXILIAR TÉCNICO / ASSISTENTE DE ENGENHARIA COM ENCARGOS COMPLEMENTARES | E30: SINAPI | G30: MES | H30: 24 | I30: =IFERROR(VLOOKUP(B30,'SINAPI COMP AL'!$G:$L,5,FALSE),VLOOKUP(B30,'SINAPI INS AL'!A:E,5,FALSE)) -> 5559.04 | J30: =I30*H30 -> 133416.96 | L30: .
B31: 93572 | C31: ENCARREGADO GERAL DE OBRAS COM ENCARGOS COMPLEMENTARES | E31: SINAPI | G31: MES | H31: 24 | I31: =IFERROR(VLOOKUP(B31,'SINAPI COMP AL'!$G:$L,5,FALSE),VLOOKUP(B31,'SINAPI INS AL'!A:E,5,FALSE)) -> 4577.5 | J31: =I31*H31 -> 109860 | L31: .
B32: 93565 | C32: ENGENHEIRO CIVIL DE OBRA JUNIOR COM ENCARGOS COMPLEMENTARES | E32: SINAPI | G32: MES | H32: 12 | I32: =IFERROR(VLOOKUP(B32,'SINAPI COMP AL'!$G:$L,5,FALSE),VLOOKUP(B32,'SINAPI INS AL'!A:E,5,FALSE)) -> 21711.49 | J32: =I32*H32 -> 260537.88 | L32: .
B33: 93567 | C33: ENGENHEIRO CIVIL DE OBRA PLENO COM ENCARGOS COMPLEMENTARES | E33: SINAPI | G33: MES | H33: 12 | I33: =IFERROR(VLOOKUP(B33,'SINAPI COMP AL'!$G:$L,5,FALSE),VLOOKUP(B33,'SINAPI INS AL'!A:E,5,FALSE)) -> 22771.1 | J33: =I33*H33 -> 273253.2 | L33: .
B34: 93568 | C34: ENGENHEIRO CIVIL DE OBRA SENIOR COM ENCARGOS COMPLEMENTARES | E34: SINAPI | G34: MES | H34: 12 | I34: =IFERROR(VLOOKUP(B34,'SINAPI COMP AL'!$G:$L,5,FALSE),VLOOKUP(B34,'SINAPI INS AL'!A:E,5,FALSE)) -> 27108.03 | J34: =I34*H34 -> 325296.36 | L34: .
B35: 94295 | C35: MESTRE DE OBRAS COM ENCARGOS COMPLEMENTARES | E35: SINAPI | G35: MES | H35: 12 | I35: =IFERROR(VLOOKUP(B35,'SINAPI COMP AL'!$G:$L,5,FALSE),VLOOKUP(B35,'SINAPI INS AL'!A:E,5,FALSE)) -> 6854.13 | J35: =I35*H35 -> 82249.56 | L35: .
B36: 101452 | C36: SERVENTE DE OBRAS COM ENCARGOS COMPLEMENTARES | E36: SINAPI | G36: MES | H36: 12 | I36: =IFERROR(VLOOKUP(B36,'SINAPI COMP AL'!$G:$L,5,FALSE),VLOOKUP(B36,'SINAPI INS AL'!A:E,5,FALSE)) -> 3604.86 | J36: =I36*H36 -> 43258.32 | L36: .
B37: 100321 | C37: TÉCNICO EM SEGURANÇA DO TRABALHO COM ENCARGOS COMPLEMENTARES | E37: SINAPI | G37: MES | H37: 12 | I37: =IFERROR(VLOOKUP(B37,'SINAPI COMP AL'!$G:$L,5,FALSE),VLOOKUP(B37,'SINAPI INS AL'!A:E,5,FALSE)) -> 4848.51 | J37: =I37*H37 -> 58182.12 | L37: .
H38: TOTAL Mão de Obra com Encargos Complementares: | J38: =SUM(J29:J37) -> 1382979.4 | L38: .
A39: COMP-52766000 | H39: VALOR: | J39: =SUM(J38,J27,J22,J18) -> 1682978.2 | K39: y | L39: .
L40: .
B41: COMP-00428179 PROJETOS EXECUTIVOS OBRA DE GRANDE PORTE - PAVIMENTAÇÃO E DRENAGEM.REV (UN) | K41: x | L41: .
...

Sheet Comp auxiliares
A1: CP-6169-S72897S.01 Carga manual de entulho em caminhao basculante 6 m3. REV.01(1O/2021) (m3)
A2: Mão de Obra com Encargos Complementares | C2: FONTE | D2: UNID | E2: COEFICIENTE | F2: PREÇO UNITÁRIO | G2: TOTAL
A3: 88316 | B3: SERVENTE COM ENCARGOS COMPLEMENTARES | C3: SINAPI | D3: H | E3: 0.7 | F3: =IFERROR(VLOOKUP(A3,'SINAPI COMP AL'!$G:$L,5,FALSE),VLOOKUP(A3,'SINAPI INS AL'!#REF!,5,FALSE)) -> 20.28 | G3: =F3*E3 -> 14.196
E4: TOTAL Mão de Obra com Encargos Complementares: | G4: =G3 -> 14.196
A5: Serviço | C5: FONTE | D5: UNID | E5: COEFICIENTE | F5: PREÇO UNITÁRIO | G5: TOTAL
A6: 53792 | B6: CAMINHÃO BASCULANTE 6 M3, PESO BRUTO TOTAL 16.000 KG, CARGA ÚTIL MÁXIMA 13.071 KG, DISTÂNCIA ENTRE EIXOS 4,80 M, POTÊNCIA 230 CV INCLUSIVE CAÇAMBA METÁLICA - MATERIAIS NA OPERAÇÃO. AF_06/2014 | C6: SINAPI | D6: H | E6: 0.25 | F6: =IFERROR(VLOOKUP(A6,'SINAPI COMP AL'!$G:$L,5,FALSE),VLOOKUP(A6,'SINAPI INS AL'!#REF!,5,FALSE)) -> 103.95 | G6: =F6*E6 -> 25.9875
E7: TOTAL Serviço: | G7: =G6 -> 25.9875
A8: Observações: COPIA ORSE - SE - 2020/07 (REF: 10/2020)24335 -S72897S/ORSE | E8: VALOR: | G8: =G7+G4 -> 40.1835
A10: COM-45346505 Laboratório de Asfalto (mês)
A11: Material | C11: FONTE | D11: UNID | E11: COEFICIENTE | F11: PREÇO UNITÁRIO | G11: TOTAL
A12: INS-79912236 | B12: Laboratório de Asfalto | C12: Composições | D12: mês | E12: 1 | F12: 5668.86 | G12: 5668.86
E13: TOTAL Material: | G13: 5668.86
A14: Observações: Composição elaborada conforme tabela de custo e pagamentos DNIT (JULHO/2022) | E14: VALOR: | G14: 5668.86
E15: VALOR ENCARGOS: | G15: 0
A18: CP-8414-83397 POSTE DE CONCRETO DUPLO T H=9M CARGA NOMINAL 300KG INCLUSIVE ESCAVACAO, EXCLUSIVE TRANSPORTE - FORNECIMENTO E INSTALACAO (UN)
A19: Equipamento Custo Horário | C19: FONTE | D19: UNID | E19: COEFICIENTE | F19: PREÇO UNITÁRIO | G19: TOTAL
A20: 91634 | B20: GUINDAUTO HIDRÁULICO, CAPACIDADE MÁXIMA DE CARGA 6500 KG, MOMENTO MÁXIMO DE CARGA 5,8 TM, ALCANCE MÁXIMO HORIZONTAL 7,60 M, INCLUSIVE CAMINHÃO TOCO PBT 9.700 KG, POTÊNCIA DE 160 CV - CHP DIURNO. AF_08/2015 | C20: SINAPI | D20: CHP | E20: 1.25 | F20: =IFERROR(VLOOKUP(A20,'SINAPI COMP AL'!$G:$L,5,FALSE),VLOOKUP(A20,'SINAPI INS AL'!#REF!,5,FALSE)) -> 231.97 | G20: =F20*E20 -> 289.9625
E21: TOTAL Equipamento Custo Horário: | G21: =G20 -> 289.9625
A22: Material | C22: FONTE | D22: UNID | E22: COEFICIENTE | F22: PREÇO UNITÁRIO | G22: TOTAL
A23: 5033 | B23: POSTE DE CONCRETO ARMADO DE SECAO DUPLO T, EXTENSAO DE 9,00 M, RESISTENCIA DE 300 A 400 DAN, TIPO B OU D | C23: SINAPI | D23: UN | E23: 1 | F23: =IFERROR(VLOOKUP(A23,'SINAPI COMP AL'!$G:$L,5,FALSE),VLOOKUP(A23,'SINAPI INS AL'!$A:$E,5,FALSE)) -> 794 | G23: =F23*E23 -> 794
E24: TOTAL Material: | G24: =G23 -> 794
A25: Mão de Obra com Encargos Complementares | C25: FONTE | D25: UNID | E25: COEFICIENTE | F25: PREÇO UNITÁRIO | G25: TOTAL
A26: 88316 | B26: SERVENTE COM ENCARGOS COMPLEMENTARES | C26: SINAPI | D26: H | E26: 6 | F26: =IFERROR(VLOOKUP(A26,'SINAPI COMP AL'!$G:$L,5,FALSE),VLOOKUP(A26,'SINAPI INS AL'!#REF!,5,FALSE)) -> 20.28 | G26: =F26*E26 -> 121.68
E27: TOTAL Mão de Obra com Encargos Complementares: | G27: =G26 -> 121.68
A28: Serviço | C28: FONTE | D28: UNID | E28: COEFICIENTE | F28: PREÇO UNITÁRIO | G28: TOTAL
A29: 94969 | B29: CONCRETO FCK = 15MPA, TRAÇO 1:3,4:3,5 (EM MASSA SECA DE CIMENTO/ AREIA MÉDIA/ BRITA 1) - PREPARO MECÂNICO COM BETONEIRA 600 L. AF_05/2021 | C29: SINAPI | D29: M3 | E29: 0.15 | F29: =IFERROR(VLOOKUP(A29,'SINAPI COMP AL'!$G:$L,5,FALSE),VLOOKUP(A29,'SINAPI INS AL'!#REF!,5,FALSE)) -> 400.71 | G29: =F29*E29 -> 60.1065
A30: 103670 | B30: LANÇAMENTO COM USO DE BALDES, ADENSAMENTO E ACABAMENTO DE CONCRETO EM ESTRUTURAS. AF_02/2022 | C30: SINAPI | D30: M3 | E30: 0.15 | F30: =IFERROR(VLOOKUP(A30,'SINAPI COMP AL'!$G:$L,5,FALSE),VLOOKUP(A30,'SINAPI INS AL'!#REF!,5,FALSE)) -> 273.03 | G30: =F30*E30 -> 40.9545
E31: TOTAL Serviço: | G31: =SUM(G29:G30) -> 101.061
A32: Observações: COPIA SINAPI - AL - 2019/10 COM DESONERAÇÃO (REF: 11/2019)20664 - 83397/SINAPI | E32: VALOR: | G32: =SUM(G31,G27,G24,G21) -> 1306.7035
A34: CP-101025-73976347 USINAGEM DE CONCRETO ASFÁLTICO COM CAP 50/70 PARA CAMADA DE ROLAMENTO, PADRÃO DNIT FAIXA C, EM USINA DE ASFALTO GRAVIMÉTRICA DE 150 TON/H. AF_03/2020_P (T)
A35: Equipamento Custo Horário | C35: FONTE | D35: UNID | E35: COEFICIENTE | F35: PREÇO UNITÁRIO | G35: TOTAL
A36: 95873 | B36: GRUPO GERADOR COM CARENAGEM, MOTOR DIESEL POTÊNCIA STANDART ENTRE 250 E 260 KVA - CHI DIURNO. AF_12/2016 | C36: SINAPI | D36: CHI | E36: 0.0027 | F36: =IFERROR(VLOOKUP(A36,'SINAPI COMP AL'!$G:$L,5,FALSE),VLOOKUP(A36,'SINAPI INS AL'!#REF!,5,FALSE)) -> 13.75 | G36: =F36*E36 -> 0.037125
A37: 95872 | B37: GRUPO GERADOR COM CARENAGEM, MOTOR DIESEL POTÊNCIA STANDART ENTRE 250 E 260 KVA - CHP DIURNO. AF_12/2016 | C37: SINAPI | D37: CHP | E37: 0.0095 | F37: =IFERROR(VLOOKUP(A37,'SINAPI COMP AL'!$G:$L,5,FALSE),VLOOKUP(A37,'SINAPI INS AL'!#REF!,5,FALSE)) -> 303.05 | G37: =F37*E37 -> 2.878975
A38: 5942 | B38: PÁ CARREGADEIRA SOBRE RODAS, POTÊNCIA LÍQUIDA 128 HP, CAPACIDADE DA CAÇAMBA 1,7 A 2,8 M3, PESO OPERACIONAL 11632 KG - CHI DIURNO. AF_06/2014 | C38: SINAPI | D38: CHI | E38: 0.0074 | F38: =IFERROR(VLOOKUP(A38,'SINAPI COMP AL'!$G:$L,5,FALSE),VLOOKUP(A38,'SINAPI INS AL'!#REF!,5,FALSE)) -> 64.89 | G38: =F38*E38 -> 0.480186
A39: 5940 | B39: PÁ CARREGADEIRA SOBRE RODAS, POTÊNCIA LÍQUIDA 128 HP, CAPACIDADE DA CAÇAMBA 1,7 A 2,8 M3, PESO OPERACIONAL 11632 KG - CHP DIURNO. AF_06/2014 | C39: SINAPI | D39: CHP | E39: 0.0048 | F39: =IFERROR(VLOOKUP(A39,'SINAPI COMP AL'!$G:$L,5,FALSE),VLOOKUP(A39,'SINAPI INS AL'!#REF!,5,FALSE)) -> 173.04 | G39: =F39*E39 -> 0.830592
A40: 7030 | B40: TANQUE DE ASFALTO ESTACIONÁRIO COM SERPENTINA, CAPACIDADE 30.000 L - CHP DIURNO. AF_05/2023 | C40: SINAPI | D40: CHP | E40: 0.0244 | F40: =IFERROR(VLOOKUP(A40,'SINAPI COMP AL'!$G:$L,5,FALSE),VLOOKUP(A40,'SINAPI INS AL'!#REF!,5,FALSE)) -> 274.74 | G40: =F40*E40 -> 6.703656
A41: 100648 | B41: USINA DE ASFALTO, TIPO GRAVIMÉTRICA, PROD 150 TON/HORA - CHI DIURNO. AF_12/2019 | C41: SINAPI | D41: CHI | E41: 0.0027 | F41: =IFERROR(VLOOKUP(A41,'SINAPI COMP AL'!$G:$L,5,FALSE),VLOOKUP(A41,'SINAPI INS AL'!#REF!,5,FALSE)) -> 551.81 | G41: =F41*E41 -> 1.489887
A42: 100647 | B42: USINA DE ASFALTO, TIPO GRAVIMÉTRICA, PROD 150 TON/HORA - CHP DIURNO. AF_12/2019 | C42: SINAPI | D42: CHP | E42: 0.0095 | F42: =IFERROR(VLOOKUP(A42,'SINAPI COMP AL'!$G:$L,5,FALSE),VLOOKUP(A42,'SINAPI INS AL'!#REF!,5,FALSE)) -> 6692.71 | G42: =F42*E42 -> 63.580745
E43: TOTAL Equipamento Custo Horário: | G43: =SUM(G36:G42) -> 76.001166
A44: Material | C44: FONTE | D44: UNID | E44: COEFICIENTE | F44: PREÇO UNITÁRIO | G44: TOTAL
...

Sheet Comp adm local
A1: COMPOSIÇÃO DE ADMINISTRAÇÃO DE OBRA | M1: TEMPO DE OBRA= | O1: 12
A2: DESCRIÇÃO DA EQUIPE | B2: ITEM | C2: CÓDIGO | D2: FONTE | E2: DESCRIÇÃO | F2: UND. | G2: Quantidade Unid. | H2: QTD DE MESES DA OBRA | I2: QTD DE HORAS | J2: TOTAL H ou Mês | K2: PREÇO UNIT. (SEOBRA) | L2: Preço Total | M2: BDI | N2: 0.2649
A3: MÃO DE OBRA EQUIPE TÉCNICA CANTEIRO/OBRA | B3: 1 | C3: 93563 | D3: SINAPI | E3: ALMOXARIFE COM ENCARGOS COMPLEMENTARES | F3: MÊS | G3: 2 | H3: =$O$1 -> 12 | J3: =H3*G3 -> 24 | K3: =IFERROR(VLOOKUP(C3,'SINAPI COMP AL'!$G:$L,5,FALSE),VLOOKUP(C3,'SINAPI INS AL'!C:G,5,FALSE)) -> 4038.54 | L3: =J3*K3 -> 96924.96
B4: 2 | C4: 101390 | D4: SINAPI | E4: AUXILIAR TÉCNICO / ASSISTENTE DE ENGENHARIA COM ENCARGOS COMPLEMENTARES | F4: MÊS | G4: 2 | H4: =$O$1 -> 12 | J4: =H4*G4 -> 24 | K4: =IFERROR(VLOOKUP(C4,'SINAPI COMP AL'!$G:$L,5,FALSE),VLOOKUP(C4,'SINAPI INS AL'!C:G,5,FALSE)) -> 5559.04 | L4: =J4*K4 -> 133416.96
B5: 3 | C5: 93572 | D5: SINAPI | E5: ENCARREGADO GERAL DE OBRAS COM ENCARGOS COMPLEMENTARES | F5: MÊS | G5: 2 | H5: =$O$1 -> 12 | J5: =H5*G5 -> 24 | K5: =IFERROR(VLOOKUP(C5,'SINAPI COMP AL'!$G:$L,5,FALSE),VLOOKUP(C5,'SINAPI INS AL'!C:G,5,FALSE)) -> 4577.5 | L5: =J5*K5 -> 109860
B6: 4 | C6: 93565 | D6: SINAPI | E6: ENGENHEIRO CIVIL DE OBRA JUNIOR COM ENCARGOS COMPLEMENTARES | F6: MÊS | G6: 1 | H6: =$O$1 -> 12 | J6: =H6*G6 -> 12 | K6: =IFERROR(VLOOKUP(C6,'SINAPI COMP AL'!$G:$L,5,FALSE),VLOOKUP(C6,'SINAPI INS AL'!C:G,5,FALSE)) -> 21711.49 | L6: =J6*K6 -> 260537.88
B7: 5 | C7: 93567 | D7: SINAPI | E7: ENGENHEIRO CIVIL DE OBRA PLENO COM ENCARGOS COMPLEMENTARES | F7: MÊS | G7: 1 | H7: =$O$1 -> 12 | J7: =H7*G7 -> 12 | K7: =IFERROR(VLOOKUP(C7,'SINAPI COMP AL'!$G:$L,5,FALSE),VLOOKUP(C7,'SINAPI INS AL'!C:G,5,FALSE)) -> 22771.1 | L7: =J7*K7 -> 273253.2
B8: 6 | C8: 93568 | D8: SINAPI | E8: ENGENHEIRO CIVIL DE OBRA SENIOR COM ENCARGOS COMPLEMENTARES | F8: MÊS | G8: 1 | H8: =$O$1 -> 12 | J8: =H8*G8 -> 12 | K8: =IFERROR(VLOOKUP(C8,'SINAPI COMP AL'!$G:$L,5,FALSE),VLOOKUP(C8,'SINAPI INS AL'!C:G,5,FALSE)) -> 27108.03 | L8: =J8*K8 -> 325296.36
B9: 7 | C9: 94295 | D9: SINAPI | E9: MESTRE DE OBRAS COM ENCARGOS COMPLEMENTARES | F9: MÊS | G9: 1 | H9: =$O$1 -> 12 | J9: =H9*G9 -> 12 | K9: =IFERROR(VLOOKUP(C9,'SINAPI COMP AL'!$G:$L,5,FALSE),VLOOKUP(C9,'SINAPI INS AL'!C:G,5,FALSE)) -> 6854.13 | L9: =J9*K9 -> 82249.56
B10: 8 | C10: 101452 | D10: SINAPI | E10: SERVENTE DE OBRAS COM ENCARGOS COMPLEMENTARES | F10: MÊS | G10: 1 | H10: =$O$1 -> 12 | J10: =H10*G10 -> 12 | K10: =IFERROR(VLOOKUP(C10,'SINAPI COMP AL'!$G:$L,5,FALSE),VLOOKUP(C10,'SINAPI INS AL'!C:G,5,FALSE)) -> 3604.86 | L10: =J10*K10 -> 43258.32
B11: 9 | C11: 100321 | D11: SINAPI | E11: TÉCNICO EM SEGURANÇA DO TRABALHO COM ENCARGOS COMPLEMENTARES | F11: MÊS | G11: 1 | H11: =$O$1 -> 12 | J11: =H11*G11 -> 12 | K11: =IFERROR(VLOOKUP(C11,'SINAPI COMP AL'!$G:$L,5,FALSE),VLOOKUP(C11,'SINAPI INS AL'!C:G,5,FALSE)) -> 4848.51 | L11: =J11*K11 -> 58182.12
A12: MATERIAL | B12: 10 | C12: 10540 | D12: ORSE | E12: Aluguel de computador notebook | F12: MÊS | G12: 10 | H12: 12 | J12: =H12*G12 -> 120 | K12: 18.72 | L12: =J12*K12 -> 2246.4
B13: 11 | C13: 10541 | D13: ORSE | E13: Aluguel de impressora colorida - laser | F13: MÊS | G13: 2 | H13: 12 | J13: =H13*G13 -> 24 | K13: 12.47 | L13: =J13*K13 -> 299.28
B14: 12 | C14: 9811 | D14: ORSE | E14: Micro computador com de monitor 19", software e ploter | F14: MÊS | G14: 6 | H14: =$O$1 -> 12 | J14: =H14*G14 -> 72 | K14: 870 | L14: =J14*K14 -> 62640
A15: GERAL | B15: 13 | C15: INS-948131 | D15: Composições Próprias | E15: Aluguel de Terreno para instalação do Canteiro de Obra | F15: MÊS | G15: 1 | H15: =$O$1 -> 12 | J15: =G15*H15 -> 12 | K15: 3000 | L15: =J15*K15 -> 36000
B16: 14 | C16: B8953 | D16: Composições Próprias | E16: Mobiliário para Escritório | F16: MÊS | G16: 12 | H16: =$O$1 -> 12 | J16: =G16*H16 -> 144 | K16: 529.1 | L16: =J16*K16 -> 76190.4
A17: CARROS PARA OBRA | B17: 15 | C17: 2789 | D17: ORSE | E17: Veículo leve - pick up (97kw) | F17: H | G17: 4 | H17: 12 | I17: 176 | J17: =G17*H17*I17 -> 8448 | K17: 10.35 | L17: =J17*K17 -> 87436.8 | M17: 1 Carro Segurança + 2 Carros Eng. Junior + 2 Carros Eng. Pleno + 1 Carros Arq. Senior + 2 Carros Técnico Senior + 2 Carros Top. + 2 Carros Lab. = 12
B18: 16 | C18: 5896 | D18: ORSE | E18: Veículo tipo sedan ou pick-up capacidade 0,6 ton | F18: H | G18: 2 | H18: =$O$1 -> 12 | I18: 176 | J18: =G18*H18*I18 -> 4224 | K18: 8.33 | L18: =J18*K18 -> 35185.92 | M18: 5 Carros Eng. Senior + 2 Carros Coordenador = 7
K19: PREÇO ADM SEM BDI | L19: =SUM(L3:L18) -> 1682978.2
K20: PREÇO ADM COM BDI | L20: =L19*N2+L19 -> 2128799.1
K21: TOTAL DA OBRA | L21: 42039796 | M21: Pegar valor no SEOBRA
K22: PESO | L22: =L20/L21 -> 0.050637711

Sheet Transporte Cap 50-70
C2: MEMÓRIA DE CÁLCULO
C7: REAJUSTE | F7: TIPOLOGIA DO MATERIAL | I7: CIMENTOS ASFÁLTICOS CAP-50-70 | M7: IMPOSTOS | N7: COFINS | O7: 0.0065
G8: ÍNDICE DE PAVIMENTAÇÃO DNIT | H8: 41821 | I8: ÍNDICE INICIAL | J8: 270.237 | N8: PIS | O8: 0.03 | Q8: LEGENDA | Z8: As empresas tributadas pelo Lucro Presumido pagam 0,65% de PIS e 3% de COFINS
H9: 45383 | I9: ÍNDICE FINAL | J9: 567.092 | N9: ICMS | O9: 0.18 | P9: =1-(O9/1) -> 0.82 | Q9: ENTRADA DE DADOS | Z9: As empresas tributadas pelo Lucro Real pagam 1,65% de PIS e 7,60% de COFINS
F10: CAP50/70 | G10: Data ANP | H10: 45352
C11: DATA-BASE | D11: PRODUTOS | E11: LOCALIDADES | J11: CUSTO ANP (R$/Kg) | L11: CUSTO ANP | M11: IMPOSTOS DO PRODUTO | N11: CUSTO DO PRODUTO COM IMPOSTOS | O11: DMT's | P11: CUSTO DO TRANSPORTE RODOVIA PAVIMENTADA | Q11: ICMS | R11: ATUALIZAÇÃO DO CUSTO DE TRANSPORTE | S11: CUSTO DO TRANSPORTE RODOVIA PAVIMENTADA COM IMPOSTOS E ATUALIZAÇÃO MONETÁRIA | T11: PEDÁGIO | V11: TOTAL TRANSPORTE | W11: AQUISIÇÃO DO PRODUTO | X11: TOTAL GERAL ( TRANSP + AQUISIÇÃO) | Z11: 1 | AA11: 2 | AB11: 3
C12: =H9 -> 45383 | E12: REFINARIAS | F12: ENDEREÇO | G12: ESTADO | H12: CIDADE | I12: DESTINO | J12: ESTADO | K12: REGIÃO | L12: R$/t | M12: R$/t | N12: R$/t | O12: KM | P12: R$/t | Q12: R$/t | R12: R$/t | S12: R$/t | T12: CUSTO | U12: R$/t | V12: R$/t | W12: R$/t | X12: R$/t | Z12: TOTAL GERAL ( TRANSP + AQUISIÇÃO) | AA12: TOTAL TRANSPORTE | AB12: AQUISIÇÃO DO PRODUTO
B13: =X13 -> 4852.9095 | C13: 1 | D13: =I7 -> CIMENTOS ASFÁLTICOS CAP-50-70 | E13: Refinaria Abreu e Lima | F13: Rodovia PE 60, Km 10 - Ipojuca - PE CEP:55590-000 | G13: Pernambuco | H13: IPOJUCA - PE | I13: São Sebastião -AL | J13: - | K13: 3.5062399 | L13: =IF(AND(J13="-",K13="-"),"",IF(AND(J13<>0,K13="-"),J13*1000,IF(AND(J13="-",K13<>0),K13*1000,IF(AND(J13<>0,K13<>0),J13*1000,"")))) -> 3506.2399 | M13: =ROUND(((L13/(1-$O$7-$O$8-$O$9))-L13),2) -> 968.86 | N13: =L13+M13 -> 4475.0999 | O13: 356 | P13: =ROUND((26.939+0.253*O13),2) -> 117.01 | Q13: =TRUNC(P13*($O$9/(1-$O$9)),2) -> 25.68 | R13: =TRUNC(IF($J$8="","",(($J$9-$J$8)/$J$8)*(P13+Q13)),2) -> 156.74 | S13: =P13+Q13+R13 -> 299.43 | T13: 1086 | U13: =EVEN('[57] CONSUMO DE MAT. B TOTAL'!$P$13*2/28)*T13/'[57] CONSUMO DE MAT. B TOTAL'!$P$13 -> 78.379566 | V13: =IF(AND(P13="",Q13=""),"",S13+U13) -> 377.80957 | W13: =IF(OR(L13="",M13=""),"",L13+M13) -> 4475.0999 | X13: =IF(OR(V13="",W13=""),"",V13+W13) -> 4852.9095 | Z13: =X13 -> 4852.9095 | AA13: =V13 -> 377.80957 | AB13: =W13 -> 4475.0999 | AE13: =IF(OR(G13=$D$51,G13=$D$52,G13=$D$54,G13=$D$60,G13=$D$44,G13=$D$40,G13=$D$36,G13=$D$49,G13=$D$39),"NORDESTE",IF(OR(G13=$D$35,G13=$D$37,G13=$D$38,G13=$D$48,G13=$D$56,G13=$D$57,G13=$D$61),"NORTE",IF(OR(G13=$D$41,G13=$D$43,G13=$D$45,G13=$D$46),"CENTRO-OESTE",IF(OR(G13=$D$59,G13=$D$53,G13=$D$47,G13=$D$42),"SUDESTE",IF(OR(G13=$D$58,G13=$D$50,G13=$D$55),"SUL",""))))) -> NORDESTE
B14: =X14 -> 5066.5399 | C14: 2 | E14: Refinaria Potiguar Clara Camarão | F14: Rodovia RN 221, KM 25 - Guamaré - RN CEP:59598-000 | G14: Rio Grande do Norte | H14: GUAMARÉ - RN | I14: São Sebastião -AL | J14: - | K14: 3.5062399 | L14: =IF(AND(J14="-",K14=""),"",IF(AND(J14<>0,K14=""),J14*1000,IF(AND(J14="-",K14<>0),K14*1000,IF(AND(J14<>0,K14<>0),J14*1000,"")))) -> 3506.2399 | M14: =ROUND(((L14/(1-$O$7-$O$8-$O$9))-L14),2) -> 968.86 | N14: =L14+M14 -> 4475.0999 | O14: 807 | P14: =ROUND((26.939+0.253*O14),2) -> 231.11 | Q14: =TRUNC(P14*($O$9/(1-$O$9)),2) -> 50.73 | R14: =TRUNC(IF($J$8="","",(($J$9-$J$8)/$J$8)*(P14+Q14)),2) -> 309.6 | S14: =P14+Q14+R14 -> 591.44 | U14: =EVEN('[57] CONSUMO DE MAT. B TOTAL'!$P$13*2/28)*T14/'[57] CONSUMO DE MAT. B TOTAL'!$P$13 -> 0 | V14: =IF(AND(P14="",Q14=""),"",S14+U14) -> 591.44 | W14: =IF(OR(L14="",M14=""),"",L14+M14) -> 4475.0999 | X14: =IF(OR(V14="",W14=""),"",V14+W14) -> 5066.5399 | Z14: =X14 -> 5066.5399 | AA14: =V14 -> 591.44 | AB14: =W14 -> 4475.0999 | AE14: =IF(OR(G14=$D$51,G14=$D$52,G14=$D$54,G14=$D$60,G14=$D$44,G14=$D$40,G14=$D$36,G14=$D$49,G14=$D$39),"NORDESTE",IF(OR(G14=$D$35,G14=$D$37,G14=$D$38,G14=$D$48,G14=$D$56,G14=$D$57,G14=$D$61),"NORTE",IF(OR(G14=$D$41,G14=$D$43,G14=$D$45,G14=$D$46),"CENTRO-OESTE",IF(OR(G14=$D$59,G14=$D$53,G14=$D$47,G14=$D$42),"SUDESTE",IF(OR(G14=$D$58,G14=$D$50,G14=$D$55),"SUL",""))))) -> NORDESTE
B15: =X15 -> 4954.3 | C15: 3 | E15: Refinaria Landulpho Alves (RLAM) | F15: Rodovia BA 523, KM 4 – Mataripe São Francisco do Conde - BA CEP:43900-000 | G15: Bahia | H15: SÃO FRANCISCO DO CONDE - BA | I15: São Sebastião -AL | J15: 3.5253204 | K15: 3.5062399 | L15: =IF(AND(J15="-",K15=""),"",IF(AND(J15<>0,K15=""),J15*1000,IF(AND(J15="-",K15<>0),K15*1000,IF(AND(J15<>0,K15<>0),J15*1000,"")))) -> 3525.3204 | M15: =ROUND(((L15/(1-$O$7-$O$8-$O$9))-L15),2) -> 974.13 | N15: =L15+M15 -> 4499.4504 | O15: 475 | P15: =ROUND((26.939+0.253*O15),2) -> 147.11 | Q15: =TRUNC(P15*($O$9/(1-$O$9)),2) -> 32.29 | R15: =TRUNC(IF($J$8="","",(($J$9-$J$8)/$J$8)*(P15+Q15)),2) -> 197.07 | S15: =P15+Q15+R15 -> 376.47 | T15: 1086 | U15: =EVEN('[57] CONSUMO DE MAT. B TOTAL'!$P$13*2/28)*T15/'[57] CONSUMO DE MAT. B TOTAL'!$P$13 -> 78.379566 | V15: =IF(AND(P15="",Q15=""),"",S15+U15) -> 454.84957 | W15: =IF(OR(L15="",M15=""),"",L15+M15) -> 4499.4504 | X15: =IF(OR(V15="",W15=""),"",V15+W15) -> 4954.3 | Z15: =X15 -> 4954.3 | AA15: =V15 -> 454.84957 | AB15: =W15 -> 4499.4504 | AE15: =IF(OR(G15=$D$51,G15=$D$52,G15=$D$54,G15=$D$60,G15=$D$44,G15=$D$40,G15=$D$36,G15=$D$49,G15=$D$39),"NORDESTE",IF(OR(G15=$D$35,G15=$D$37,G15=$D$38,G15=$D$48,G15=$D$56,G15=$D$57,G15=$D$61),"NORTE",IF(OR(G15=$D$41,G15=$D$43,G15=$D$45,G15=$D$46),"CENTRO-OESTE",IF(OR(G15=$D$59,G15=$D$53,G15=$D$47,G15=$D$42),"SUDESTE",IF(OR(G15=$D$58,G15=$D$50,G15=$D$55),"SUL",""))))) -> NORDESTE
A16: 2403 | B16: =X16 -> 5153.4096 | C16: 4 | E16: Refinaria Lubrificantes e Derivados do Nordeste (Lubnor) | F16: Av. Leite Barbosa, s/nº - Mucuripe Fortaleza - Ceará CEP:60180-420 | G16: Ceará | H16: FORTALEZA - CE | I16: São Sebastião -AL | J16: 3.4905996 | K16: 3.5062399 | L16: =IF(AND(J16="-",K16=""),"",IF(AND(J16<>0,K16=""),J16*1000,IF(AND(J16="-",K16<>0),K16*1000,IF(AND(J16<>0,K16<>0),J16*1000,"")))) -> 3490.5996 | M16: =ROUND(((L16/(1-$O$7-$O$8-$O$9))-L16),2) -> 964.54 | N16: =L16+M16 -> 4455.1396 | O16: 972 | P16: =ROUND((26.939+0.253*O16),2) -> 272.86 | Q16: =TRUNC(P16*($O$9/(1-$O$9)),2) -> 59.89 | R16: =TRUNC(IF($J$8="","",(($J$9-$J$8)/$J$8)*(P16+Q16)),2) -> 365.52 | S16: =P16+Q16+R16 -> 698.27 | U16: =EVEN('[57] CONSUMO DE MAT. B TOTAL'!$P$13*2/28)*T16/'[57] CONSUMO DE MAT. B TOTAL'!$P$13 -> 0 | V16: =IF(AND(P16="",Q16=""),"",S16+U16) -> 698.27 | W16: =IF(OR(L16="",M16=""),"",L16+M16) -> 4455.1396 | X16: =IF(OR(V16="",W16=""),"",V16+W16) -> 5153.4096 | Z16: =X16 -> 5153.4096 | AA16: =V16 -> 698.27 | AB16: =W16 -> 4455.1396 | AE16: =IF(OR(G16=$D$51,G16=$D$52,G16=$D$54,G16=$D$60,G16=$D$44,G16=$D$40,G16=$D$36,G16=$D$49,G16=$D$39),"NORDESTE",IF(OR(G16=$D$35,G16=$D$37,G16=$D$38,G16=$D$48,G16=$D$56,G16=$D$57,G16=$D$61),"NORTE",IF(OR(G16=$D$41,G16=$D$43,G16=$D$45,G16=$D$46),"CENTRO-OESTE",IF(OR(G16=$D$59,G16=$D$53,G16=$D$47,G16=$D$42),"SUDESTE",IF(OR(G16=$D$58,G16=$D$50,G16=$D$55),"SUL",""))))) -> NORDESTE
B17: =X17 -> 5570.9477 | C17: 5 | E17: Refinaria Capuava (Recap) | F17: Av. Alberto Soares Sampaio, 2122-A Capuava – Mauá - SP | G17: São Paulo | H17: MAUÁ - SP | I17: São Sebastião -AL | J17: 3.1369777 | K17: 3.1396081 | L17: =IF(AND(J17="-",K17=""),"",IF(AND(J17<>0,K17=""),J17*1000,IF(AND(J17="-",K17<>0),K17*1000,IF(AND(J17<>0,K17<>0),J17*1000,"")))) -> 3136.9777 | M17: =ROUND(((L17/(1-$O$7-$O$8-$O$9))-L17),2) -> 866.82 | N17: =L17+M17 -> 4003.7977 | O17: 2314 | P17: =ROUND((26.939+0.253*O17),2) -> 612.38 | Q17: =TRUNC(P17*($O$9/(1-$O$9)),2) -> 134.42 | R17: =TRUNC(IF($J$8="","",(($J$9-$J$8)/$J$8)*(P17+Q17)),2) -> 820.35 | S17: =P17+Q17+R17 -> 1567.15 | U17: =EVEN('[57] CONSUMO DE MAT. B TOTAL'!$P$13*2/28)*T17/'[57] CONSUMO DE MAT. B TOTAL'!$P$13 -> 0 | V17: =IF(AND(P17="",Q17=""),"",S17+U17) -> 1567.15 | W17: =IF(OR(L17="",M17=""),"",L17+M17) -> 4003.7977 | X17: =IF(OR(V17="",W17=""),"",V17+W17) -> 5570.9477 | Z17: =X17 -> 5570.9477 | AA17: =V17 -> 1567.15 | AB17: =W17 -> 4003.7977 | AE17: =IF(OR(G17=$D$51,G17=$D$52,G17=$D$54,G17=$D$60,G17=$D$44,G17=$D$40,G17=$D$36,G17=$D$49,G17=$D$39),"NORDESTE",IF(OR(G17=$D$35,G17=$D$37,G17=$D$38,G17=$D$48,G17=$D$56,G17=$D$57,G17=$D$61),"NORTE",IF(OR(G17=$D$41,G17=$D$43,G17=$D$45,G17=$D$46),"CENTRO-OESTE",IF(OR(G17=$D$59,G17=$D$53,G17=$D$47,G17=$D$42),"SUDESTE",IF(OR(G17=$D$58,G17=$D$50,G17=$D$55),"SUL",""))))) -> SUDESTE
B18: =X18 -> 5515.6909 | C18: 6 | E18: Refinaria Duque de Caxias (Reduc) | F18: Rodovia Washington Luiz, km 113,7 Campos Elíseos – Duque de Caxias - RJ CEP:25213-005 | G18: Rio de Janeiro | H18: DUQUE DE CAXIAS - RJ | I18: São Sebastião -AL | J18: 3.2813809 | K18: 3.1396081 | L18: =IF(AND(J18="-",K18=""),"",IF(AND(J18<>0,K18=""),J18*1000,IF(AND(J18="-",K18<>0),K18*1000,IF(AND(J18<>0,K18<>0),J18*1000,"")))) -> 3281.3809 | M18: =ROUND(((L18/(1-$O$7-$O$8-$O$9))-L18),2) -> 906.72 | N18: =L18+M18 -> 4188.1009 | O18: 1944 | P18: =ROUND((26.939+0.253*O18),2) -> 518.77 | Q18: =TRUNC(P18*($O$9/(1-$O$9)),2) -> 113.87 | R18: =TRUNC(IF($J$8="","",(($J$9-$J$8)/$J$8)*(P18+Q18)),2) -> 694.95 | S18: =P18+Q18+R18 -> 1327.59 | U18: =EVEN('[57] CONSUMO DE MAT. B TOTAL'!$P$13*2/28)*T18/'[57] CONSUMO DE MAT. B TOTAL'!$P$13 -> 0 | V18: =IF(AND(P18="",Q18=""),"",S18+U18) -> 1327.59 | W18: =IF(OR(L18="",M18=""),"",L18+M18) -> 4188.1009 | X18: =IF(OR(V18="",W18=""),"",V18+W18) -> 5515.6909 | Z18: =X18 -> 5515.6909 | AA18: =V18 -> 1327.59 | AB18: =W18 -> 4188.1009 | AE18: =IF(OR(G18=$D$51,G18=$D$52,G18=$D$54,G18=$D$60,G18=$D$44,G18=$D$40,G18=$D$36,G18=$D$49,G18=$D$39),"NORDESTE",IF(OR(G18=$D$35,G18=$D$37,G18=$D$38,G18=$D$48,G18=$D$56,G18=$D$57,G18=$D$61),"NORTE",IF(OR(G18=$D$41,G18=$D$43,G18=$D$45,G18=$D$46),"CENTRO-OESTE",IF(OR(G18=$D$59,G18=$D$53,G18=$D$47,G18=$D$42),"SUDESTE",IF(OR(G18=$D$58,G18=$D$50,G18=$D$55),"SUL",""))))) -> SUDESTE
B19: =X19 -> 6389.068 | C19: 7 | E19: Refinaria Alberto Pasqualini (Refap) | F19: Avenida Getúlio Vargas, 11001 - Bairro Brigadeira Canoas - RS - Brasil CEP:92420-221 | G19: Rio grande do sul | H19: CANOAS - RS | I19: São Sebastião -AL | J19: 3.217938 | K19: 3.2273784 | L19: =IF(AND(J19="-",K19=""),"",IF(AND(J19<>0,K19=""),J19*1000,IF(AND(J19="-",K19<>0),K19*1000,IF(AND(J19<>0,K19<>0),J19*1000,"")))) -> 3217.938 | M19: =ROUND(((L19/(1-$O$7-$O$8-$O$9))-L19),2) -> 889.19 | N19: =L19+M19 -> 4107.128 | O19: 3418 | P19: =ROUND((26.939+0.253*O19),2) -> 891.69 | Q19: =TRUNC(P19*($O$9/(1-$O$9)),2) -> 195.73 | R19: =TRUNC(IF($J$8="","",(($J$9-$J$8)/$J$8)*(P19+Q19)),2) -> 1194.52 | S19: =P19+Q19+R19 -> 2281.94 | U19: =EVEN('[57] CONSUMO DE MAT. B TOTAL'!$P$13*2/28)*T19/'[57] CONSUMO DE MAT. B TOTAL'!$P$13 -> 0 | V19: =IF(AND(P19="",Q19=""),"",S19+U19) -> 2281.94 | W19: =IF(OR(L19="",M19=""),"",L19+M19) -> 4107.128 | X19: =IF(OR(V19="",W19=""),"",V19+W19) -> 6389.068 | Z19: =X19 -> 6389.068 | AA19: =V19 -> 2281.94 | AB19: =W19 -> 4107.128 | AE19: =IF(OR(G19=$D$51,G19=$D$52,G19=$D$54,G19=$D$60,G19=$D$44,G19=$D$40,G19=$D$36,G19=$D$49,G19=$D$39),"NORDESTE",IF(OR(G19=$D$35,G19=$D$37,G19=$D$38,G19=$D$48,G19=$D$56,G19=$D$57,G19=$D$61),"NORTE",IF(OR(G19=$D$41,G19=$D$43,G19=$D$45,G19=$D$46),"CENTRO-OESTE",IF(OR(G19=$D$59,G19=$D$53,G19=$D$47,G19=$D$42),"SUDESTE",IF(OR(G19=$D$58,G19=$D$50,G19=$D$55),"SUL",""))))) -> SUL
B20: =X20 -> 6035.9352 | C20: 8 | E20: Unidade de Industrialização do Xisto (SIX) | F20: Rodovia do Xisto, BR 476, km 153 São Mateus do Sul – PR CEP 83900-000 | G20: Paraná | H20: SÃO MATEUS DO SUL - PR | I20: São Sebastião -AL | J20: 3.2329252 | K20: 3.2273784 | L20: =IF(AND(J20="-",K20=""),"",IF(AND(J20<>0,K20=""),J20*1000,IF(AND(J20="-",K20<>0),K20*1000,IF(AND(J20<>0,K20<>0),J20*1000,"")))) -> 3232.9252 | M20: =ROUND(((L20/(1-$O$7-$O$8-$O$9))-L20),2) -> 893.34 | N20: =L20+M20 -> 4126.2652 | O20: 2843 | P20: =ROUND((26.939+0.253*O20),2) -> 746.22 | Q20: =TRUNC(P20*($O$9/(1-$O$9)),2) -> 163.8 | R20: =TRUNC(IF($J$8="","",(($J$9-$J$8)/$J$8)*(P20+Q20)),2) -> 999.65 | S20: =P20+Q20+R20 -> 1909.67 | U20: =EVEN('[57] CONSUMO DE MAT. B TOTAL'!$P$13*2/28)*T20/'[57] CONSUMO DE MAT. B TOTAL'!$P$13 -> 0 | V20: =IF(AND(P20="",Q20=""),"",S20+U20) -> 1909.67 | W20: =IF(OR(L20="",M20=""),"",L20+M20) -> 4126.2652 | X20: =IF(OR(V20="",W20=""),"",V20+W20) -> 6035.9352 | Z20: =X20 -> 6035.9352 | AA20: =V20 -> 1909.67 | AB20: =W20 -> 4126.2652 | AE20: =IF(OR(G20=$D$51,G20=$D$52,G20=$D$54,G20=$D$60,G20=$D$44,G20=$D$40,G20=$D$36,G20=$D$49,G20=$D$39),"NORDESTE",IF(OR(G20=$D$35,G20=$D$37,G20=$D$38,G20=$D$48,G20=$D$56,G20=$D$57,G20=$D$61),"NORTE",IF(OR(G20=$D$41,G20=$D$43,G20=$D$45,G20=$D$46),"CENTRO-OESTE",IF(OR(G20=$D$59,G20=$D$53,G20=$D$47,G20=$D$42),"SUDESTE",IF(OR(G20=$D$58,G20=$D$50,G20=$D$55),"SUL",""))))) -> SUL
B21: =X21 -> 5180.6898 | C21: 9 | E21: Refinaria Gabriel Passos (Regap) | F21: Av. Refinaria Gabriel Passos, 690 Distrito Industrial Paulo Camilo Sul Betim - MG CEP:32669-205 | G21: Minas Gerais | H21: BETIM - MG | I21: São Sebastião -AL | J21: 3.1203698 | K21: 3.1396081 | L21: =IF(AND(J21="-",K21=""),"",IF(AND(J21<>0,K21=""),J21*1000,IF(AND(J21="-",K21<>0),K21*1000,IF(AND(J21<>0,K21<>0),J21*1000,"")))) -> 3120.3698 | M21: =ROUND(((L21/(1-$O$7-$O$8-$O$9))-L21),2) -> 862.23 | N21: =L21+M21 -> 3982.5998 | O21: 1744 | P21: =ROUND((26.939+0.253*O21),2) -> 468.17 | Q21: =TRUNC(P21*($O$9/(1-$O$9)),2) -> 102.76 | R21: =TRUNC(IF($J$8="","",(($J$9-$J$8)/$J$8)*(P21+Q21)),2) -> 627.16 | S21: =P21+Q21+R21 -> 1198.09 | U21: =EVEN('[57] CONSUMO DE MAT. B TOTAL'!$P$13*2/28)*T21/'[57] CONSUMO DE MAT. B TOTAL'!$P$13 -> 0 | V21: =IF(AND(P21="",Q21=""),"",S21+U21) -> 1198.09 | W21: =IF(OR(L21="",M21=""),"",L21+M21) -> 3982.5998 | X21: =IF(OR(V21="",W21=""),"",V21+W21) -> 5180.6898 | Z21: =X21 -> 5180.6898 | AA21: =V21 -> 1198.09 | AB21: =W21 -> 3982.5998 | AE21: =IF(OR(G21=$D$51,G21=$D$52,G21=$D$54,G21=$D$60,G21=$D$44,G21=$D$40,G21=$D$36,G21=$D$49,G21=$D$39),"NORDESTE",IF(OR(G21=$D$35,G21=$D$37,G21=$D$38,G21=$D$48,G21=$D$56,G21=$D$57,G21=$D$61),"NORTE",IF(OR(G21=$D$41,G21=$D$43,G21=$D$45,G21=$D$46),"CENTRO-OESTE",IF(OR(G21=$D$59,G21=$D$53,G21=$D$47,G21=$D$42),"SUDESTE",IF(OR(G21=$D$58,G21=$D$50,G21=$D$55),"SUL",""))))) -> SUDESTE
B22: =X22 -> 5957.5952 | C22: 10 | E22: Refinaria Presidente Getúlio Vargas (Repar) | F22: Rodovia do Xisto, BR 476, km 16 Araucária - PR CEP:83707-440 | G22: Paraná | H22: ARAUCÁRIA - PR | I22: São Sebastião -AL | J22: 3.2329252 | K22: 3.2273784 | L22: =IF(AND(J22="-",K22=""),"",IF(AND(J22<>0,K22=""),J22*1000,IF(AND(J22="-",K22<>0),K22*1000,IF(AND(J22<>0,K22<>0),J22*1000,"")))) -> 3232.9252 | M22: =ROUND(((L22/(1-$O$7-$O$8-$O$9))-L22),2) -> 893.34 | N22: =L22+M22 -> 4126.2652 | O22: 2722 | P22: =ROUND((26.939+0.253*O22),2) -> 715.61 | Q22: =TRUNC(P22*($O$9/(1-$O$9)),2) -> 157.08 | R22: =TRUNC(IF($J$8="","",(($J$9-$J$8)/$J$8)*(P22+Q22)),2) -> 958.64 | S22: =P22+Q22+R22 -> 1831.33 | U22: =EVEN('[57] CONSUMO DE MAT. B TOTAL'!$P$13*2/28)*T22/'[57] CONSUMO DE MAT. B TOTAL'!$P$13 -> 0 | V22: =IF(AND(P22="",Q22=""),"",S22+U22) -> 1831.33 | W22: =IF(OR(L22="",M22=""),"",L22+M22) -> 4126.2652 | X22: =IF(OR(V22="",W22=""),"",V22+W22) -> 5957.5952 | Z22: =X22 -> 5957.5952 | AA22: =V22 -> 1831.33 | AB22: =W22 -> 4126.2652 | AE22: =IF(OR(G22=$D$51,G22=$D$52,G22=$D$54,G22=$D$60,G22=$D$44,G22=$D$40,G22=$D$36,G22=$D$49,G22=$D$39),"NORDESTE",IF(OR(G22=$D$35,G22=$D$37,G22=$D$38,G22=$D$48,G22=$D$56,G22=$D$57,G22=$D$61),"NORTE",IF(OR(G22=$D$41,G22=$D$43,G22=$D$45,G22=$D$46),"CENTRO-OESTE",IF(OR(G22=$D$59,G22=$D$53,G22=$D$47,G22=$D$42),"SUDESTE",IF(OR(G22=$D$58,G22=$D$50,G22=$D$55),"SUL",""))))) -> SUL
B23: =X23 -> 5602.6777 | C23: 11 | E23: Refinaria Presidente Bernardes (RPBC) | F23: Av. 9 de abril, 777 - Jardim das Indústrias Cubatão - SP CEP:11505-000 | G23: São Paulo | H23: CUBATÃO - SP | I23: São Sebastião -AL | J23: 3.1369777 | K23: 3.1396081 | L23: =IF(AND(J23="-",K23=""),"",IF(AND(J23<>0,K23=""),J23*1000,IF(AND(J23="-",K23<>0),K23*1000,IF(AND(J23<>0,K23<>0),J23*1000,"")))) -> 3136.9777 | M23: =ROUND(((L23/(1-$O$7-$O$8-$O$9))-L23),2) -> 866.82 | N23: =L23+M23 -> 4003.7977 | O23: 2363 | P23: =ROUND((26.939+0.253*O23),2) -> 624.78 | Q23: =TRUNC(P23*($O$9/(1-$O$9)),2) -> 137.14 | R23: =TRUNC(IF($J$8="","",(($J$9-$J$8)/$J$8)*(P23+Q23)),2) -> 836.96 | S23: =P23+Q23+R23 -> 1598.88 | U23: =EVEN('[57] CONSUMO DE MAT. B TOTAL'!$P$13*2/28)*T23/'[57] CONSUMO DE MAT. B TOTAL'!$P$13 -> 0 | V23: =IF(AND(P23="",Q23=""),"",S23+U23) -> 1598.88 | W23: =IF(OR(L23="",M23=""),"",L23+M23) -> 4003.7977 | X23: =IF(OR(V23="",W23=""),"",V23+W23) -> 5602.6777 | Z23: =X23 -> 5602.6777 | AA23: =V23 -> 1598.88 | AB23: =W23 -> 4003.7977 | AE23: =IF(OR(G23=$D$51,G23=$D$52,G23=$D$54,G23=$D$60,G23=$D$44,G23=$D$40,G23=$D$36,G23=$D$49,G23=$D$39),"NORDESTE",IF(OR(G23=$D$35,G23=$D$37,G23=$D$38,G23=$D$48,G23=$D$56,G23=$D$57,G23=$D$61),"NORTE",IF(OR(G23=$D$41,G23=$D$43,G23=$D$45,G23=$D$46),"CENTRO-OESTE",IF(OR(G23=$D$59,G23=$D$53,G23=$D$47,G23=$D$42),"SUDESTE",IF(OR(G23=$D$58,G23=$D$50,G23=$D$55),"SUL",""))))) -> SUDESTE
B24: =X24 -> 5570.9477 | C24: 12 | E24: Refinaria de Paulínia (Replan) | F24: Rodovia SP 332 - Km. 130 Bonfim - Paulínia – SP CEP:13140-000 | G24: São Paulo | H24: PAULÍNIA - SP | I24: São Sebastião -AL | J24: 3.1369777 | K24: 3.1396081 | L24: =IF(AND(J24="-",K24=""),"",IF(AND(J24<>0,K24=""),J24*1000,IF(AND(J24="-",K24<>0),K24*1000,IF(AND(J24<>0,K24<>0),J24*1000,"")))) -> 3136.9777 | M24: =ROUND(((L24/(1-$O$7-$O$8-$O$9))-L24),2) -> 866.82 | N24: =L24+M24 -> 4003.7977 | O24: 2314 | P24: =ROUND((26.939+0.253*O24),2) -> 612.38 | Q24: =TRUNC(P24*($O$9/(1-$O$9)),2) -> 134.42 | R24: =TRUNC(IF($J$8="","",(($J$9-$J$8)/$J$8)*(P24+Q24)),2) -> 820.35 | S24: =P24+Q24+R24 -> 1567.15 | U24: =EVEN('[57] CONSUMO DE MAT. B TOTAL'!$P$13*2/28)*T24/'[57] CONSUMO DE MAT. B TOTAL'!$P$13 -> 0 | V24: =IF(AND(P24="",Q24=""),"",S24+U24) -> 1567.15 | W24: =IF(OR(L24="",M24=""),"",L24+M24) -> 4003.7977 | X24: =IF(OR(V24="",W24=""),"",V24+W24) -> 5570.9477 | Z24: =X24 -> 5570.9477 | AA24: =V24 -> 1567.15 | AB24: =W24 -> 4003.7977 | AE24: =IF(OR(G24=$D$51,G24=$D$52,G24=$D$54,G24=$D$60,G24=$D$44,G24=$D$40,G24=$D$36,G24=$D$49,G24=$D$39),"NORDESTE",IF(OR(G24=$D$35,G24=$D$37,G24=$D$38,G24=$D$48,G24=$D$56,G24=$D$57,G24=$D$61),"NORTE",IF(OR(G24=$D$41,G24=$D$43,G24=$D$45,G24=$D$46),"CENTRO-OESTE",IF(OR(G24=$D$59,G24=$D$53,G24=$D$47,G24=$D$42),"SUDESTE",IF(OR(G24=$D$58,G24=$D$50,G24=$D$55),"SUL",""))))) -> SUDESTE
B25: =X25 -> 5575.4877 | C25: 13 | E25: Refinaria Henrique Lage (Revap) | F25: Rodovia Presidente Dutra, KM 143, S/N Bairro Jardim Diamante - São José dos Campos – SP CEP:12223-900 | G25: São Paulo | H25: SÃO JOSÉ DOS CAMPOS - SP | I25: São Sebastião -AL | J25: 3.1369777 | K25: 3.1396081 | L25: =IF(AND(J25="-",K25=""),"",IF(AND(J25<>0,K25=""),J25*1000,IF(AND(J25="-",K25<>0),K25*1000,IF(AND(J25<>0,K25<>0),J25*1000,"")))) -> 3136.9777 | M25: =ROUND(((L25/(1-$O$7-$O$8-$O$9))-L25),2) -> 866.82 | N25: =L25+M25 -> 4003.7977 | O25: 2321 | P25: =ROUND((26.939+0.253*O25),2) -> 614.15 | Q25: =TRUNC(P25*($O$9/(1-$O$9)),2) -> 134.81 | R25: =TRUNC(IF($J$8="","",(($J$9-$J$8)/$J$8)*(P25+Q25)),2) -> 822.73 | S25: =P25+Q25+R25 -> 1571.69 | U25: =EVEN('[57] CONSUMO DE MAT. B TOTAL'!$P$13*2/28)*T25/'[57] CONSUMO DE MAT. B TOTAL'!$P$13 -> 0 | V25: =IF(AND(P25="",Q25=""),"",S25+U25) -> 1571.69 | W25: =IF(OR(L25="",M25=""),"",L25+M25) -> 4003.7977 | X25: =IF(OR(V25="",W25=""),"",V25+W25) -> 5575.4877 | Z25: =X25 -> 5575.4877 | AA25: =V25 -> 1571.69 | AB25: =W25 -> 4003.7977 | AE25: =IF(OR(G25=$D$51,G25=$D$52,G25=$D$54,G25=$D$60,G25=$D$44,G25=$D$40,G25=$D$36,G25=$D$49,G25=$D$39),"NORDESTE",IF(OR(G25=$D$35,G25=$D$37,G25=$D$38,G25=$D$48,G25=$D$56,G25=$D$57,G25=$D$61),"NORTE",IF(OR(G25=$D$41,G25=$D$43,G25=$D$45,G25=$D$46),"CENTRO-OESTE",IF(OR(G25=$D$59,G25=$D$53,G25=$D$47,G25=$D$42),"SUDESTE",IF(OR(G25=$D$58,G25=$D$50,G25=$D$55),"SUL",""))))) -> SUDESTE
D35: Acre
D36: Alagoas
D37: Amapá
D38: Amazonas
D39: Bahia
D40: Ceará
D41: Distrito Federal
D42: Espírito Santo
D43: Goiás
D44: Maranhão
D45: Mato Grosso
D46: Mato Grosso do Sul
... D91: EMULSÕES ASFÁLTICAS RR-2C

Sheet Transporte RR-1C
C2: MEMÓRIA DE CÁLCULO
C7: REAJUSTE | F7: TIPOLOGIA DO MATERIAL | I7: EMULSÕES ASFÁLTICAS RR-1C | M7: IMPOSTOS | N7: COFINS | O7: 0.0065
G8: ÍNDICE DE PAVIMENTAÇÃO DNIT | H8: 41821 | I8: ÍNDICE INICIAL | J8: 270.237 | N8: PIS | O8: 0.03 | Q8: LEGENDA | Z8: As empresas tributadas pelo Lucro Presumido pagam 0,65% de PIS e 3% de COFINS
H9: ='[57]Transporte Cap 50-70'!H9 -> 45383 | I9: ÍNDICE FINAL | J9: ='[57]Transporte Cap 50-70'!J9 -> 567.092 | N9: ICMS | O9: 0.18 | P9: =1-(O9/1) -> 0.82 | Q9: ENTRADA DE DADOS | Z9: As empresas tributadas pelo Lucro Real pagam 1,65% de PIS e 7,60% de COFINS
G10: Data ANP | H10: ='[57]Transporte Cap 50-70'!H10 -> 45352
C11: DATA-BASE | D11: PRODUTOS | E11: LOCALIDADES | J11: CUSTO ANP (R$/Kg) | L11: CUSTO ANP | M11: IMPOSTOS DO PRODUTO | N11: CUSTO DO PRODUTO COM IMPOSTOS | O11: DMT's | P11: CUSTO DO TRANSPORTE RODOVIA PAVIMENTADA | Q11: ICMS | R11: ATUALIZAÇÃO DO CUSTO DE TRANSPORTE | S11: CUSTO DO TRANSPORTE RODOVIA PAVIMENTADA COM IMPOSTOS E ATUALIZAÇÃO MONETÁRIA | T11: PEDÁGIO | V11: TOTAL TRANSPORTE | W11: AQUISIÇÃO DO PRODUTO | X11: TOTAL GERAL ( TRANSP + AQUISIÇÃO) | Z11: 1 | AA11: 2 | AB11: 3
C12: =H9 -> 45383 | E12: REFINARIAS | F12: ENDEREÇO | G12: ESTADO | H12: CIDADE | I12: DESTINO | J12: ESTADO | K12: REGIÃO | L12: R$/t | M12: R$/t | N12: R$/t | O12: KM | P12: R$/t | Q12: R$/t | R12: R$/t | S12: R$/t | T12: CUSTO | U12: R$/t | V12: R$/t | W12: R$/t | X12: R$/t | Z12: TOTAL GERAL ( TRANSP + AQUISIÇÃO) | AA12: TOTAL TRANSPORTE | AB12: AQUISIÇÃO DO PRODUTO
B13: =X13 -> 4498.1912 | C13: 1 | D13: =I7 -> EMULSÕES ASFÁLTICAS RR-1C | E13: 'CENTRO OESTE ASFALTOS LTDA. | F13: SETOR DE INFLAMÁVEIS, S/N TRECHO 02 - LOTE 1.100 - GUARÁ - CEP:71225-000 | G13: Distrito Federal | H13: BRASÍLIA - DF | I13: São Sebastião -AL | J13: - | K13: 2.5714112 | L13: =IF(AND(J13="-",K13="-"),"",IF(AND(J13<>0,K13="-"),J13*1000,IF(AND(J13="-",K13<>0),K13*1000,IF(AND(J13<>0,K13<>0),J13*1000,"")))) -> 2571.4112 | M13: =ROUND(((L13/(1-$O$7-$O$8-$O$9))-L13),2) -> 710.54 | N13: =L13+M13 -> 3281.9512 | O13: 1772 | P13: =ROUND((26.939+0.253*O13),2) -> 475.26 | Q13: =TRUNC(P13*($O$9/(1-$O$9)),2) -> 104.32 | R13: =TRUNC(IF($J$8="","",(($J$9-$J$8)/$J$8)*(P13+Q13)),2) -> 636.66 | S13: =P13+Q13+R13 -> 1216.24 | U13: =EVEN('[57] CONSUMO DE MAT. B TOTAL'!$P$13*2/28)*T13/'[57] CONSUMO DE MAT. B TOTAL'!$P$13 -> 0 | V13: =IF(AND(P13="",Q13=""),"",S13+U13) -> 1216.24 | W13: =IF(OR(L13="",M13=""),"",L13+M13) -> 3281.9512 | X13: =IF(OR(V13="",W13=""),"",V13+W13) -> 4498.1912 | Z13: =X13 -> 4498.1912 | AA13: =V13 -> 1216.24 | AB13: =W13 -> 3281.9512 | AE13: =IF(OR(G13=$D$58,G13=$D$59,G13=$D$61,G13=$D$67,G13=$D$51,G13=$D$47,G13=$D$43,G13=$D$56,G13=$D$46),"NORDESTE",IF(OR(G13=$D$42,G13=$D$44,G13=$D$45,G13=$D$55,G13=$D$63,G13=$D$64,G13=$D$68),"NORTE",IF(OR(G13=$D$48,G13=$D$50,G13=$D$52,G13=$D$53),"CENTRO-OESTE",IF(OR(G13=$D$66,G13=$D$60,G13=$D$54,G13=$D$49),"SUDESTE",IF(OR(G13=$D$65,G13=$D$57,G13=$D$62),"SUL",""))))) -> CENTRO-OESTE
