{"text_format":"2","workbook":"xlsx","n_sheets":8,"sheets":["Orçamento Sintético","Cotações","Cotação Piso","Cotação Argamassa","CPU's","Cronograma","Enc. Sociais","BDI"],"not_rendered":{"charts":0,"images":7,"macros":0,"external_links":405,"defined_names":19082,"comments":0,"pivot_tables":0},"unopened":[],"bounds":{"document_bytes":16777216,"sheet_cells":100000,"run_cost":"one","rows_first":2000,"rows_last":500,"rows_between":2000,"halvings":0,"cell_chars":16384,"cell_head_chars":4096},"cells_cut":0,"cells_raw":0,"read":"whole","date_system":"1900"}

{"sheet":"Orçamento Sintético","index":0,"n_rows":19,"n_cols":14,"rows_kept":19,"cut":false,"hidden":false,"merged":[[1,1,1,13],[6,1,7,1],[6,2,7,3],[6,4,7,4],[6,5,7,5],[6,6,7,6],[6,7,6,9],[6,10,6,11],[6,12,7,12],[6,13,7,13],[2,1,5,4]]}
[]
[null,"QUADRO DEMONSTRATIVO DO ORÇAMENTO"]
[null,"Serviço: Fornecimento e instalação de piso elevado em ardósia, com revestimento em porcelanato, com instalação elétrica embutida",{"$nulls":8},"BDIs adotados:",null,"Sem Desoneração","Com Desoneração"]
[{"$nulls":6},"Data-Base","2023-11-01",null,"Serviço",null,null,{"$f":"BDI!F25","v":0.23710000000000001},{"$f":"BDI!#REF!","v":{"$error":"#REF!"}}]
[{"$nulls":6},"SINAPI","2023-09-01"]
[{"$nulls":6},"SBC","2023-11-01",null,"Fornecimento",null,null,{"$f":"BDI!F54","v":0.15060000000000001}]
[null,"Item","Código",null,"DESCRIÇÃO","UND","QUANT","PREÇO UNITÁRIO",null,null,"PREÇO  COM DESONERAÇÃO           ",null,"TOTAL SEM DESONERAÇÃO    ","TOTAL COM DESONERAÇÃO    "]
[{"$nulls":7},"Custo Direto","BDI","Custo com BDI","Custo Direto","Custo com BDI"]
[null,"1.0",null,null,"REMOÇÃO PISO EXISTENTE",{"$nulls":7},{"$f":"SUM(M10:N12)","v":16000.725626000001},{"$f":"SUM(N10:N11)","v":0}]
[null,"1.1","SBC",22090,"Remoção piso existente","M2",337,26.34,{"$f":"M4","v":0.23710000000000001},{"$f":"H10*(1+$I$10)","v":32.585214000000001},null,null,{"$f":"G10*J10","v":10981.217118}]
[null,"1.2","SINAPI",99811,"Limpeza da área","M2",337,3.74,{"$f":"M4","v":0.23710000000000001},{"$f":"H11*(1+$I$11)","v":4.6267540000000009},null,null,{"$f":"G11*J11","v":1559.2160980000003}]
[null,"1.3","SBC",210900,"Remoção de Entulho","M3",{"$f":"337*0.1","v":33.700000000000003},83,{"$f":"M4","v":0.23710000000000001},{"$f":"H12*(1+$I$12)","v":102.67930000000001},null,null,{"$f":"G12*J12","v":3460.2924100000005}]
[null,"2.0",null,null,"INSTALAÇÃO PISO ELEVADO",{"$nulls":7},{"$f":"M14+M16+M15","v":173668.68473800001},{"$f":"SUM(N14:N14)","v":0}]
[null,"2.1","Cotação","-","Fornecimento de materiais e mão de obra para instalação de piso elevado em ardósia calibrada e cortada em placas de 600x600x25mm apoiadas em pedestais com eixo de rosca de aço e bases de polipropileno emborrachado, incluso instalação de porcelanato.","M2",337,{"$f":"Cotações!J6","v":432},"Incluso",{"$f":"H14","v":432},null,null,{"$f":"G14*J14","v":145584}]
[null,"2.2","Cotação","-","Fornecimento de revestimento do tipo Porcelanato, tipo A, tonalidade cinza, estampa cimentícia, acetinado, dimensões mínimas de 600x600mm, acabamento lateral retificado, acabamento da superfície esmaltado.","M2",{"$f":"337*1.1","v":370.70000000000005},57.9,{"$f":"M6","v":0.15060000000000001},{"$f":"H15*(1+$I$16)","v":66.619740000000007},null,null,{"$f":"J15*G15","v":24695.937618000007}]
[null,"2.3","Cotação","-","Fornecimento de argamassa para aplicação de Porcelanato interno - 20kg","sc",{"$f":"ROUND(G15*8/20,0)","v":148},19.899999999999999,{"$f":"M6","v":0.15060000000000001},{"$f":"H16*(1+$I$16)","v":22.896940000000001},null,null,{"$f":"J16*G16","v":3388.74712}]
[null,"3.0",null,null,"INSTALAÇÕES ELÉTRICAS",{"$nulls":7},{"$f":"SUM(M18:M18)","v":8761.6370400000014},{"$f":"SUM(N18:N18)","v":0}]
[null,"3.1","SBC",23319,"Instalação de pontos de tomada","UND",60,118.04,{"$f":"M4","v":0.23710000000000001},{"$f":"H18*(1+$I$18)","v":146.02728400000001},null,null,{"$f":"G18*J18","v":8761.6370400000014}]
[{"$nulls":12},{"$f":"M17+M13+M9","v":198431.04740400001},{"$f":"N17+N13+N9+#REF!","v":{"$error":"#REF!"}}]

{"sheet":"Cotações","index":1,"n_rows":6,"n_cols":11,"rows_kept":6,"cut":false,"hidden":true,"merged":[[3,3,4,3],[3,4,4,4],[3,5,3,6],[3,7,3,8],[3,9,3,10]]}
[]
[]
[]
[null,null,null,"QUANTIDADE","UNIDADE","SUMA VENTURA\nOBRA E PROJETO",null,"CONNECTIONS\nSOLUÇÕES TECNOLÓGICAS",null,"RBF - PISO ELEVADO E MONTAGENS"]
[{"$nulls":5},"P. UNIT","P. TOTAL","P. UNIT","P. TOTAL","P. UNIT","P. TOTAL"]
[null,null,"Fornecimento de materiais e mão de obra para instalação de piso elevado em ardósia calibrada e cortada em placas de 600x600x25mm apoiadas em pedestais com eixo de rosca de aço e bases de polipropileno emborrachado – capacidade de carga de até 1.250kg/m² - incluso instalação de porcelanato ou revestimento vinílico em placas coladas (revestimento fornecido pelo contratante).",376,"M²",{"$f":"(362+260)","v":622},{"$f":"F6*D6","v":233872},{"$f":"210560/376","v":560},{"$f":"H6*D6","v":210560},432,{"$f":"J6*D6","v":162432}]

{"sheet":"Cotação Piso","index":2,"n_rows":0,"n_cols":0,"rows_kept":0,"cut":false,"hidden":true,"merged":[]}

{"sheet":"Cotação Argamassa","index":3,"n_rows":0,"n_cols":0,"rows_kept":0,"cut":false,"hidden":true,"merged":[]}

{"sheet":"CPU's","index":4,"n_rows":55,"n_cols":10,"rows_kept":55,"cut":false,"hidden":false,"merged":[[33,0,33,1],[33,2,33,9],[28,0,28,9],[29,0,29,1],[29,2,29,9],[30,0,30,1],[30,2,30,9],[12,0,12,9],[13,0,13,1],[13,2,13,9],[14,0,14,1],[14,2,14,9],[15,0,15,1],[15,2,15,9],[16,0,16,1],[16,2,16,9],[17,0,17,1],[17,2,17,9],[18,0,18,1],[18,2,18,9],[19,0,19,1],[19,2,19,9],[20,0,20,1],[20,2,20,9],[23,0,23,9],[24,0,24,1],[24,2,24,9],[25,0,25,1],[25,2,25,9],[26,0,26,1],[26,2,26,9],[41,0,41,1],[41,2,41,9],[42,0,42,1],[42,2,42,9],[34,0,34,1],[34,2,34,9],[35,0,35,1],[35,2,35,9],[36,0,36,1],[36,2,36,9],[31,0,31,1],[31,2,31,9],[32,0,32,1],[32,2,32,9],[43,0,43,1],[43,2,43,9],[44,0,44,1],[44,2,44,9],[45,0,45,1],[45,2,45,9],[0,0,0,9],[1,0,1,1],[1,2,1,9],[2,0,2,1],[2,2,2,9],[3,0,3,1],[3,2,3,9],[4,0,4,1],[4,2,4,9],[5,0,5,1],[5,2,5,9],[6,0,6,1],[6,2,6,9],[7,0,7,1],[7,2,7,9],[8,0,8,1],[8,2,8,9]]}
["Composição SBC - 022090"]
["Código",null,22090]
["Descrição",null,"RETIRADA PISO ELEVADO"]
["Data",null,"2024-05-01"]
["Estado",null,"Distrito Federal"]
["Tipo",null,"DEMOLICOES"]
["Unidade",null,"m²"]
["Valor sem Desoneração",null,26.34]
["Valor com Desoneração",null,26.34]
[null,"codigo","Descrição","Tipo","Unidade","Valor sem Desoneração","Valor com Desoneração","Coeficiente","Valor sem Desoneração","Valor com Desoneração"]
["C",99360,"CARPINTEIRO DE ESQUADRIA COM ENCARGOS COMPLEMENTARES","SEDI - SERVIÇOS DIVERSOS","H",20.14,20.14,0.66,13.29,13.29]
["C",99900,"SERVENTE COM ENCARGOS COMPLEMENTARES","SEDI - SERVIÇOS DIVERSOS","H",13.51,13.51,0.96699999999999997,13.06,13.06]
["Composição SINAPI - 99811"]
["Código",null,99811]
["Descrição",null,"LIMPEZA DE CONTRAPISO COM VASSOURA A SECO. AF_04/2019"]
["Data",null," 09/2023 "]
["Estado",null,"Distrito Federal"]
["Tipo",null,"SEDI - SERVIÇOS DIVERSOS"]
["Unidade",null,"m²"]
["Valor sem Desoneração",null,3.74]
["Valor com Desoneração",null,3.42]
[null,"codigo","Descrição","Tipo","Unidade","Valor sem Desoneração","Valor com Desoneração","Coeficiente","Valor sem Desoneração","Valor com Desoneração"]
["C"," 88316 ","SERVENTE COM ENCARGOS COMPLEMENTARES","SEDI - SERVIÇOS DIVERSOS","H",22.69,20.76,"0,165",3.74,3.42]
["Composição SBC - 023319"]
["Código",null,23319]
["Descrição",null,"INSTALACAO DE PONTO TOMADA "]
["Data",null," 10/2023 "]
[]
["Composição SBC - 210900"]
["Código",null,210900]
["Descrição",null,"REMOCAO ENTULHO/EMBALAGENS"]
["Data",null," 11/2023 "]
["Estado",null,"Distrito Federal"]
["Tipo",null,"LIMPEZA"]
["Unidade",null,"m³"]
["Valor sem Desoneração",null,83]
["Valor com Desoneração",null,83]
[null,"codigo","Descrição","Tipo","Unidade","Valor sem Desoneração","Valor com Desoneração","Coeficiente","Valor sem Desoneração","Valor com Desoneração"]
["C"," 88316 ","SERVENTE COM ENCARGOS COMPLEMENTARES","SEDI - SERVIÇOS DIVERSOS","H",13.51,13.51,5.33,71.98,71.98]
["I"," 008787 ","ENTULHO EM CAMINHAO CUSTO BOTA/FORA P/m3","Material","m³",11.02,11.02,"1,0",11.02,11.02]
[]
["Estado",null,"Distrito Federal"]
["Tipo",null,"REFORMA E RECONSTRUCAO"]
["Unidade",null,"UN"]
["Valor sem Desoneração",null,118.04]
["Valor com Desoneração",null,118.04]
[null,"codigo","Descrição","Tipo","Unidade","Valor sem Desoneração","Valor com Desoneração","Coeficiente","Valor sem Desoneração","Valor com Desoneração"]
["C"," 88264 ","ELETRICISTA COM ENCARGOS COMPLEMENTARES","SEDI - SERVIÇOS DIVERSOS","H",20.14,20.14,1919,38.65,38.65]
["C"," 88247 ","AUXILIAR DE ELETRICISTA COM ENCARGOS COMPLEMENTARES","SEDI - SERVIÇOS DIVERSOS","H",13.17,13.17,1919,25.27,25.27]
["I"," 001912 ","TOMADA PISO 4x2 2P UNIVERSAL 10A-250V COM PLACA STAMPLAC","Material","UN",24,24,"1.0",24,24]
["I"," 003349 ","ELETRODUTO PVC RIGIDO ROSCAVEL 1/2\"","Material","M",4.0199999999999996,4.0199999999999996,"1.5",6.03,6.03]
["I"," 003420 ","FITA ISOLANTE HIGHLAND ADESIVA 19m x 20mm","Material","M",0.67,0.67,"0.15",0.1,0.1]
["I"," 003423 ","BUCHA DE ALUMINIO PARA ELETRODUTO 3/4\"","Material","UN",1.46,1.46,"2.0",2.92,2.92]
["I"," 004989 ","FIO SUPERASTIC FLEX 450/750V 2,5mm2 CORES DIVERSAS","Material","M",1.76,1.76,"11.0",19.36,19.36]
["I"," 008507 ","ARRUELA ALUMINIO P/ELETRODUTO 3/4\"","Material","UN",0.86,0.86,"2.0",1.72,1.72]

{"sheet":"Cronograma","index":5,"n_rows":13,"n_cols":7,"rows_kept":13,"cut":false,"hidden":false,"merged":[[7,3,8,3],[7,4,8,4],[7,5,8,5],[7,6,8,6],[12,1,12,2],[9,1,9,2],[10,1,10,2],[7,1,8,1],[7,2,8,2],[11,1,11,2],[1,1,1,6],[3,1,4,1],[3,2,4,2],[5,1,6,1],[5,2,6,2],[3,3,4,3],[3,4,4,4],[3,5,4,5],[3,6,4,6],[5,3,6,3],[5,4,6,4],[5,5,6,5],[5,6,6,6]]}
[]
[null,"CRONOGRAMA FISICO - FINANCEIRO"]
[null,"Item","Descrição","Total Por Etapa","1° mês","2° mês","3° mês"]
[null,"1.0",{"$f":"'Orçamento Sintético'!E9","v":"REMOÇÃO PISO EXISTENTE"},{"$f":"SUM(E4:G4)","v":16000.725626000001},{"$f":"'Orçamento Sintético'!M9","v":16000.725626000001},0,0]
[]
[null,"2.0",{"$f":"'Orçamento Sintético'!E13","v":"INSTALAÇÃO PISO ELEVADO"},{"$f":"SUM(E6:G7)","v":173668.68473800001},0,{"$f":"'Orçamento Sintético'!M13/2","v":86834.342369000005},{"$f":"'Orçamento Sintético'!M13/2","v":86834.342369000005}]
[]
[null,"3.0",{"$f":"'Orçamento Sintético'!E17","v":"INSTALAÇÕES ELÉTRICAS"},{"$f":"SUM(E8:G9)","v":8761.6370400000014},0,{"$f":"'Orçamento Sintético'!M17/2","v":4380.8185200000007},{"$f":"'Orçamento Sintético'!M17/2","v":4380.8185200000007}]
[]
[null,"Porcentagem",null,null,{"$f":"SUM(E4:E9)/'Orçamento Sintético'!$M$19","v":8.0636200006660122E-2},{"$f":"SUM(F4:F9)/'Orçamento Sintético'!$M$19","v":0.45968189999666992},{"$f":"SUM(G4:G9)/'Orçamento Sintético'!$M$19","v":0.45968189999666992}]
[null,"Custo",null,{"$f":"D4+D6+D8","v":198431.04740400001},{"$f":"SUM(E4:E9)","v":16000.725626000001},{"$f":"SUM(F4:F9)","v":91215.160889000006},{"$f":"SUM(G4:G9)","v":91215.160889000006}]
[null,"Porcentagem Acumulado",null,null,{"$f":"E10","v":8.0636200006660122E-2},{"$f":"E10 + F10","v":0.54031810000333003},{"$f":"E10+F10+G10","v":1}]
[null,"Custo Acumulado",null,null,16000.725626000001,{"$f":"E11+F11","v":107215.88651500001},{"$f":"E11+F11+G11","v":198431.04740400001}]

{"sheet":"Enc. Sociais","index":6,"n_rows":0,"n_cols":0,"rows_kept":0,"cut":false,"hidden":false,"merged":[]}

{"sheet":"BDI","index":7,"n_rows":54,"n_cols":6,"rows_kept":54,"cut":false,"hidden":false,"merged":[[51,1,51,3],[52,1,52,3],[53,1,53,4],[54,2,54,5],[38,1,38,3],[43,1,43,3],[44,1,44,3],[46,1,46,3],[47,1,47,3],[31,1,31,5],[32,1,32,5],[33,1,33,5],[34,1,34,5],[35,1,37,3],[35,4,35,5],[36,4,36,5],[37,4,37,5],[9,7,9,13],[1,1,1,5],[1,7,2,13],[2,1,2,5],[3,1,3,5],[3,7,3,13],[4,1,4,5],[23,1,23,3],[5,1,7,3],[5,4,5,5],[6,4,6,5],[7,4,7,5],[8,1,8,3],[13,1,13,3],[14,1,14,3],[16,1,16,3],[17,1,17,3],[22,1,22,3],[30,1,30,5],[24,1,24,4],[25,2,25,5],[27,1,27,5],[28,1,28,5],[29,1,29,5]]}
[]
[]
[]
[]
[]
[null,"Descrição das Parcelas",null,null,"CONDIÇÃO SEM DESONERAÇÃO"]
[{"$nulls":4},"REFORMA"]
[{"$nulls":4},"PEQUENO PORTE"]
[null,"DESPESAS INDIRETAS",null,null,"% SOBRE PV","% SOBRE  CD"]
[null,"A","ADMINISTRAÇÃO CENTRAL","Variável - f (CD)",{"$f":"F10/(1+$F$25)","v":3.233368361490583E-2},0.04]
[null,"B","DESPESAS FINANCEIRAS","1,23% sobre (PV - Lucro)",1.23E-2,{"$f":"E11*(1+$F$25)","v":1.5216330000000002E-2}]
[null,"C","SEGUROS E GARANTIAS CONTRATUAIS","0,8% do PV",8.0000000000000002E-3,{"$f":"E12*(1+$F$25)","v":9.8968000000000007E-3}]
[null,"D","RISCOS","1,27% do PV",1.2699999999999999E-2,{"$f":"E13*(1+$F$25)","v":1.571117E-2}]
[null,"SUBTOTAL",null,null,{"$f":"SUM(E10:E13)","v":6.5333683614905824E-2},{"$f":"SUM(F10:F13)","v":8.0824300000000002E-2}]
[null,"LUCRO",null,null,"% SOBRE PV","% SOBRE  CD"]
[null,"E","LUCRO OPERACIONAL","Variável - f (CD)",{"$f":"F16/(1+$F$25)","v":5.9817314687575777E-2},7.3999999999999996E-2]
[null,"SUBTOTAL",null,null,{"$f":"SUM(E16)","v":5.9817314687575777E-2},{"$f":"SUM(F16)","v":7.3999999999999996E-2}]
[null,"TAXAS E IMPOSTOS",null,null,"% SOBRE PV","% SOBRE  CD"]
[null,"F","PIS","0,65% de PV",6.4999999999999997E-3,{"$f":"E19*(1+$F$25)","v":8.0411500000000004E-3}]
[null,"G","COFINS","3,00% de PV",0.03,{"$f":"E20*(1+$F$25)","v":3.7113E-2}]
[null,"H","ISSQN","3,00% de PV",0.03,{"$f":"E21*(1+$F$25)","v":3.7113E-2}]
[null,"I","Contribuição Previdenciaria","0,00% de PV",0,{"$f":"E22*(1+$F$25)","v":0}]
[null,"SUBTOTAL",null,null,{"$f":"SUM(E19:E22)","v":6.6500000000000004E-2},{"$f":"SUM(F19:F22)","v":8.2267150000000011E-2}]
[null,"BDI COM IMPOSTOS",null,null,{"$f":"+E23+E17+E14","v":0.19165099830248161},{"$f":"ROUND((1+(F10+F16))/(1-(E11+E12+E13+E19+E20+E21))-1,4)","v":0.23710000000000001}]
[null,"BDI = ",null,null,null,{"$f":"F24","v":0.23710000000000001}]
{"$rows_empty":10}
[null,"Descrição das Parcelas",null,null,"CONDIÇÃO SEM DESONERAÇÃO"]
[{"$nulls":4},"REFORMA"]
[{"$nulls":4},"PEQUENO PORTE"]
[null,"DESPESAS INDIRETAS",null,null,"% SOBRE PV","% SOBRE  CD"]
[null,"A","ADMINISTRAÇÃO CENTRAL","Variável - f (CD)",{"$f":"F40/(1+$F$25)","v":2.7887802117856277E-2},3.4500000000000003E-2]
[null,"B","DESPESAS FINANCEIRAS","1,23% sobre (PV - Lucro)",8.5000000000000006E-3,{"$f":"E41*(1+$F$25)","v":1.0515350000000001E-2}]
[null,"C","SEGUROS E GARANTIAS CONTRATUAIS","0,8% do PV",3.0000000000000001E-3,{"$f":"E42*(1+$F$25)","v":3.7113000000000003E-3}]
[null,"D","RISCOS","1,27% do PV",8.5000000000000006E-3,{"$f":"E43*(1+$F$25)","v":1.0515350000000001E-2}]
[null,"SUBTOTAL",null,null,{"$f":"SUM(E40:E43)","v":4.788780211785628E-2},{"$f":"SUM(F40:F43)","v":5.9242000000000003E-2}]
[null,"LUCRO",null,null,"% SOBRE PV","% SOBRE  CD"]
[null,"E","LUCRO OPERACIONAL","Variável - f (CD)",{"$f":"F46/(1+$F$25)","v":4.130628081804219E-2},5.11E-2]
[null,"SUBTOTAL",null,null,{"$f":"SUM(E46)","v":4.130628081804219E-2},{"$f":"SUM(F46)","v":5.11E-2}]
[null,"TAXAS E IMPOSTOS",null,null,"% SOBRE PV","% SOBRE  CD"]
[null,"F","PIS","0,65% de PV",6.4999999999999997E-3,{"$f":"E49*(1+$F$25)","v":8.0411500000000004E-3}]
[null,"G","COFINS","3,00% de PV",0.03,{"$f":"E50*(1+$F$25)","v":3.7113E-2}]
[null,"H","ISSQN","3,00% de PV",null,{"$f":"E51*(1+$F$25)","v":0}]
[null,"SUBTOTAL",null,null,{"$f":"SUM(E49:E51)","v":3.6499999999999998E-2},{"$f":"SUM(F49:F51)","v":4.5154150000000004E-2}]
[null,"BDI COM IMPOSTOS",null,null,{"$f":"+E52+E47+E44","v":0.12569408293589848},{"$f":"ROUND((1+(F40+F46))/(1-(E41+E42+E43+E49+E50+E51))-1,4)","v":0.15060000000000001}]
[null,"BDI = ",null,null,null,{"$f":"F53","v":0.15060000000000001}]