{"text_format":"2","workbook":"xlsx","n_sheets":19,"sheets":["PFP","PFP1.1_Topo","PFP1.2_Geo","PFP1.3_Ger","PFP1.4_Pedo","PFP2.1_FatorKa","PFP2.2_FatorKb","PFP2.3_FatorKc","PFP3_FatorKd","CRO1_Ins-Pro","CRO2_Ins-Mes","Cronograma Físico-Financeiro","MDO DNIT-jul2024","Drone","Serv Graficos","CPU-VEICULO_PickUp","CPU-VEICULO_Leve","CPU HOSPEDAGEM","COT. VANT"],"not_rendered":{"charts":0,"images":38,"macros":0,"external_links":49,"defined_names":20026,"comments":1,"pivot_tables":0},"unopened":[],"bounds":{"document_bytes":16777216,"sheet_cells":100000,"run_cost":"one","rows_first":2000,"rows_last":500,"rows_between":2000,"halvings":0,"cell_chars":16384,"cell_head_chars":4096},"cells_cut":0,"cells_raw":0,"read":"whole","date_system":"1900"}

{"sheet":"PFP","index":0,"n_rows":47,"n_cols":13,"rows_kept":47,"cut":false,"hidden":false,"merged":[[5,10,5,11],[5,6,5,9],[29,0,29,7],[29,8,29,11],[5,0,5,5],[28,0,28,7],[28,8,28,11],[0,0,1,9],[4,6,4,9],[0,10,0,11],[1,10,1,11],[4,10,4,11],[2,0,2,11],[3,0,3,11],[4,0,4,5],[46,0,46,11],[39,0,39,11],[41,0,41,11],[33,0,33,11],[40,0,40,11],[36,0,36,11],[42,0,42,11],[43,0,43,11],[44,0,44,11],[45,0,45,11],[37,0,37,11],[31,8,31,11],[31,0,31,7],[30,8,30,11],[30,0,30,7],[38,0,38,11],[32,0,32,7],[32,8,32,11],[35,0,35,11],[34,0,34,11]]}
["PROPOSTA FINANCEIRA DO PROJETO",{"$nulls":9},"CODIGO:"]
[{"$nulls":10},"PFP"]
["NOME DA CONSULTORA:"]
[]
["PROJETO:",{"$nulls":5},"CONTRATANTE:",null,null,null,"BASE:"]
["Contratação para Elaboração de Estudos Básicos, Estudos de Viabilidade Técnica, Econômica e Ambiental (EVTEA), e Consolidação do Anteprojeto de Engenharia para Atividades de Irrigação em uma área total estimada de 8.500 hectares, ao longo das margens do Riacho Pontal, situado no município de Petrolina-PE.",{"$nulls":5},"CODEVASF (SEDE)",null,null,null,"2024-10-01"]
["Base","Cod2","Cod3","Código","Categoria / Insumo","Uni","Qde","CUD","PU","FatorK","CT","PT","Encargos COMP E ADICIONAIS"]
["SICRO","MO3","P0","P8061","Engenheiro coordenador (P8061)","mês",{"$f":"'CRO1_Ins-Pro'!D5","v":3},{"$f":"VLOOKUP(D8,'MDO DNIT-jul2024'!A:Z,4,0)","v":18189.93},{"$f":"ROUND(J8*H8,2)","v":23716.03},{"$f":"'PFP2.3_FatorKc'!E35","v":1.3038000000000001},{"$f":"ROUND(G8*H8,2)","v":54569.79},{"$f":"ROUND(G8*I8,2)","v":71148.09},{"$f":"VLOOKUP(D8,'MDO DNIT-jul2024'!A:Z,26,0)","v":1069.489999999998}]
["SICRO","MO2","P1","P8067","Engenheiro sênior (P8067)","mês",{"$f":"'CRO1_Ins-Pro'!D6","v":8.25},{"$f":"VLOOKUP(D9,'MDO DNIT-jul2024'!A:Z,4,0)","v":15877.29},24562.17,{"$f":"'PFP2.2_FatorKb'!$E$35","v":1.5469999999999999},130987.64,202637.9,{"$f":"VLOOKUP(D9,'MDO DNIT-jul2024'!A:Z,26,0)","v":1071.7099999999991}]
["SICRO","MO1","P2","P8066","Engenheiro pleno (P8066)","mês",{"$f":"'CRO1_Ins-Pro'!D7","v":11.75},{"$f":"VLOOKUP(D10,'MDO DNIT-jul2024'!A:Z,4,0)","v":12629.6},{"$f":"ROUND(J10*H10,2)","v":27215.53},{"$f":"'PFP2.1_FatorKa'!$E$35","v":2.1549},{"$f":"ROUND(G10*H10,2)","v":148397.79999999999},319782.48,{"$f":"VLOOKUP(D10,'MDO DNIT-jul2024'!A:Z,26,0)","v":1071.7099999999991}]
["SICRO","MO1","P3","P8065","Engenheiro júnior (P8065)","mês",{"$f":"'CRO1_Ins-Pro'!D8","v":18.75},{"$f":"VLOOKUP(D11,'MDO DNIT-jul2024'!A:Z,4,0)","v":12002},{"$f":"ROUND(J11*H11,2)","v":25863.11},{"$f":"'PFP2.1_FatorKa'!$E$35","v":2.1549},{"$f":"ROUND(G11*H11,2)","v":225037.5},484933.31,{"$f":"VLOOKUP(D11,'MDO DNIT-jul2024'!A:Z,26,0)","v":1071.7000000000007}]
["SICRO",null,"P1","P8046","Economista Pleno (P8046)","mês",{"$f":"'CRO1_Ins-Pro'!D9","v":4},{"$f":"VLOOKUP(D12,'MDO DNIT-jul2024'!A:Z,4,0)","v":6333.46},{"$f":"ROUND(J12*H12,2)","v":13647.97},{"$f":"'PFP2.1_FatorKa'!$E$35","v":2.1549},{"$f":"ROUND(G12*H12,2)","v":25333.84},{"$f":"ROUND(G12*I12,2)","v":54591.88},{"$f":"VLOOKUP(D12,'MDO DNIT-jul2024'!A:Z,26,0)","v":1044.0999999999995}]
["SICRO",null,"P1","P8002","Advogado Pleno (P8002)","mês",{"$f":"'CRO1_Ins-Pro'!D10","v":1},{"$f":"VLOOKUP(D13,'MDO DNIT-jul2024'!A:Z,4,0)","v":6155.17},{"$f":"ROUND(J13*H13,2)","v":13263.78},{"$f":"'PFP2.1_FatorKa'!$E$35","v":2.1549},{"$f":"ROUND(G13*H13,2)","v":6155.17},13263.78,{"$f":"VLOOKUP(D13,'MDO DNIT-jul2024'!A:Z,26,0)","v":1070.6699999999992}]
["SICRO",null,null,"P8020","Assistente Social (pleno)","mês",{"$f":"'CRO1_Ins-Pro'!D11","v":7},{"$f":"VLOOKUP(D14,'MDO DNIT-jul2024'!A:Z,4,0)","v":4353.21},{"$f":"ROUND(J14*H14,2)","v":9380.73},{"$f":"'PFP2.1_FatorKa'!$E$35","v":2.1549},30472.47,65665.11,{"$f":"VLOOKUP(D14,'MDO DNIT-jul2024'!A:Z,26,0)","v":1072.0100000000002}]
["SICRO","MO1",null,"P8019","Técnico em Ação Social (assistente social junior)","mês",{"$f":"'CRO1_Ins-Pro'!D12","v":14},{"$f":"VLOOKUP(D15,'MDO DNIT-jul2024'!A:Z,4,0)","v":3264.91},7035.55,{"$f":"'PFP2.1_FatorKa'!$E$35","v":2.1549},45708.74,98497.7,{"$f":"VLOOKUP(D15,'MDO DNIT-jul2024'!A:Z,26,0)","v":1095.1500000000001}]
["SICRO","MO1","T1","P8147","Técnico de projetos/obra (P8147)","mês",{"$f":"'CRO1_Ins-Pro'!D13","v":17},{"$f":"VLOOKUP(D16,'MDO DNIT-jul2024'!A:Z,4,0)","v":3184.9},6863.14,{"$f":"'PFP2.1_FatorKa'!$E$35","v":2.1549},54143.3,116673.38,{"$f":"VLOOKUP(D16,'MDO DNIT-jul2024'!A:Z,26,0)","v":1102.5299999999997}]
["SINAPI","MO1","D",40807,"Desenhista (40807) **","mês",{"$f":"'CRO1_Ins-Pro'!D14","v":7.5},3886.55,4725.2700000000004,{"$f":"PFP3_FatorKd!$E$17","v":1.2158},29149.13,35439.53,{"$f":"M18","v":1103.2599999999993}]
["SICRO","MO1","A1","P8135","Secretária (P8135)","mês",{"$f":"'CRO1_Ins-Pro'!D15","v":3.75},{"$f":"VLOOKUP(D18,'MDO DNIT-jul2024'!A:Z,4,0)","v":2697.38},{"$f":"ROUND(J18*H18,2)","v":5812.58},{"$f":"'PFP2.1_FatorKa'!$E$35","v":2.1549},{"$f":"ROUND(G18*H18,2)","v":10115.18},{"$f":"ROUND(G18*I18,2)","v":21797.18},{"$f":"VLOOKUP(D18,'MDO DNIT-jul2024'!A:Z,26,0)","v":1103.2599999999993}]
["SICRO","EC","ECA",null,"Encargos Comp. e Adicionais","mês",{"$f":"'CRO1_Ins-Pro'!D16","v":96},{"$f":"AVERAGE(M8:M18)","v":1079.5990909090904},1312.58,{"$f":"PFP3_FatorKd!$E$17","v":1.2158},{"$f":"ROUND(G19*H19,2)","v":103641.51},{"$f":"ROUND(G19*I19,2)","v":126007.67999999999}]
["PROP","EC","AT2",null,"Auxilio Transporte Técnicos","mês",{"$f":"'CRO1_Ins-Pro'!D17","v":17},"Já incluso*",0,{"$f":"PFP3_FatorKd!$E$17","v":1.2158},0,{"$f":"ROUND(G20*I20,2)","v":0},"OBSERVAÇÃO:"]
["PROP","EC","AT3",null,"Auxilio Transporte Secretária","mês",{"$f":"'CRO1_Ins-Pro'!D18","v":3.75},"Já Incluso*",0,{"$f":"PFP3_FatorKd!$E$17","v":1.2158},0,0,"** A mão de obra do Sinapi já possui encargos sociais, por isso deve se usar o \"fator K\" sem encargos"]
["CODE","EM","M1",null,"Relatório Parcial","un",{"$f":"'CRO1_Ins-Pro'!D19","v":0},{"$f":"'Serv Graficos'!E33","v":51.3},62.37,{"$f":"PFP3_FatorKd!$E$17","v":1.2158},0,{"$f":"ROUND(G22*I22,2)","v":0}]
["CODE","EM","M2",null,"Relatório Final","un",{"$f":"'CRO1_Ins-Pro'!D20","v":3},{"$f":"'Serv Graficos'!E35","v":1502.05},1826.19,{"$f":"PFP3_FatorKd!$E$17","v":1.2158},4506.1499999999996,5478.57]
["CODE","SU","TOP",null,"Total Serviços Cartográficos","un",{"$f":"'CRO1_Ins-Pro'!D21","v":1},"-",{"$f":"'PFP1.1_Topo'!J20","v":154337.22156696956},"-","-",154337.22]
["CODE","SU","GEO",null,"Total Serviços Geotécnicos","un",{"$f":"'CRO1_Ins-Pro'!D22","v":1},"-",{"$f":"'PFP1.2_Geo'!I28","v":225909.10874315858},"-","-",225909.11]
["CODE","SU","PED",null,"Total Serviços Pedológicos","un",{"$f":"'CRO1_Ins-Pro'!D24","v":1},"-",{"$f":"'PFP1.4_Pedo'!J16","v":563602.97067951236},null,null,563602.97]
["CODE","SU","GEO",null,"Total Equipamento para Ambiental","mês",1,{"$f":"'PFP1.3_Ger'!G17","v":2884.4700000000003},{"$f":"ROUND(J27*H27,2)","v":3506.94},{"$f":"PFP3_FatorKd!$E$17","v":1.2158},{"$f":"ROUND(G27*H27,2)","v":2884.47},{"$f":"ROUND(G27*I27,2)","v":3506.94}]
["CODE","SU","GEO",null,"Total Recursos Gerais","un",{"$f":"'CRO1_Ins-Pro'!D25","v":1},{"$f":"'PFP1.3_Ger'!G15","v":102495.60123535924},124614.15,{"$f":"PFP3_FatorKd!$E$17","v":1.2158},{"$f":"ROUND(G28*H28,2)","v":102495.6},124614.15]
["TOTAL DOS CUSTOS DIRETOS",{"$nulls":7},{"$f":"SUM(K8:K28)","v":973598.29}]
["TOTAL DOS ENCARGOS E DISPESAS DIVERSAS",{"$nulls":7},{"$f":"I31-I29","v":642318.29999999981}]
["TOTAL DA PROPOSTA A PREÇO GLOBAL",{"$nulls":7},{"$f":"SUM(L8:L23)","v":1615916.5899999999}]
["TOTAL DA PROPOSTA A PREÇO UNITÁRIO",{"$nulls":7},{"$f":"SUM(L24:L28)","v":1071970.3899999999}]
["TOTAL DA PROPOSTA",{"$nulls":7},{"$f":"I31+I32","v":2687886.9799999995}]
["OBSERVAÇÃO:"]
["*Encargos Complementares e adicionais já incluem auxílio transporte"]
["Alocar os Insumos MO, com respectivo FatorK, dentro da categoria de vínculo contratual (celetista, autonomo, societario)"]
["Uni - unidade de medição do insumo;"]
["Qde - Quantidade do Insumo (não pode ocorrer alteração pela Licitante)"]
["CUD - Custo Unitário Direto do Insumo (sem encargos, taxas e impostos, valor não pode ser maior que o Orçado pela Codevasf)"]
["CT - Custo Total (sem encargos, taxas e impostos) - CT = Qde x CUD"]
["FatorK - Taxa de Ressarcimento de Despesas e Encargos (detalhar composição nas Planilhas \"PFP2.1\", \"PFP2.2\", \"PFP3\")"]
["PU - Preço Unitário do Insumo (incluído encargos, taxas e impostos) - PU = CUD x FatorK"]
["PT - Preço Total do Insumo (incluído encargos, taxas e impostos) - PT = Qde x PU"]
["P - Profissionais nível superior nas áreas de Engenharia, Química, Arquitetura, Agronomia e Veterinária, conforme disposições da Lei 4.950-A/66"]
["S - Profissionais de nível superior nas demais áreas de atuação, incluindo Arqueólogo, Biólogo, Geógrafo e Sociólogo"]
["T - Profissionais de nível médio técnico nas diversas áreas de atuação"]
["A - Profissionais de nível médio de apoio técnico-administrativo"]

{"sheet":"PFP1.1_Topo","index":1,"n_rows":25,"n_cols":14,"rows_kept":25,"cut":false,"hidden":false,"merged":[[3,11,3,13],[22,11,23,13],[24,11,24,12],[24,0,24,9],[0,0,1,7],[2,0,2,9],[3,0,3,9],[4,0,4,5],[4,6,4,7],[5,0,5,5],[5,6,5,7],[19,0,19,7],[20,0,20,9],[21,0,21,9],[22,0,22,9],[23,0,23,9]]}
["SERVIÇOS TOPOGRÁFICOS/CARTOGRÁFICOS",{"$nulls":8},"CODIGO:"]
[{"$nulls":9},"PFP-1.1"]
["NOME DA EMPRESA:"]
[{"$nulls":11},"MEMÓRIA DE CALCULO DO BDI DE FORNECIMENTO"]
["PROJETO:",{"$nulls":5},"CONTRATANTE:",null,null,{"$f":"PFP!K5","v":"BASE:"},null,"ITEM","DISCRIMINAÇÃO","PERC.    (%)"]
[{"$f":"PFP!A6","v":"Contratação para Elaboração de Estudos Básicos, Estudos de Viabilidade Técnica, Econômica e Ambiental (EVTEA), e Consolidação do Anteprojeto de Engenharia para Atividades de Irrigação em uma área total estimada de 8.500 hectares, ao longo das margens do Riacho Pontal, situado no município de Petrolina-PE."},{"$nulls":5},"CODEVASF (SEDE)",null,null,{"$f":"PFP!K6","v":"2024-10-01"}]
["Cod.","Base","Referência","Código","Insumos","Uni","Qde","Custo Unitário (CU)","Custo Total","Preço Total (PT)"]
["TP01","CODE","CODE","CODE","Nivelamento Geométrico dos Eixos classe IIN","km",8,615.55999999999995,{"$f":"ROUND(G8*H8,2)","v":4924.4799999999996},{"$f":"(I8*$N$25)+I8","v":5647.9852021463421},null,"1.00","Despesas Indiretas"]
["TP02","CODE","ORSE/COMPOSIÇÃO",9164,"Seções Tranversais","km",4,{"$f":"4.67*1000","v":4670},{"$f":"ROUND(G9*H9,2)","v":18680},{"$f":"(I9*$N$25)+I9","v":21424.467878048785},null,"A1","Seguro e Garantia",8.0000000000000002E-3]
["TP03","CODE","EMOP/COMPOSIÇÃO","01.016.0035-0","Poligonal Classe IIP","km",8,1366.27,10930.16,12536.020440146343,null,"A2","Riscos e Imprevistos",1.15E-2]
["TP04","CODE","CPOS/CDHU/COMPOSIÇÃO","01.20.921","Pontos GPS de dupla frequencia (L1/L2)","un ",20,1264.1400000000001,25282.799999999999,28997.352059268298,null,"A3","Despesas Financeiras",1.0500000000000001E-2]
["TP05","CODE","CODE","CODE","Cadastro Físico","ha ",2500,12.911555172413793,32278.89,37021.308455250008,null,"A4","Administração Central",2.1999999999999999E-2]
["TP06","CODE","CODE","CODE","Cadastro Agrícola","ha ",{"$f":"G12","v":2500},4.3038517241379308,10759.63,12340.436151750002,null,"Total do Grupo A =",null,{"$f":"SUM(N9:N12)","v":5.1999999999999998E-2}]
["TP07","CODE","CODE","CODE","Cadastro Jurídico","ha ",{"$f":"G13","v":2500},8.6077034482758616,21519.26,24680.872303500004,null,"2.00","Benefício"]
["TP08","CODE","CODE","CODE","Cadastro Socioeconomico","ha ",2500,2.8692344827586211,7173.09,8226.9612575670744,null,"B1","LUCRO",0.05]
["TP10","CODE","ORSE/INSUMO",4369,"Marco de Concreto (12x18x60cm)","un ",{"$f":"G11","v":20},73,1460,1674.5033780487809,null,"Total do Grupo B =",null,{"$f":"N15","v":0.05}]
["TP11","CODE","SBC/INSUMO",5238,"Barrote de Madeira (10x10x50cm)","un ",20,30.03,600.6,688.84022524390264,null,"3.00","Impostos"]
["TP12","CODE","SEINFRA/INSUMO","I1652","Piquetes de Madeira (2x2x20cm)","un ",200,2.08,416,477.1187707317074,null,"C1","PIS / PASEP",6.4999999999999997E-3]
["TP13","CODE",null,"CODE","Picada Manual p/ levantamento TP","km",2,{"$f":"'PFP1.4_Pedo'!H14","v":270.88},541.76,621.35544526829278,null,"C2","COFINS",0.03]
["TOTAL SERVIÇOS TOPOGRÁFICOS",{"$nulls":8},{"$f":"SUM(J8:J19)","v":154337.22156696956},null,"C3","ISS",0]
["OBSERVAÇÃO:",{"$nulls":10},"Total do Grupo C =",null,{"$f":"SUM(N18:N20)","v":3.6499999999999998E-2}]
["Uni - unidade de medição do insumo;",{"$nulls":10},"Fórmula Para Cálculo do B.D.I"]
["Qde - Quantidade do Insumo (não pode ocorrer alteração pela Licitante)",{"$nulls":10},"BDI =(((1+A4+A1+A2)*(1+A3)*(1+B))/(1-C))-1"]
["PU - Preço Unitário (composições padrão da Codevasf, já incluso o FatorK)"]
["PT - Preço Total (incluído encargos, taxas e impostos) - PT = Qde x PU",{"$nulls":10},"Bonificação Sobre Despesas indiretas (B.D.I) =",null,{"$f":"(((1+N12+N9+N10)*(1+N11)*(1+N16))/(1-N21))-1","v":0.14692012195121973}]

{"sheet":"PFP1.2_Geo","index":2,"n_rows":33,"n_cols":13,"rows_kept":33,"cut":false,"hidden":false,"merged":[[31,0,31,8],[32,0,32,8],[27,0,27,6],[28,0,28,8],[29,0,29,8],[30,0,30,8],[0,0,1,6],[2,0,2,8],[3,0,3,8],[4,0,4,4],[4,5,4,6],[6,10,6,12],[25,10,26,12],[27,10,27,11],[5,0,5,4],[5,5,5,6],[7,3,7,8]]}
["SERVIÇOS GEOLÓGICOS/GEOTÉCNICOS",{"$nulls":7},"CODIGO:"]
[{"$nulls":8},"PFP-1.2"]
["NOME DA EMPRESA:"]
[]
["PROJETO: ",{"$nulls":4},"CONTRATANTE:",null,null,{"$f":"PFP!K5","v":"BASE:"}]
[{"$f":"PFP!A6","v":"Contratação para Elaboração de Estudos Básicos, Estudos de Viabilidade Técnica, Econômica e Ambiental (EVTEA), e Consolidação do Anteprojeto de Engenharia para Atividades de Irrigação em uma área total estimada de 8.500 hectares, ao longo das margens do Riacho Pontal, situado no município de Petrolina-PE."},{"$nulls":4},"CODEVASF (SEDE)",null,null,{"$f":"PFP!K6","v":"2024-10-01"}]
["Cod.","Código","Referência","Insumos","Uni","Qde","Custo Unitário (CU)","Custo Total","Preço Total (PT)",null,"MEMÓRIA DE CALCULO DO BDI DE FORNECIMENTO"]
["GT 1",null,null,"Sondagem mista",{"$nulls":6},"ITEM","DISCRIMINAÇÃO","PERC.    (%)"]
["GT1.1","E200320516","EMBASA/INSUMO","Sondagem Mista: (Des)Mobilização por equipe","un",2,3157.33,{"$f":"ROUND(G9*F9,2)","v":6314.66},{"$f":"(H9*$M$28)+H9","v":7242.4106172804886}]
["GT1.2","C0333","SEINFRA/COMPOSIÇÃO","Sondagem Mista: em rochas","m",60,1251.98,{"$f":"ROUND(G10*F10,2)","v":75118.8},{"$f":"(H10*$M$28)+H10","v":86155.26325682929}]
["GT 2",null,null,"Sondagem a Percussão SPT",{"$nulls":6},"1.00","Despesas Indiretas"]
["GT2.1","A.07.000.020476","CPOS/INSUMO","Sondagem Percussão: (Des)Mobilização por equipe","un",2,1266.23,{"$f":"ROUND(G12*F12,2)","v":2532.46},{"$f":"(H12*$M$28)+H12","v":2904.5293320365859},null,"A1","Seguro e Garantia",8.0000000000000002E-3]
["GT2.2","CO-28388","SETOP/COMPOSIÇÃO","Sondagem Percursão: com SPT - Terrestre","m",180,72.5,13050,14967.307591463417,null,"A2","Riscos e Imprevistos",1.15E-2]
["GT3",null,"CODE","Poços de Inspeção com retroescavadeira","m",180,202.54,36457.199999999997,41813.496270000003,null,"A3","Despesas Financeiras",1.0500000000000001E-2]
["GT4","32.01.01","EMBASA/COMPOSIÇÃO","Sondagem a Trado","m",50,97.5,4875,5591.2355945121963,null,"A4","Administração Central",2.1999999999999999E-2]
["GT5.",null,null,"Ensaios de solo",{"$nulls":6},"Total do Grupo A =",null,{"$f":"SUM(M12:M15)","v":5.1999999999999998E-2}]
["GT5.1","ED-49553","SETOP/COMPOSIÇÃO","Ensaio: Limite de Liquidez","un",60,79.81,{"$f":"ROUND(G17*F17,2)","v":4788.6000000000004},{"$f":"(H17*$M$28)+H17","v":5492.1416959756116},null,"2.00","Benefício"]
["GT5.2","ED-49554","SETOP/COMPOSIÇÃO","Ensaio: Limite de Plasticidade","un",60,79.819999999999993,4789.2,5492.8298480487811,null,"B1","LUCRO",0.05]
["GT5.3","ED-49552","SETOP/COMPOSIÇÃO","Ensaio: Granulometria por Peneiramento","un",65,150.69,9794.85,11233.910556493905,null,"Total do Grupo B =",null,{"$f":"M18","v":0.05}]
["GT5.4","01.07.07U","COMPESA/COMPOSIÇÃO","Ensaio: Granulometria por Sedimentação","un",60,138.12,8287.2000000000007,9504.7564346341496,null,"3.00","Impostos"]
["GT5.5",4685,"ORSE/COMPOSIÇÃO","Ensaio: Compactação Proctor Normal","un",60,220,13200,15139.345609756101,null,"C1","PIS / PASEP",6.4999999999999997E-3]
["GT5.6","34.01.16","EMBASA/COMPOSIÇÃO","Ensaio: Massa Especifica Real dos Grãos","un",60,65.78,3946.8,4526.6643373170746,null,"C2","COFINS",0.03]
["GT5.7","01.001.0210-A","EMOP/COMPOSIÇÃO","Ensaio: Massa Específica Aparente \"in situ\" ","un",60,109.48,6568.8,7533.8888970731723,null,"C3","ISS",0]
["GT6.",null,null,"Análise da Areia ",{"$nulls":6},"Total do Grupo C =",null,{"$f":"SUM(M21:M23)","v":3.6499999999999998E-2}]
["GT6.1",null,"CODE","Ensaio: Mineralogia da Areia","un",5,333.66,{"$f":"ROUND(G25*F25,2)","v":1668.3},{"$f":"(H25*$M$28)+H25","v":1913.4068394512199},null,"Fórmula Para Cálculo do B.D.I"]
["GT6.2","34.05.30","EMBASA/COMPOSIÇÃO","Ensaio: Teor de Matéria Orgânica","un",5,250,1250,1433.6501524390246,null,"BDI =(((1+A4+A1+A2)*(1+A3)*(1+B))/(1-C))-1"]
["GT6.3",null,"CODE","Ensaio: Reatividade Potencial","un",5,865.67,4328.3500000000004,4964.2717098475623]
["TOTAL SERVIÇOS GEOTÉCNICOS",{"$nulls":7},{"$f":"SUM(I9:I27)","v":225909.10874315858},null,"Bonificação Sobre Despesas indiretas (B.D.I) =",null,{"$f":"(((1+M15+M12+M13)*(1+M14)*(1+M19))/(1-M24))-1","v":0.14692012195121973}]
["LEGENDA:"]
["Uni - unidade de medição do insumo;"]
["Qde - Quantidade do Insumo (não pode ocorrer alteração pela Licitante)"]
["PU - Preço Unitário (composições padrão da Codevasf, já incluso o FatorK)"]
["PT - Preço Total (incluído encargos, taxas e impostos) - PT = Qde x PU"]

{"sheet":"PFP1.3_Ger","index":3,"n_rows":27,"n_cols":7,"rows_kept":27,"cut":false,"hidden":false,"merged":[[0,0,1,6],[21,0,21,6],[14,0,14,5],[17,0,17,6],[18,0,18,6],[19,0,19,6],[20,0,20,6],[16,0,16,5],[5,0,5,3],[5,4,5,5],[2,0,2,6],[3,0,3,6],[4,0,4,3],[4,4,4,5]]}
["RECURSOS GERAIS"]
[]
["NOME DA EMPRESA:"]
[]
["PROJETO: ",null,null,null,"CONTRATANTE:",null,{"$f":"PFP!K5","v":"BASE:"}]
[{"$f":"PFP!A6","v":"Contratação para Elaboração de Estudos Básicos, Estudos de Viabilidade Técnica, Econômica e Ambiental (EVTEA), e Consolidação do Anteprojeto de Engenharia para Atividades de Irrigação em uma área total estimada de 8.500 hectares, ao longo das margens do Riacho Pontal, situado no município de Petrolina-PE."},null,null,null,"CODEVASF (SEDE)",null,{"$f":"PFP!K6","v":"2024-10-01"}]
["Cod.","Base","Insumos","Uni","Qde","Preço Unitário (PU)","Preço Total (PT)"]
["V1","CODE","Diárias","dia",120,{"$f":"'CPU HOSPEDAGEM'!C19","v":193.12007575757576},{"$f":"E8*F8","v":23174.409090909092}]
[null,"CODE","Veículo leve - 53 kW (sem motorista)","mês",3,{"$f":"'CPU-VEICULO_Leve'!D7","v":3358.807213121765},10076.421639365295]
["V3","CODE","Caminhonete 2.8 4x4 Diesel","mês","3",{"$f":"'CPU-VEICULO_PickUp'!C10","v":7163.7901683616183},21491.370505084855]
["B8951","DNIT","Imóvel Comercial","m².mês","240",47.13,11311.2]
["B8953","DNIT","Mobiliário de Escritório","Ocupante.mês","60",473,28380]
["B8959","DNIT","Custos Diversos de Escritório","Ocupante.mês","60",134.37,8062.2000000000007]
[]
["TOTAL RECURSOS GERAIS",{"$nulls":5},{"$f":"SUM(G8:G14)","v":102495.60123535924}]
[null,null,"Drone","mês",1,{"$f":"Drone!N69","v":2884.4700000000003},{"$f":"E16*F16","v":2884.4700000000003}]
["TOTAL EQUIPAMENTO PARA AMBIENTAL",{"$nulls":5},{"$f":"G16","v":2884.4700000000003}]
["LEGENDA:"]
["Uni - unidade de medição do insumo;"]
["Qde - Quantidade do Insumo (não pode ocorrer alteração pela Licitante)"]
["PU - Preço Unitário (composições padrão da Codevasf, já incluso o FatorK)"]
["PT - Preço Total (incluído encargos, taxas e impostos) - PT = Qde x PU"]
[]
[]
[null,"Unidade errada, é m².mês"]
[null,"Ocupante.mês"]
[null,"Ocupante.mês"]

{"sheet":"PFP1.4_Pedo","index":4,"n_rows":23,"n_cols":14,"rows_kept":23,"cut":false,"hidden":false,"merged":[[1,11,1,13],[20,11,21,13],[22,11,22,12],[19,0,19,9],[0,0,1,7],[2,0,2,9],[3,0,3,9],[4,0,4,5],[4,6,4,7],[5,0,5,5],[5,6,5,7],[7,4,7,9],[15,0,15,7],[16,0,16,9],[17,0,17,9],[18,0,18,9]]}
["SERVIÇOS PEDOLÓGICOS",{"$nulls":8},"CODIGO:"]
[{"$nulls":11},"MEMÓRIA DE CALCULO DO BDI DE FORNECIMENTO"]
["NOME DA EMPRESA:",{"$nulls":10},"ITEM","DISCRIMINAÇÃO","PERC.    (%)"]
[]
["PROJETO:",{"$nulls":5},"CONTRATANTE:"]
[{"$nulls":6},"CODEVASF (SEDE)",{"$nulls":4},"1.00","Despesas Indiretas"]
["Cod.","Base","Código","Referência","Insumos","Uni","Qde","Custo Unitário (CU)","Custo Total","Preço Total (PT)",null,"A1","Seguro e Garantia",8.0000000000000002E-3]
["GT 1","CODE",null,null,"Sondagens",{"$nulls":6},"A2","Riscos e Imprevistos",1.15E-2]
["GT1.2","CODE","32.01.01","Consultiva Codevasf","Tradagens Pedológicas Auxiliares","un",1700,107.1,{"$f":"ROUND(H9*G9,2)","v":182070},{"$f":"(I9*$N$23)+I9","v":208819.74660365857},null,"A3","Despesas Financeiras",1.0500000000000001E-2]
["GT1.3","CODE",null,"Consultiva Codevasf","Abertura e Descrição de Trincheiras","un",425,350.61,{"$f":"ROUND(H10*G10,2)","v":149009.25},{"$f":"(I10*$N$23)+I10","v":170901.70718185979},null,"A4","Administração Central",2.1999999999999999E-2]
["GT2","CODE",null,null,"Ensaios: ",{"$nulls":6},"Total do Grupo A =",null,{"$f":"SUM(N7:N10)","v":5.1999999999999998E-2}]
["GT2.1","CODE",null,"Consultiva Codevasf","Análises completas de trincheiras*","un",255,{"$f":"H10","v":350.61},{"$f":"ROUND(H12*G12,2)","v":89405.55},{"$f":"(I12*$N$23)+I12","v":102541.02430911588},null,"2.00","Benefício"]
["GT2.2","CODE","SE 40.05.0050","SCO/COMPOSIÇÃO","Análises parciais de pedologia","un",255,250,{"$f":"ROUND(H13*G13,2)","v":63750},{"$f":"(I13*$N$23)+I13","v":73116.15777439026},null,"B1","LUCRO",0.05]
["GT2.3","CODE",null,"Consultiva Codevasf","Picadas manuais","km",5,270.88,1354.4,1553.388613170732,null,"Total do Grupo B =",null,{"$f":"N13","v":0.05}]
["GT2.4","CODE",null,"Consultiva Codevasf","Teste de condutividade hidráulica tipo porchet","un",20,290.82,5816.4,6670.9461973170737,null,"3.00","Impostos"]
["TOTAL SERVIÇOS PEDOLÓGICOS",{"$nulls":8},{"$f":"SUM(J9:J15)","v":563602.97067951236},null,"C1","PIS / PASEP",6.4999999999999997E-3]
["LEGENDA:",{"$nulls":10},"C2","COFINS",0.03]
["Uni - unidade de medição do insumo;",{"$nulls":10},"C3","ISS",0]
["km - Quilômetro de medição",{"$nulls":10},"Total do Grupo C =",null,{"$f":"SUM(N16:N18)","v":3.6499999999999998E-2}]
["Qde - Quantidade do Insumo (não pode ocorrer alteração pela Licitante)",{"$nulls":10},"Fórmula Para Cálculo do B.D.I"]
[{"$nulls":11},"BDI =(((1+A4+A1+A2)*(1+A3)*(1+B))/(1-C))-1"]
["OBSERVAÇÕES"]
["* O preço para o serviço \"Análises completas de trincheiras\" foi estimado como sendo o mesmo valor do serviço \"Abertura e Descrição de Trincheiras\".",{"$nulls":10},"Bonificação Sobre Despesas indiretas (B.D.I) =",null,{"$f":"(((1+N10+N7+N8)*(1+N9)*(1+N14))/(1-N19))-1","v":0.14692012195121973}]

{"sheet":"PFP2.1_FatorKa","index":5,"n_rows":40,"n_cols":6,"rows_kept":40,"cut":false,"hidden":false,"merged":[[19,1,19,3],[20,1,20,3],[22,1,22,3],[9,1,9,3],[10,1,10,3],[11,1,11,3],[12,1,12,3],[33,1,33,3],[0,0,1,4],[2,0,2,5],[5,0,5,1],[5,2,5,4],[4,2,4,4],[3,0,3,5],[23,1,23,3],[7,1,7,3],[16,1,16,3],[8,1,8,3],[13,1,13,3],[14,1,14,3],[15,1,15,3],[17,1,17,3],[18,1,18,3],[34,1,34,3],[6,1,6,3],[39,0,39,5],[38,0,38,5],[37,0,37,5],[36,0,36,5],[21,1,21,3],[28,1,28,3],[29,1,29,3],[27,1,27,3],[24,1,24,3],[25,1,25,3],[26,1,26,3],[32,1,32,3],[30,1,30,3],[31,1,31,3]]}
["DETALHAMENTO DOS ENCARGOS SOCIAIS: Ka",{"$nulls":4},"CODIGO:"]
[{"$nulls":5},"PFP-2.1"]
["NOME DA CONSULTORA:"]
[]
["PROJETO:",null,"CONTRATANTE:",null,null,{"$f":"PFP!K5","v":"BASE:"}]
[{"$f":"PFP!A6","v":"Contratação para Elaboração de Estudos Básicos, Estudos de Viabilidade Técnica, Econômica e Ambiental (EVTEA), e Consolidação do Anteprojeto de Engenharia para Atividades de Irrigação em uma área total estimada de 8.500 hectares, ao longo das margens do Riacho Pontal, situado no município de Petrolina-PE."},null,"CODEVASF (SEDE)",null,null,"vigencia 12/2023"]
["Cod","DESCRIÇÃO",null,null,"%","R$"]
["A","ENCARGOS SOCIAIS BÁSICOS",null,null,{"$f":"ROUND(SUM(E9:E16),4)","v":0.36799999999999999},{"$f":"ROUND(E8*SUMIF(PFP!$B$8:$B$28,\"MO1\",PFP!$K$8:$K$28),2)","v":188619.01}]
["A1","INSS",null,null,0.2,{"$f":"ROUND(E9*SUMIF(PFP!$B$8:$B$28,\"MO1\",PFP!$K$8:$K$28),2)","v":102510.33}]
["A2","SESI",null,null,1.4999999999999999E-2,{"$f":"ROUND(E10*SUMIF(PFP!$B$8:$B$28,\"MO1\",PFP!$K$8:$K$28),2)","v":7688.27}]
["A3","SENAI",null,null,0.01,{"$f":"ROUND(E11*SUMIF(PFP!$B$8:$B$28,\"MO1\",PFP!$K$8:$K$28),2)","v":5125.5200000000004}]
["A4","INCRA",null,null,2E-3,{"$f":"ROUND(E12*SUMIF(PFP!$B$8:$B$28,\"MO1\",PFP!$K$8:$K$28),2)","v":1025.0999999999999}]
["A5","SEBRAE",null,null,6.0000000000000001E-3,{"$f":"ROUND(E13*SUMIF(PFP!$B$8:$B$28,\"MO1\",PFP!$K$8:$K$28),2)","v":3075.31}]
["A6","Salário Educação",null,null,2.5000000000000001E-2,{"$f":"ROUND(E14*SUMIF(PFP!$B$8:$B$28,\"MO1\",PFP!$K$8:$K$28),2)","v":12813.79}]
["A7","Seguro Contra Acidentes de Trabalho",null,null,0.03,{"$f":"ROUND(E15*SUMIF(PFP!$B$8:$B$28,\"MO1\",PFP!$K$8:$K$28),2)","v":15376.55}]
["A8","FGTS",null,null,0.08,{"$f":"ROUND(E16*SUMIF(PFP!$B$8:$B$28,\"MO1\",PFP!$K$8:$K$28),2)","v":41004.129999999997}]
["B"," ENCARGOS SOCIAIS QUE RECEBEM INCIDÊNCIA DE \"A\"",null,null,{"$f":"ROUND(SUM(E18:E24),4)","v":0.1792},{"$f":"ROUND(E17*SUMIF(PFP!$B$8:$B$28,\"MO1\",PFP!$K$8:$K$28),2)","v":91849.26}]
["B3","Auxílio Enfermidade",null,null,6.4000000000000003E-3,{"$f":"ROUND(E18*SUMIF(PFP!$B$8:$B$28,\"MO1\",PFP!$K$8:$K$28),2)","v":3280.33}]
["B4","13º Salário",null,null,8.3299999999999999E-2,{"$f":"ROUND(E19*SUMIF(PFP!$B$8:$B$28,\"MO1\",PFP!$K$8:$K$28),2)","v":42695.55}]
["B5","Licença Paternidade",null,null,4.0000000000000002E-4,{"$f":"ROUND(E20*SUMIF(PFP!$B$8:$B$28,\"MO1\",PFP!$K$8:$K$28),2)","v":205.02}]
["B6","Faltas Justificadas",null,null,5.5999999999999999E-3,{"$f":"ROUND(E21*SUMIF(PFP!$B$8:$B$28,\"MO1\",PFP!$K$8:$K$28),2)","v":2870.29}]
["B8","Auxílio Acidente de Trabalho",null,null,8.0000000000000004E-4,{"$f":"ROUND(E22*SUMIF(PFP!$B$8:$B$28,\"MO1\",PFP!$K$8:$K$28),2)","v":410.04}]
["B9","Férias Gozadas",null,null,8.2400000000000001E-2,{"$f":"ROUND(E23*SUMIF(PFP!$B$8:$B$28,\"MO1\",PFP!$K$8:$K$28),2)","v":42234.26}]
["B10","Salário Maternidade",null,null,2.9999999999999997E-4,{"$f":"ROUND(E24*SUMIF(PFP!$B$8:$B$28,\"MO1\",PFP!$K$8:$K$28),2)","v":153.77000000000001}]
["C"," ENCARGOS SOCIAIS QUE NÃO RECEBEM INCIDÊNCIA DE \"A\"",null,null,{"$f":"ROUND(SUM(E26:E30),4)","v":8.3699999999999997E-2},{"$f":"ROUND(E25*SUMIF(PFP!$B$8:$B$28,\"MO1\",PFP!$K$8:$K$28),2)","v":42900.57}]
["C1","Aviso Prévio Indenizado",null,null,3.6299999999999999E-2,{"$f":"ROUND(E26*SUMIF(PFP!$B$8:$B$28,\"MO1\",PFP!$K$8:$K$28),2)","v":18605.62}]
["C2","Aviso Prévio Trabalhado",null,null,8.9999999999999998E-4,{"$f":"ROUND(E27*SUMIF(PFP!$B$8:$B$28,\"MO1\",PFP!$K$8:$K$28),2)","v":461.3}]
["C3","Férias Indenizadas",null,null,2.1999999999999999E-2,{"$f":"ROUND(E28*SUMIF(PFP!$B$8:$B$28,\"MO1\",PFP!$K$8:$K$28),2)","v":11276.14}]
["C4","Depósito Rescisão Sem Justa Causa",null,null,2.1399999999999999E-2,{"$f":"ROUND(E29*SUMIF(PFP!$B$8:$B$28,\"MO1\",PFP!$K$8:$K$28),2)","v":10968.61}]
["C5","Indenização Adicional",null,null,3.0999999999999999E-3,{"$f":"ROUND(E30*SUMIF(PFP!$B$8:$B$28,\"MO1\",PFP!$K$8:$K$28),2)","v":1588.91}]
["D"," REINCIDÊNCIAS",null,null,{"$f":"ROUND(SUM(E32:E33),4)","v":6.9099999999999995E-2},{"$f":"ROUND(E31*SUMIF(PFP!$B$8:$B$28,\"MO1\",PFP!$K$8:$K$28),2)","v":35417.32}]
["D1","Reincidência de \"A\" sobre \"B\"",null,null,{"$f":"ROUND(E8*E17,4)","v":6.59E-2},{"$f":"ROUND(E32*SUMIF(PFP!$B$8:$B$28,\"MO1\",PFP!$K$8:$K$28),2)","v":33777.15}]
["D2","Reincidência de \"A\" sobre Aviso Prévio Trabalhado e reincidência do FGTS sobre Aviso Prévio Indenizado",null,null,{"$f":"ROUND((E27*E8)+(E26*E16),4)","v":3.2000000000000002E-3},{"$f":"ROUND(E33*SUMIF(PFP!$B$8:$B$28,\"MO1\",PFP!$K$8:$K$28),2)","v":1640.17}]
["K1a","ENCARGOS SOCIAIS",null,null,{"$f":"ROUND(E8+E17+E25+E31,4)","v":0.7},{"$f":"ROUND(E34*SUMIF(PFP!$B$8:$B$28,\"MO1\",PFP!$K$8:$K$28),2)","v":358786.16}]
["Ka","TAXA DE RESSARCIMENTO DE DESPESAS E ENCARGOS SOBRE MO1",null,null,{"$f":"ROUND((1+E34+PFP3_FatorKd!E13)*(1+PFP3_FatorKd!E12)*(1+PFP3_FatorKd!E8),4)","v":2.1549}]
["OBSERVAÇÃO: CELETISTAS E EQUIVALENTES"]
["1 - DISCRIMINAR OS ENCARGOS SOCIAIS COM SEUS RESPECTIVOS PERCENTUAS TOTALIZANDO OS MESMOS. "]
["2 - APLICAR O  % TOTAL P/ CALCULAR OS E. SOCIAIS INCIDENTES NA MÃO-DE-OBRA CELETISTAS"]
["Ka - Taxa de Ressarcimento de Despesas e Encargos sobre a Mão de Obra CELETISTA (incide apenas no Insumo Codigo MO1)"]
["Ka = (1 + K1 + K2) x (1 + K3) x (1 + K4)"]

{"sheet":"PFP2.2_FatorKb","index":6,"n_rows":40,"n_cols":6,"rows_kept":40,"cut":false,"hidden":false,"merged":[[7,1,7,3],[16,1,16,3],[17,1,17,3],[8,1,8,3],[9,1,9,3],[10,1,10,3],[14,1,14,3],[15,1,15,3],[11,1,11,3],[0,0,1,4],[2,0,2,5],[3,0,3,5],[4,2,4,4],[5,0,5,1],[5,2,5,4],[6,1,6,3],[12,1,12,3],[13,1,13,3],[39,0,39,5],[36,0,36,5],[37,0,37,5],[38,0,38,5],[31,1,31,3],[32,1,32,3],[33,1,33,3],[34,1,34,3],[18,1,18,3],[30,1,30,3],[19,1,19,3],[20,1,20,3],[21,1,21,3],[27,1,27,3],[28,1,28,3],[29,1,29,3],[22,1,22,3],[23,1,23,3],[24,1,24,3],[25,1,25,3],[26,1,26,3]]}
["DETALHAMENTO DOS ENCARGOS SOCIAIS: Kb",{"$nulls":4},"CODIGO:"]
[{"$nulls":5},"PFP-2.2"]
["NOME DA CONSULTORA:"]
[]
["PROJETO:",null,"CONTRATANTE:",null,null,{"$f":"'PFP2.1_FatorKa'!F5","v":"BASE:"}]
[{"$f":"PFP!A6","v":"Contratação para Elaboração de Estudos Básicos, Estudos de Viabilidade Técnica, Econômica e Ambiental (EVTEA), e Consolidação do Anteprojeto de Engenharia para Atividades de Irrigação em uma área total estimada de 8.500 hectares, ao longo das margens do Riacho Pontal, situado no município de Petrolina-PE."},null,"CODEVASF (SEDE)",null,null,{"$f":"'PFP2.1_FatorKa'!F6","v":"vigencia 12/2023"}]
["Cod","DESCRIÇÃO",null,null,"%","R$"]
["A","ENCARGOS SOCIAIS BÁSICOS",null,null,{"$f":"ROUND(SUM(E9:E16),4)","v":0.2},{"$f":"ROUND(E8*SUMIF(PFP!$B$8:$B$28,\"MO2\",PFP!$K$8:$K$28),2)","v":26197.53}]
["A1","INSS",null,null,0.2,{"$f":"ROUND(E9*SUMIF(PFP!$B$8:$B$28,\"MO2\",PFP!$K$8:$K$28),2)","v":26197.53}]
["A2","SESI",null,null,0,{"$f":"ROUND(E10*SUMIF(PFP!$B$8:$B$28,\"MO2\",PFP!$K$8:$K$28),2)","v":0}]
["A3","SENAI",null,null,0,{"$f":"ROUND(E11*SUMIF(PFP!$B$8:$B$28,\"MO2\",PFP!$K$8:$K$28),2)","v":0}]
["A4","INCRA",null,null,0,{"$f":"ROUND(E12*SUMIF(PFP!$B$8:$B$28,\"MO2\",PFP!$K$8:$K$28),2)","v":0}]
["A5","SEBRAE",null,null,0,{"$f":"ROUND(E13*SUMIF(PFP!$B$8:$B$28,\"MO2\",PFP!$K$8:$K$28),2)","v":0}]
["A6","Salário Educação",null,null,0,{"$f":"ROUND(E14*SUMIF(PFP!$B$8:$B$28,\"MO2\",PFP!$K$8:$K$28),2)","v":0}]
["A7","Seguro Contra Acidentes de Trabalho",null,null,0,{"$f":"ROUND(E15*SUMIF(PFP!$B$8:$B$28,\"MO2\",PFP!$K$8:$K$28),2)","v":0}]
["A8","FGTS",null,null,0,{"$f":"ROUND(E16*SUMIF(PFP!$B$8:$B$28,\"MO2\",PFP!$K$8:$K$28),2)","v":0}]
["B"," ENCARGOS SOCIAIS QUE RECEBEM INCIDÊNCIA DE \"A\"",null,null,{"$f":"ROUND(SUM(E18:E24),4)","v":0},{"$f":"ROUND(E17*SUMIF(PFP!$B$8:$B$28,\"MO2\",PFP!$K$8:$K$28),2)","v":0}]
["B3","Auxílio Enfermidade",null,null,0,{"$f":"ROUND(E18*SUMIF(PFP!$B$8:$B$28,\"MO2\",PFP!$K$8:$K$28),2)","v":0}]
["B4","13º Salário",null,null,0,{"$f":"ROUND(E19*SUMIF(PFP!$B$8:$B$28,\"MO2\",PFP!$K$8:$K$28),2)","v":0}]
["B5","Licença Paternidade",null,null,0,{"$f":"ROUND(E20*SUMIF(PFP!$B$8:$B$28,\"MO2\",PFP!$K$8:$K$28),2)","v":0}]
["B6","Faltas Justificadas",null,null,0,{"$f":"ROUND(E21*SUMIF(PFP!$B$8:$B$28,\"MO2\",PFP!$K$8:$K$28),2)","v":0}]
["B8","Auxílio Acidente de Trabalho",null,null,0,{"$f":"ROUND(E22*SUMIF(PFP!$B$8:$B$28,\"MO2\",PFP!$K$8:$K$28),2)","v":0}]
["B9","Férias Gozadas",null,null,0,{"$f":"ROUND(E23*SUMIF(PFP!$B$8:$B$28,\"MO2\",PFP!$K$8:$K$28),2)","v":0}]
["B10","Salário Maternidade",null,null,0,{"$f":"ROUND(E24*SUMIF(PFP!$B$8:$B$28,\"MO2\",PFP!$K$8:$K$28),2)","v":0}]
["C"," ENCARGOS SOCIAIS QUE NÃO RECEBEM INCIDÊNCIA DE \"A\"",null,null,{"$f":"ROUND(SUM(E26:E30),4)","v":0},{"$f":"ROUND(E25*SUMIF(PFP!$B$8:$B$28,\"MO2\",PFP!$K$8:$K$28),2)","v":0}]
["C1","Aviso Prévio Indenizado",null,null,0,{"$f":"ROUND(E26*SUMIF(PFP!$B$8:$B$28,\"MO2\",PFP!$K$8:$K$28),2)","v":0}]
["C2","Aviso Prévio Trabalhado",null,null,0,{"$f":"ROUND(E27*SUMIF(PFP!$B$8:$B$28,\"MO2\",PFP!$K$8:$K$28),2)","v":0}]
["C3","Férias Indenizadas",null,null,0,{"$f":"ROUND(E28*SUMIF(PFP!$B$8:$B$28,\"MO2\",PFP!$K$8:$K$28),2)","v":0}]
["C4","Depósito Rescisão Sem Justa Causa",null,null,0,{"$f":"ROUND(E29*SUMIF(PFP!$B$8:$B$28,\"MO2\",PFP!$K$8:$K$28),2)","v":0}]
["C5","Indenização Adicional",null,null,0,{"$f":"ROUND(E30*SUMIF(PFP!$B$8:$B$28,\"MO2\",PFP!$K$8:$K$28),2)","v":0}]
["D"," REINCIDÊNCIAS",null,null,{"$f":"ROUND(SUM(E32:E33),4)","v":0},{"$f":"ROUND(E31*SUMIF(PFP!$B$8:$B$28,\"MO2\",PFP!$K$8:$K$28),2)","v":0}]
["D1","Reincidência de \"A\" sobre \"B\"",null,null,{"$f":"ROUND(E8*E17,4)","v":0},{"$f":"ROUND(E32*SUMIF(PFP!$B$8:$B$28,\"MO2\",PFP!$K$8:$K$28),2)","v":0}]
["D2","Reincidência de \"A\" sobre Aviso Prévio Trabalhado e reincidência do FGTS sobre Aviso Prévio Indenizado",null,null,{"$f":"ROUND((E27*E8)+(E26*E16),4)","v":0},{"$f":"ROUND(E33*SUMIF(PFP!$B$8:$B$28,\"MO2\",PFP!$K$8:$K$28),2)","v":0}]
["K1b","ENCARGOS SOCIAIS",null,null,{"$f":"ROUND(E8+E17+E25+E31,4)","v":0.2},{"$f":"ROUND(E34*SUMIF(PFP!$B$8:$B$28,\"MO2\",PFP!$K$8:$K$28),2)","v":26197.53}]
["Kb","TAXA DE RESSARCIMENTO DE DESPESAS E ENCARGOS SOBRE MO2",null,null,{"$f":"ROUND((1+E34+PFP3_FatorKd!E13)*(1+PFP3_FatorKd!E12)*(1+PFP3_FatorKd!E8),4)","v":1.5469999999999999}]
["OBSERVAÇÃO: AUTÔNOMOS E EQUIVALENTES"]
["1 - DISCRIMINAR OS ENCARGOS SOCIAIS COM SEUS RESPECTIVOS PERCENTUAS TOTALIZANDO OS MESMOS. "]
["2 - APLICAR O % TOTAL P/ CALCULAR OS E. SOCIAIS INCIDENTES NA MÃO-DE-OBRA AUTONÔMOS"]
["Kb - Taxa de Ressarcimento de Despesas e Encargos sobre a Mão de Obra AUTONÔMA (incide apenas no Insumo Codigo MO2)"]
["Kb = (1 + K1 + K2) x (1 + K3) x (1 + K4)"]

{"sheet":"PFP2.3_FatorKc","index":7,"n_rows":40,"n_cols":6,"rows_kept":40,"cut":false,"hidden":false,"merged":[[36,0,36,5],[37,0,37,5],[38,0,38,5],[39,0,39,5],[29,1,29,3],[30,1,30,3],[31,1,31,3],[32,1,32,3],[33,1,33,3],[34,1,34,3],[28,1,28,3],[17,1,17,3],[18,1,18,3],[19,1,19,3],[20,1,20,3],[21,1,21,3],[22,1,22,3],[23,1,23,3],[24,1,24,3],[25,1,25,3],[26,1,26,3],[27,1,27,3],[16,1,16,3],[6,1,6,3],[7,1,7,3],[8,1,8,3],[9,1,9,3],[10,1,10,3],[11,1,11,3],[12,1,12,3],[13,1,13,3],[14,1,14,3],[15,1,15,3],[0,0,1,4],[2,0,2,5],[3,0,3,5],[4,2,4,4],[5,0,5,1],[5,2,5,4]]}
["DETALHAMENTO DOS ENCARGOS SOCIAIS: Kc",{"$nulls":4},"CODIGO:"]
[{"$nulls":5},"PFP-2.3"]
["NOME DA CONSULTORA:"]
[]
["PROJETO:",null,"CONTRATANTE:",null,null,{"$f":"'PFP2.2_FatorKb'!F5","v":"BASE:"}]
[{"$f":"PFP!A6","v":"Contratação para Elaboração de Estudos Básicos, Estudos de Viabilidade Técnica, Econômica e Ambiental (EVTEA), e Consolidação do Anteprojeto de Engenharia para Atividades de Irrigação em uma área total estimada de 8.500 hectares, ao longo das margens do Riacho Pontal, situado no município de Petrolina-PE."},null,"CODEVASF (SEDE)",null,null,{"$f":"'PFP2.2_FatorKb'!F6","v":"vigencia 12/2023"}]
["Cod","DESCRIÇÃO",null,null,"%","R$"]
["A","ENCARGOS SOCIAIS BÁSICOS",null,null,{"$f":"SUM(E9:E16)","v":0},{"$f":"ROUND(E8*SUMIF(PFP!$B$8:$B$28,\"MO3\",PFP!$K$8:$K$28),2)","v":0}]
["A1","INSS",null,null,0,{"$f":"ROUND(E9*SUMIF(PFP!$B$8:$B$28,\"MO3\",PFP!$K$8:$K$28),2)","v":0}]
["A2","SESI",null,null,0,{"$f":"ROUND(E10*SUMIF(PFP!$B$8:$B$28,\"MO3\",PFP!$K$8:$K$28),2)","v":0}]
["A3","SENAI",null,null,0,{"$f":"ROUND(E11*SUMIF(PFP!$B$8:$B$28,\"MO3\",PFP!$K$8:$K$28),2)","v":0}]
["A4","INCRA",null,null,0,{"$f":"ROUND(E12*SUMIF(PFP!$B$8:$B$28,\"MO3\",PFP!$K$8:$K$28),2)","v":0}]
["A5","SEBRAE",null,null,0,{"$f":"ROUND(E13*SUMIF(PFP!$B$8:$B$28,\"MO3\",PFP!$K$8:$K$28),2)","v":0}]
["A6","Salário Educação",null,null,0,{"$f":"ROUND(E14*SUMIF(PFP!$B$8:$B$28,\"MO3\",PFP!$K$8:$K$28),2)","v":0}]
["A7","Seguro Contra Acidentes de Trabalho",null,null,0,{"$f":"ROUND(E15*SUMIF(PFP!$B$8:$B$28,\"MO3\",PFP!$K$8:$K$28),2)","v":0}]
["A8","FGTS",null,null,0,{"$f":"ROUND(E16*SUMIF(PFP!$B$8:$B$28,\"MO3\",PFP!$K$8:$K$28),2)","v":0}]
["B"," ENCARGOS SOCIAIS QUE RECEBEM INCIDÊNCIA DE \"A\"",null,null,{"$f":"ROUND(SUM(E18:E24),4)","v":0},{"$f":"ROUND(E17*SUMIF(PFP!$B$8:$B$28,\"MO3\",PFP!$K$8:$K$28),2)","v":0}]
["B3","Auxílio Enfermidade",null,null,0,{"$f":"ROUND(E18*SUMIF(PFP!$B$8:$B$28,\"MO3\",PFP!$K$8:$K$28),2)","v":0}]
["B4","13º Salário",null,null,0,{"$f":"ROUND(E19*SUMIF(PFP!$B$8:$B$28,\"MO3\",PFP!$K$8:$K$28),2)","v":0}]
["B5","Licença Paternidade",null,null,0,{"$f":"ROUND(E20*SUMIF(PFP!$B$8:$B$28,\"MO3\",PFP!$K$8:$K$28),2)","v":0}]
["B6","Faltas Justificadas",null,null,0,{"$f":"ROUND(E21*SUMIF(PFP!$B$8:$B$28,\"MO3\",PFP!$K$8:$K$28),2)","v":0}]
["B8","Auxílio Acidente de Trabalho",null,null,0,{"$f":"ROUND(E22*SUMIF(PFP!$B$8:$B$28,\"MO3\",PFP!$K$8:$K$28),2)","v":0}]
["B9","Férias Gozadas",null,null,0,{"$f":"ROUND(E23*SUMIF(PFP!$B$8:$B$28,\"MO3\",PFP!$K$8:$K$28),2)","v":0}]
["B10","Salário Maternidade",null,null,0,{"$f":"ROUND(E24*SUMIF(PFP!$B$8:$B$28,\"MO3\",PFP!$K$8:$K$28),2)","v":0}]
["C"," ENCARGOS SOCIAIS QUE NÃO RECEBEM INCIDÊNCIA DE \"A\"",null,null,{"$f":"ROUND(SUM(E26:E30),4)","v":0},{"$f":"ROUND(E25*SUMIF(PFP!$B$8:$B$28,\"MO3\",PFP!$K$8:$K$28),2)","v":0}]
["C1","Aviso Prévio Indenizado",null,null,0,{"$f":"ROUND(E26*SUMIF(PFP!$B$8:$B$28,\"MO3\",PFP!$K$8:$K$28),2)","v":0}]
["C2","Aviso Prévio Trabalhado",null,null,0,{"$f":"ROUND(E27*SUMIF(PFP!$B$8:$B$28,\"MO3\",PFP!$K$8:$K$28),2)","v":0}]
["C3","Férias Indenizadas",null,null,0,{"$f":"ROUND(E28*SUMIF(PFP!$B$8:$B$28,\"MO3\",PFP!$K$8:$K$28),2)","v":0}]
["C4","Depósito Rescisão Sem Justa Causa",null,null,0,{"$f":"ROUND(E29*SUMIF(PFP!$B$8:$B$28,\"MO3\",PFP!$K$8:$K$28),2)","v":0}]
["C5","Indenização Adicional",null,null,0,{"$f":"ROUND(E30*SUMIF(PFP!$B$8:$B$28,\"MO3\",PFP!$K$8:$K$28),2)","v":0}]
["D"," REINCIDÊNCIAS",null,null,{"$f":"ROUND(SUM(E32:E33),4)","v":0},{"$f":"ROUND(E31*SUMIF(PFP!$B$8:$B$28,\"MO3\",PFP!$K$8:$K$28),2)","v":0}]
["D1","Reincidência de \"A\" sobre \"B\"",null,null,{"$f":"ROUND(E8*E17,4)","v":0},{"$f":"ROUND(E32*SUMIF(PFP!$B$8:$B$28,\"MO3\",PFP!$K$8:$K$28),2)","v":0}]
["D2","Reincidência de \"A\" sobre Aviso Prévio Trabalhado e reincidência do FGTS sobre Aviso Prévio Indenizado",null,null,{"$f":"ROUND(E8*E27,4)+ROUND(E26*E11,4)","v":0},{"$f":"ROUND(E33*SUMIF(PFP!$B$8:$B$28,\"MO3\",PFP!$K$8:$K$28),2)","v":0}]
["K1c","ENCARGOS SOCIAIS",null,null,{"$f":"ROUND(E8+E17+E25+E31,4)","v":0},{"$f":"ROUND(E34*SUMIF(PFP!$B$8:$B$28,\"MO3\",PFP!$K$8:$K$28),2)","v":0}]
["Kc","TAXA DE RESSARCIMENTO DE DESPESAS E ENCARGOS SOBRE MO3",null,null,{"$f":"ROUND((1+E34+PFP3_FatorKd!E13)*(1+PFP3_FatorKd!E12)*(1+PFP3_FatorKd!E8),4)","v":1.3038000000000001}]
["OBSERVAÇÃO: SOCIETÁRIOS E EQUIVALENTES"]
["1 - DISCRIMINAR OS ENCARGOS SOCIAIS COM SEUS RESPECTIVOS PERCENTUAS TOTALIZANDO OS MESMOS. "]
["2 - APLICAR O % TOTAL P/ CALCULAR OS E. SOCIAIS INCIDENTES NA MÃO-DE-OBRA DE SOCIETÁRIOS"]
["Kc - Taxa de Ressarcimento de Despesas e Encargos sobre a Mão de Obra SOCIETÁRIA (incide apenas no Insumo Codigo MO3)"]
["Kc = (1 + K1 + K2) x (1 + K3) x (1 + K4)"]

{"sheet":"PFP3_FatorKd","index":8,"n_rows":35,"n_cols":6,"rows_kept":35,"cut":false,"hidden":false,"merged":[[33,0,33,5],[34,0,34,5],[16,1,16,3],[13,1,13,3],[14,1,14,3],[15,1,15,3],[21,0,21,5],[26,0,26,5],[27,0,27,5],[22,0,22,5],[23,0,23,5],[24,0,24,5],[28,0,28,5],[29,0,29,5],[30,0,30,5],[31,0,31,5],[7,1,7,2],[25,0,25,5],[6,1,6,2],[0,0,1,4],[2,0,2,5],[5,0,5,1],[5,2,5,4],[4,2,4,4],[3,0,3,5],[32,0,32,5],[12,1,12,3],[11,1,11,3],[8,1,8,2],[9,1,9,2],[10,1,10,2]]}
["DESPESAS FISCAIS E CUSTOS DIVERSOS: Kc",{"$nulls":4},"CODIGO:"]
[{"$nulls":5},"PFP-3"]
["NOME DA CONSULTORA:"]
[]
["PROJETO:",null,"CONTRATANTE:",null,null,{"$f":"'PFP2.3_FatorKc'!F5","v":"BASE:"}]
[{"$f":"PFP!A6","v":"Contratação para Elaboração de Estudos Básicos, Estudos de Viabilidade Técnica, Econômica e Ambiental (EVTEA), e Consolidação do Anteprojeto de Engenharia para Atividades de Irrigação em uma área total estimada de 8.500 hectares, ao longo das margens do Riacho Pontal, situado no município de Petrolina-PE."},null,"CODEVASF (SEDE)",null,null,{"$f":"'PFP2.3_FatorKc'!F6","v":"vigencia 12/2023"}]
["Cod","DESCRIÇÃO1",null,"% preço2","% custo4","R$"]
["K4","TRIBUTOS",null,{"$f":"ROUND(D9+D10+D11,4)","v":0.124},{"$f":"ROUND(E9+E10+E11,4)","v":0.1416},{"$f":"E8*SUM(SUMIF(PFP!$B$8:$B$28,\"MO1\",PFP!$K$8:$K$28)*(1+'PFP2.1_FatorKa'!$E$34)+SUMIF(PFP!$B$8:$B$28,\"MO2\",PFP!$K$8:$K$28)*(1+'PFP2.2_FatorKb'!$E$34)+SUMIF(PFP!$B$8:$B$28,\"<>MO*\",PFP!$K$8:$K$28)+$F$13+$F$12)","v":204272.35489753203}]
["K4.1","ISS",null,0.05,{"$f":"ROUND((1/(1-$D$8))*D9,4)","v":5.7099999999999998E-2},{"$f":"E9*SUM(SUMIF(PFP!$B$8:$B$28,\"MO1\",PFP!$K$8:$K$28)*(1+'PFP2.1_FatorKa'!$E$34)+SUMIF(PFP!$B$8:$B$28,\"MO2\",PFP!$K$8:$K$28)*(1+'PFP2.2_FatorKb'!$E$34)+SUMIF(PFP!$B$8:$B$28,\"<>MO*\",PFP!$K$8:$K$28)+$F$13+$F$12)","v":82372.538592154509}]
["K4.2","PIS3 - aliquota efetiva aplicavel percentual-desconto",null,{"$f":"ROUND(1.65%*0.8,4)","v":1.32E-2},{"$f":"ROUND((1/(1-$D$8))*D10,4)","v":1.5100000000000001E-2},{"$f":"E10*SUM(SUMIF(PFP!$B$8:$B$28,\"MO1\",PFP!$K$8:$K$28)*(1+'PFP2.1_FatorKa'!$E$34)+SUMIF(PFP!$B$8:$B$28,\"MO2\",PFP!$K$8:$K$28)*(1+'PFP2.2_FatorKb'!$E$34)+SUMIF(PFP!$B$8:$B$28,\"<>MO*\",PFP!$K$8:$K$28)+$F$13+$F$12)","v":21783.280783564504}]
["K4.3","COFINS3 - aliquota efetiva aplicavel percentual-desconto",null,{"$f":"ROUND(7.6%*0.8,4)","v":6.08E-2},{"$f":"ROUND((1/(1-$D$8))*D11,4)","v":6.9400000000000003E-2},{"$f":"E11*SUM(SUMIF(PFP!$B$8:$B$28,\"MO1\",PFP!$K$8:$K$28)*(1+'PFP2.1_FatorKa'!$E$34)+SUMIF(PFP!$B$8:$B$28,\"MO2\",PFP!$K$8:$K$28)*(1+'PFP2.2_FatorKb'!$E$34)+SUMIF(PFP!$B$8:$B$28,\"<>MO*\",PFP!$K$8:$K$28)+$F$13+$F$12)","v":100116.53552181301}]
["K3","REMUNERAÇÃO DA EMPRESA (LUCRO)",null,null,6.5000000000000002E-2,{"$f":"E12*SUM(SUMIF(PFP!$B$8:$B$28,\"MO1\",PFP!$K$8:$K$28)*(1+'PFP2.1_FatorKa'!$E$34)+SUMIF(PFP!$B$8:$B$28,\"MO2\",PFP!$K$8:$K$28)*(1+'PFP2.2_FatorKb'!$E$34)+SUMIF(PFP!$B$8:$B$28,\"<>MO*\",PFP!$K$8:$K$28)+$F$13)","v":88046.093395000004}]
["K2","CUSTOS DA ADMINISTRAÇÃO CENTRAL",null,null,{"$f":"ROUND(SUM(E14:E16),4)","v":7.2400000000000006E-2},{"$f":"ROUND(E13*SUMIF(PFP!$B$8:$B$28,\"MO*\",PFP!$K$8:$K$28),2)","v":50543.1}]
["K2.1","Custos da administração central da empresa (diretoria, pessoal técnico de apoio e pessoal administrativo não diretamente vinculado à prestação dos serviços)",null,null,0.04,{"$f":"ROUND(E14*SUMIF(PFP!$B$8:$B$28,\"MO*\",PFP!$K$8:$K$28),2)","v":27924.36}]
["K2.2","Outras despesas que afetam o custo de produção como treinamento, biblioteca, programa de qualidade, programa de benefícios, auditoria interna e externa",null,null,0.02,{"$f":"ROUND(E15*SUMIF(PFP!$B$8:$B$28,\"MO*\",PFP!$K$8:$K$28),2)","v":13962.18}]
["K2.3","Despesas fixas e variaveis com patrimônio, aluguéis, comunicação, manutenção e transporte não diretamente relacionados com o custo direto dos serviços",null,null,1.24E-2,{"$f":"ROUND(E16*SUMIF(PFP!$B$8:$B$28,\"MO*\",PFP!$K$8:$K$28),2)","v":8656.5499999999993}]
["Kd","TAXA RESSARCIMENTO DE DESPESAS SOBRE CUSTOS DIVERSOS",null,null,{"$f":"ROUND((1+E12)*(1+E8),4)","v":1.2158}]
["NOME DO INFORMANTE:",null,null,null,"QUALIFICAÇÃO:"]
[]
["ASSINATURA:",null,null,null,"DATA:"]
[]
["Observação:"]
["1 - RELACIONAR OS CUSTOS DE ADMINISTRAÇÃO COM RESPECTIVOS PERCENTUAIS INCIDENTES NA MÃO -DE-OBRA"]
["1 - DISCRIMINAR OS TRIBUTOS QUE INCIDEM SOBRE OS CUSTOS DA PRESTAÇÃO DOS SERVIÇOS"]
["2 - K4 = INDICAR % DE CADA TRIBUTO E A SOMA DOS MESMOS (ex: ISS 5% + PIS 1,65% + COFINS 7,60% = 14,25%)"]
["3 - PIS e COFINS, Regime de Incidencia Acumulativa (0,65% e 3,00% - sem percentual de desconto) ou em Regime de Incidencia Não Acumulativa (1,65% e 7,60% - aplicável percentual de desconto) de acordo com a forma de apuração do lucro no IRPJ. APRESENTAR COMPROVANTES de aproveitamento de créditos tributários dos últimos 12 meses em caso de aplicação de \"percentual de desconto\"."]
["4 - AS DESPESAS FISCAIS (K4) INCIDEM SOBRE O TOTAL DA FATURA E NÃO SOBRE OS CUSTOS INCORRIDOS, "]
["     DEVENDO SER CALCULADO O K4' APLICANDO-SE A SEGUINTE FÓRMULA:"]
["     K4' = { [ 1 / ( 1 - K4) ] - 1 } x 100"]
[{"$f":"CONCATENATE(\"     K4' = { [ 1 / ( 1 - \",D8,\" ) ] - 1 } x 100\")","v":"     K4' = { [ 1 / ( 1 - 0,124 ) ] - 1 } x 100"}]
["Kc - Taxa de Ressarcimento de Despesas sobre Custos Diversos (incide sobre os Insumos Codigo DP e EM)"]
["Kc = (1 + K3) x (1 + K4)"]
["K2 - Incide sobre o Custo Total (CT) da Mão de Obra (MO* = MO1 + MO2)"]
["K3 - Incide sobre o Custo Total (CT) Mão de Obra com encargos (MO1 x Ka ou MO2 x Kb), demais Custos (DP e EM), e Custos da Administração Central (K2)"]
["K4 -  Incide sobre o Custo Total (CT) Mão de Obra com encargos (MO1 x Ka ou MO2 x Kb), demais Custos (DP e EM), e Custos da Administração Central (K2) e Lucro (K3)"]

{"sheet":"CRO1_Ins-Pro","index":9,"n_rows":93,"n_cols":10,"rows_kept":93,"cut":false,"hidden":false,"merged":[[91,0,91,7],[90,0,90,9],[0,0,1,7],[42,7,42,9],[25,0,26,0],[25,1,26,1],[2,0,3,0],[2,1,3,1],[2,2,3,2],[2,3,3,3],[2,4,3,4],[2,5,3,5]]}
["INSUMOS POR ETAPA/PRODUTO",{"$nulls":8},"CÓDIGO:"]
[{"$nulls":9},"CRO-1"]
["Cod.","Categoria / Insumo","Uni","Qde","CUD","PU","FatorK","E1. EB","E2. EVTEA ","E3. APE"]
[{"$nulls":6},"Meses",{"$f":"'CRO2_Ins-Mes'!E9","v":5},{"$f":"'CRO2_Ins-Mes'!E16","v":4},{"$f":"'CRO2_Ins-Mes'!E23","v":3}]
[{"$f":"PFP!C8","v":"P0"},{"$f":"PFP!E8","v":"Engenheiro coordenador (P8061)"},"mês",{"$f":"SUM(H5:J5)","v":3},{"$f":"PFP!H8","v":18189.93},{"$f":"PFP!I8","v":23716.03},{"$f":"PFP!J8","v":1.3038000000000001},{"$f":"'CRO2_Ins-Mes'!E26","v":1.25},{"$f":"'CRO2_Ins-Mes'!E43","v":1},{"$f":"'CRO2_Ins-Mes'!E57","v":0.75}]
[{"$f":"PFP!C9","v":"P1"},{"$f":"PFP!E9","v":"Engenheiro sênior (P8067)"},"mês",8.25,{"$f":"PFP!H9","v":15877.29},{"$f":"PFP!I9","v":24562.17},{"$f":"PFP!J9","v":1.5469999999999999},{"$f":"'CRO2_Ins-Mes'!E27","v":1.25},{"$f":"'CRO2_Ins-Mes'!E44","v":4},{"$f":"'CRO2_Ins-Mes'!E58","v":3}]
[{"$f":"PFP!C10","v":"P2"},{"$f":"PFP!E10","v":"Engenheiro pleno (P8066)"},"mês",11.75,{"$f":"PFP!H10","v":12629.6},{"$f":"PFP!I10","v":27215.53},{"$f":"PFP!J10","v":2.1549},{"$f":"'CRO2_Ins-Mes'!E28","v":1.25},{"$f":"'CRO2_Ins-Mes'!E45","v":6},{"$f":"'CRO2_Ins-Mes'!E59","v":4.5}]
[{"$f":"PFP!C11","v":"P3"},{"$f":"PFP!E11","v":"Engenheiro júnior (P8065)"},"mês",18.75,{"$f":"PFP!H11","v":12002},{"$f":"PFP!I11","v":25863.11},{"$f":"PFP!J11","v":2.1549},{"$f":"'CRO2_Ins-Mes'!E29","v":1.25},{"$f":"'CRO2_Ins-Mes'!E46","v":10},{"$f":"'CRO2_Ins-Mes'!E60","v":7.5}]
[null,"Economista","mês",4,{"$f":"PFP!H12","v":6333.46},{"$f":"PFP!I12","v":13647.97},{"$f":"PFP!J12","v":2.1549},{"$f":"'CRO2_Ins-Mes'!E30","v":0},{"$f":"'CRO2_Ins-Mes'!E47","v":4},{"$f":"'CRO2_Ins-Mes'!E61","v":0}]
[null,"Advogado","mês",1,{"$f":"PFP!H13","v":6155.17},{"$f":"PFP!I13","v":13263.78},{"$f":"PFP!J13","v":2.1549},{"$f":"'CRO2_Ins-Mes'!E31","v":0},{"$f":"'CRO2_Ins-Mes'!E48","v":1},{"$f":"'CRO2_Ins-Mes'!E62","v":0}]
[null,"Assistente Social","mês",7,{"$f":"PFP!H14","v":4353.21},{"$f":"PFP!I14","v":9380.73},{"$f":"PFP!J14","v":2.1549},{"$f":"'CRO2_Ins-Mes'!E32","v":5},{"$f":"'CRO2_Ins-Mes'!E49","v":2},{"$f":"'CRO2_Ins-Mes'!E63","v":0}]
[null,"Técnico em Ação Social","mês",14,{"$f":"PFP!H15","v":3264.91},{"$f":"PFP!I15","v":7035.55},{"$f":"PFP!J15","v":2.1549},{"$f":"'CRO2_Ins-Mes'!E33","v":10},{"$f":"'CRO2_Ins-Mes'!E50","v":4},{"$f":"'CRO2_Ins-Mes'!E64","v":0}]
[{"$f":"PFP!C16","v":"T1"},{"$f":"PFP!E16","v":"Técnico de projetos/obra (P8147)"},"mês",17,{"$f":"PFP!H16","v":3184.9},{"$f":"PFP!I16","v":6863.14},{"$f":"PFP!J16","v":2.1549},{"$f":"'CRO2_Ins-Mes'!E34","v":10},{"$f":"'CRO2_Ins-Mes'!E51","v":4},{"$f":"'CRO2_Ins-Mes'!E65","v":3}]
[{"$f":"PFP!C17","v":"D"},{"$f":"PFP!E17","v":"Desenhista (40807) **"},"mês",7.5,{"$f":"PFP!H17","v":3886.55},{"$f":"PFP!I17","v":4725.2700000000004},{"$f":"PFP!J17","v":1.2158},{"$f":"'CRO2_Ins-Mes'!E35","v":2.5},{"$f":"'CRO2_Ins-Mes'!E52","v":2},{"$f":"'CRO2_Ins-Mes'!E66","v":3}]
[{"$f":"PFP!C18","v":"A1"},{"$f":"PFP!E18","v":"Secretária (P8135)"},"mês",3.75,{"$f":"PFP!H18","v":2697.38},{"$f":"PFP!I18","v":5812.58},{"$f":"PFP!J18","v":2.1549},{"$f":"'CRO2_Ins-Mes'!E36","v":1.25},{"$f":"'CRO2_Ins-Mes'!E53","v":1},{"$f":"'CRO2_Ins-Mes'!E67","v":1.5}]
[{"$f":"PFP!C19","v":"ECA"},{"$f":"PFP!E19","v":"Encargos Comp. e Adicionais"},"mês",96,{"$f":"PFP!H19","v":1079.5990909090904},{"$f":"PFP!I19","v":1312.58},{"$f":"PFP!J19","v":1.2158},{"$f":"SUM(H5:H15)","v":33.75},39,{"$f":"SUM(J5:J15)","v":23.25}]
[{"$f":"PFP!C20","v":"AT2"},{"$f":"PFP!E20","v":"Auxilio Transporte Técnicos"},"mês",17,{"$f":"PFP!H20","v":"Já incluso*"},{"$f":"PFP!I20","v":0},{"$f":"PFP!J20","v":1.2158},{"$f":"H13","v":10},4,{"$f":"J13","v":3}]
[{"$f":"PFP!C21","v":"AT3"},{"$f":"PFP!E21","v":"Auxilio Transporte Secretária"},"mês",3.75,{"$f":"PFP!H21","v":"Já Incluso*"},{"$f":"PFP!I21","v":0},{"$f":"PFP!J21","v":1.2158},{"$f":"H15","v":1.25},1,{"$f":"J15","v":1.5}]
[{"$f":"PFP!C22","v":"M1"},{"$f":"PFP!E22","v":"Relatório Parcial"},"un",0,{"$f":"PFP!H22","v":51.3},{"$f":"PFP!I22","v":62.37},{"$f":"PFP!J22","v":1.2158},{"$f":"'CRO2_Ins-Mes'!E37","v":0},{"$f":"'CRO2_Ins-Mes'!E54","v":0},{"$f":"'CRO2_Ins-Mes'!E68","v":0}]
[{"$f":"PFP!C23","v":"M2"},{"$f":"PFP!E23","v":"Relatório Final"},"un",3,{"$f":"PFP!H23","v":1502.05},{"$f":"PFP!I23","v":1826.19},{"$f":"PFP!J23","v":1.2158},{"$f":"'CRO2_Ins-Mes'!E38","v":1},{"$f":"'CRO2_Ins-Mes'!E55","v":1},{"$f":"'CRO2_Ins-Mes'!E69","v":1}]
[{"$f":"PFP!C24","v":"TOP"},{"$f":"PFP!E24","v":"Total Serviços Cartográficos"},"un",1,{"$f":"PFP!H24","v":"-"},{"$f":"PFP!I24","v":154337.22156696956},{"$f":"PFP!J24","v":"-"},{"$f":"'CRO2_Ins-Mes'!E39","v":1},0,0]
[{"$f":"PFP!C25","v":"GEO"},{"$f":"PFP!E25","v":"Total Serviços Geotécnicos"},"un",1,{"$f":"PFP!H25","v":"-"},{"$f":"PFP!I25","v":225909.10874315858},{"$f":"PFP!J25","v":"-"},{"$f":"'CRO2_Ins-Mes'!E40","v":1},0,0]
[{"$f":"PFP!C26","v":"PED"},{"$f":"PFP!E26","v":"Total Serviços Pedológicos"},"un",1,{"$f":"PFP!H26","v":"-"},{"$f":"PFP!I26","v":563602.97067951236},null,{"$f":"'CRO2_Ins-Mes'!E41","v":1},0,0]
[null,{"$f":"PFP!E27","v":"Total Equipamento para Ambiental"},"mês",1,{"$f":"PFP!H27","v":2884.4700000000003},{"$f":"PFP!I27","v":3506.94},{"$f":"PFP!J27","v":1.2158},0,1,0]
[{"$f":"PFP!C28","v":"GEO"},{"$f":"PFP!E28","v":"Total Recursos Gerais"},"un",1,{"$f":"PFP!H28","v":102495.60123535924},{"$f":"PFP!I28","v":124614.15},{"$f":"PFP!J28","v":1.2158},{"$f":"1/3","v":0.33333333333333331},{"$f":"1/3","v":0.33333333333333331},{"$f":"1/3","v":0.33333333333333331}]
["TOTAL","VALOR TOTAL POR PRODUTO","R$",{"$f":"SUM(H26:J26)","v":2687886.9734896403},null,null,null,{"$f":"(H5*$F$5+H6*$F$6+H7*$F$7+H8*$F$8+H13*$F$13+H14*$F$14+H15*$F$15+H16*$F$16+H17*$F$17+H18*$F$18+H19*$F$19+H20*$F$20+H21*$F$21+H25*$F$25+F22*H22+F23*H23+F11*H11+F12*H12)","v":1363178.6159896404},{"$f":"(I5*$F$5+I6*$F$6+I7*$F$7+I8*$F$8+I13*$F$13+I14*$F$14+I15*$F$15+I16*$F$16+I17*$F$17+I18*$F$18+I19*$F$19+I20*$F$20+I21*$F$21+I25*$F$25+F24*I24+F9*I9+F10*I10+F11*I11+F12*I12)","v":799425.78999999992},{"$f":"(J5*$F$5+J6*$F$6+J7*$F$7+J8*$F$8+J13*$F$13+J14*$F$14+J15*$F$15+J16*$F$16+J17*$F$17+J18*$F$18+J19*$F$19+J20*$F$20+J21*$F$21+J25*$F$25)","v":525282.5675}]
[null,null,"%",{"$f":"SUM(H27:J27)","v":1.0000100000000001},null,null,null,{"$f":"ROUND(H26/$D$26,5)","v":0.50716000000000006},{"$f":"ROUND(I26/$D$26,5)","v":0.29742000000000002},{"$f":"ROUND(J26/$D$26,5)","v":0.19542999999999999}]
{"$rows_empty":62}
["OBSERVAÇÃO:"]
["P - Profissionais nível superior nas áreas de Engenharia, Química, Arquitetura, Agronomia e Veterinária, conforme disposições da Lei 4.950-A/66"]
["T - Profissionais de nível médio técnico nas diversas áreas de atuação"]
["A - Profissionais de nível médio de apoio técnico-administrativo"]

{"sheet":"CRO2_Ins-Mes","index":10,"n_rows":71,"n_cols":17,"rows_kept":71,"cut":false,"hidden":false,"merged":[[94,5,94,12],[0,0,1,16]]}
["CRONOGRAMA SIMPLIFICADO"]
[]
["Cod1","Cod2","Produtos","Uni","Qde",1,2,3,4,5,6,7,8,9,10,11,12]
[2,"2.1","Serviços Topográficos/Cartográficos","mês",{"$f":"SUM(F4:M4)","v":5},1,1,1,1,1]
[2,"2.2","Serviços Geológicos/Geotécnicos","mês",5,1,1,1,1,1]
[2,"2.3","Serviços Pedológicos","mês",5,1,1,1,1,1]
[2,"2.4","Estudos Hidrológicos e Hidrogeológicos","mês",5,1,1,1,1,1]
[2,"2.5","Avaliação Fundiária","mês",5,1,1,1,1,1]
[2,2,"Estudos Básicos (EB)","mês",{"$f":"SUM(F9:Q9)","v":5},{"$f":"SUBTOTAL(4,F4:F8)","v":1},{"$f":"SUBTOTAL(4,G4:G8)","v":1},1,1,1]
[3,"3.1","Estudo de Aproveitamento de Recursos Hídricos","mês",{"$f":"SUM(F10:Q10)","v":4},{"$nulls":5},1,1,1,1]
[3,"3.2","Dignóstico e Prognóstico","mês",4,{"$nulls":5},1,1,1,1]
[3,"3.3","Análise da Viabilidade Ambiental","mês",{"$f":"SUM(F12:Q12)","v":4},{"$nulls":5},1,1,1,1]
[3,"3.4","Avaliação Socioeconômica","mês",{"$f":"SUM(F13:Q13)","v":4},{"$nulls":5},1,1,1,1]
[3,"3.5","Análise Técnica-Econômica-Ambiental","mês",4,{"$nulls":5},1,1,1,1]
[3,"3.6","Relatório de Atividade Social","mês",4,{"$nulls":5},1,1,1,1]
[3,3,"Estudo de Viabilidade Técnica, Econômica e Ambiental (EVTEA)","mês",{"$f":"SUM(F16:Q16)","v":4},{"$f":"SUBTOTAL(4,F10:F14)","v":0},0,0,0,0,{"$f":"SUBTOTAL(4,K10:K15)","v":1},{"$f":"SUBTOTAL(4,L10:L15)","v":1},{"$f":"SUBTOTAL(4,M10:M15)","v":1},1,0,0,0]
[4,"4.1","Descrição dos Serviços e Referências das Especificações","mês",{"$f":"SUM(F17:Q17)","v":3},{"$nulls":9},1,1,1]
[4,"4.2","Memorial de Cálculo e Memorial Descritivo das Obras","mês",{"$f":"SUM(F18:Q18)","v":3},{"$nulls":9},1,1,1]
[4,"4.3","Concepção e Estudo das Obras Civil","mês",3,{"$nulls":9},1,1,1]
[4,"4.4","Estudo Hidromecânico","mês",3,{"$nulls":9},1,1,1]
[4,"4.5","Orçamento Geral das Obras e Serviços","mês",3,{"$nulls":9},1,1,1]
[4,"4.6","Plano de Execução das Obras","mês",3,{"$nulls":9},1,1,1]
[4,4,"Consolidação do Anteprojeto de Engenharia (APE)","mês",{"$f":"SUM(F23:Q23)","v":3},{"$f":"SUBTOTAL(4,F17:F22)","v":0},0,0,0,0,0,0,0,0,1,{"$f":"SUBTOTAL(4,P17:P22)","v":1},{"$f":"SUBTOTAL(4,Q17:Q22)","v":1}]
["Total","Total","Balanço Temporal","mês",{"$f":"SUM(F24:Q24)","v":12},{"$f":"SUBTOTAL(4,F4:F23)","v":1},1,1,1,1,1,1,1,1,1,1,1]
["Cod1","Cod2","Insumos","Uni","Qde",1,2,3,4,5,6,7,8,9,10,11,12]
[2,{"$f":"PFP!C8","v":"P0"},{"$f":"PFP!E8","v":"Engenheiro coordenador (P8061)"},{"$f":"PFP!F8","v":"mês"},{"$f":"SUM(F26:Q26)","v":1.25},0.25,0.25,0.25,0.25,0.25]
[2,{"$f":"PFP!C9","v":"P1"},{"$f":"PFP!E9","v":"Engenheiro sênior (P8067)"},{"$f":"PFP!F9","v":"mês"},1.25,0.25,0.25,0.25,0.25,0.25]
[2,{"$f":"PFP!C10","v":"P2"},{"$f":"PFP!E10","v":"Engenheiro pleno (P8066)"},{"$f":"PFP!F10","v":"mês"},1.25,0.25,0.25,0.25,0.25,0.25]
[2,{"$f":"PFP!C11","v":"P3"},{"$f":"PFP!E11","v":"Engenheiro júnior (P8065)"},{"$f":"PFP!F11","v":"mês"},1.25,0.25,0.25,0.25,0.25,0.25,null,null,{"$f":"M28/2","v":0}]
[2,null,"Economista",{"$f":"PFP!F12","v":"mês"},0]
[2,null,"Advogado",{"$f":"PFP!F13","v":"mês"},0]
[2,null,"Assistente Social",{"$f":"PFP!F14","v":"mês"},5,1,1,1,1,1]
[2,null,"Técnico em Ação Social",{"$f":"PFP!F15","v":"mês"},10,2,2,2,2,2]
[2,{"$f":"PFP!C16","v":"T1"},{"$f":"PFP!E16","v":"Técnico de projetos/obra (P8147)"},{"$f":"PFP!F16","v":"mês"},10,2,2,2,2,2]
[2,{"$f":"PFP!C17","v":"D"},{"$f":"PFP!E17","v":"Desenhista (40807) **"},{"$f":"PFP!F17","v":"mês"},2.5,0.5,0.5,0.5,0.5,0.5]
[2,{"$f":"PFP!C18","v":"A1"},{"$f":"PFP!E18","v":"Secretária (P8135)"},{"$f":"PFP!F18","v":"mês"},1.25,0.25,0.25,0.25,0.25,0.25,{"$f":"K26","v":0}]
[2,{"$f":"PFP!C22","v":"M1"},{"$f":"PFP!E22","v":"Relatório Parcial"},{"$f":"PFP!F22","v":"un"},0]
[2,{"$f":"PFP!C23","v":"M2"},{"$f":"PFP!E23","v":"Relatório Final"},{"$f":"PFP!F23","v":"un"},1,{"$nulls":4},1]
[2,{"$f":"PFP!C24","v":"TOP"},{"$f":"PFP!E24","v":"Total Serviços Cartográficos"},{"$f":"PFP!F24","v":"un"},1,{"$nulls":4},1]
[2,{"$f":"PFP!C25","v":"GEO"},{"$f":"PFP!E25","v":"Total Serviços Geotécnicos"},{"$f":"PFP!F25","v":"un"},1,{"$nulls":4},1]
[2,{"$f":"PFP!C26","v":"PED"},{"$f":"PFP!E26","v":"Total Serviços Pedológicos"},{"$f":"PFP!F26","v":"un"},1,{"$nulls":4},1]
[2,null,"Estudos Básicos (EB)"]
[3,{"$f":"PFP!C8","v":"P0"},{"$f":"PFP!E8","v":"Engenheiro coordenador (P8061)"},{"$f":"PFP!F8","v":"mês"},{"$f":"SUM(F43:Q43)","v":1},{"$nulls":5},0.25,0.25,0.25,0.25]
[3,{"$f":"PFP!C9","v":"P1"},{"$f":"PFP!E9","v":"Engenheiro sênior (P8067)"},{"$f":"PFP!F9","v":"mês"},4,{"$nulls":5},1,1,1,1]
[3,{"$f":"PFP!C10","v":"P2"},{"$f":"PFP!E10","v":"Engenheiro pleno (P8066)"},{"$f":"PFP!F10","v":"mês"},6,{"$nulls":5},1.5,1.5,1.5,1.5]
[3,{"$f":"PFP!C11","v":"P3"},{"$f":"PFP!E11","v":"Engenheiro júnior (P8065)"},{"$f":"PFP!F11","v":"mês"},10,{"$nulls":5},2.5,2.5,2.5,2.5]
[3,null,"Economista","mês",4,{"$nulls":5},1,1,1,1]
[3,null,"Advogado","mês",1,{"$nulls":5},0.25,0.25,0.25,0.25]
[3,null,"Assistente Social","mês",2,{"$nulls":5},0.5,0.5,0.5,0.5]
[3,null,"Técnico em Ação Social","mês",4,{"$nulls":5},1,1,1,1]
[3,{"$f":"PFP!C16","v":"T1"},{"$f":"PFP!E16","v":"Técnico de projetos/obra (P8147)"},{"$f":"PFP!F16","v":"mês"},4,{"$nulls":5},1,1,1,1]
[3,{"$f":"PFP!C17","v":"D"},{"$f":"PFP!E17","v":"Desenhista (40807) **"},{"$f":"PFP!F17","v":"mês"},2,{"$nulls":5},0.5,0.5,0.5,0.5]
[3,{"$f":"PFP!C18","v":"A1"},{"$f":"PFP!E18","v":"Secretária (P8135)"},{"$f":"PFP!F18","v":"mês"},1,{"$nulls":5},{"$f":"K43","v":0.25},0.25,0.25,{"$f":"N43","v":0.25}]
[3,{"$f":"PFP!C19","v":"ECA"},{"$f":"PFP!E22","v":"Relatório Parcial"},"un",0]
[3,{"$f":"PFP!C20","v":"AT2"},{"$f":"PFP!E23","v":"Relatório Final"},"un",1,{"$nulls":8},1]
[3,null,"Estudo de Viabilidade Técnica, Econômica e Ambiental (EVTEA)"]
[4,{"$f":"PFP!C8","v":"P0"},{"$f":"PFP!E8","v":"Engenheiro coordenador (P8061)"},{"$f":"PFP!F8","v":"mês"},{"$f":"SUM(F57:Q57)","v":0.75},{"$nulls":9},0.25,0.25,0.25]
[4,{"$f":"PFP!C9","v":"P1"},{"$f":"PFP!E9","v":"Engenheiro sênior (P8067)"},{"$f":"PFP!F9","v":"mês"},{"$f":"SUM(F58:Q58)","v":3},{"$nulls":9},1,1,1]
[4,{"$f":"PFP!C10","v":"P2"},{"$f":"PFP!E10","v":"Engenheiro pleno (P8066)"},{"$f":"PFP!F10","v":"mês"},{"$f":"SUM(F59:Q59)","v":4.5},{"$nulls":9},1.5,1.5,1.5]
[4,{"$f":"PFP!C11","v":"P3"},{"$f":"PFP!E11","v":"Engenheiro júnior (P8065)"},{"$f":"PFP!F11","v":"mês"},{"$f":"SUM(F60:Q60)","v":7.5},{"$nulls":9},2.5,2.5,2.5]
[4,null,"Economista",{"$f":"PFP!F16","v":"mês"},{"$f":"SUM(F61:Q61)","v":0}]
[4,null,"Advogado",{"$f":"PFP!F13","v":"mês"}]
[4,null,"Assistente Social",{"$f":"PFP!F18","v":"mês"}]
[4,null,"Técnico em Ação Social",{"$f":"PFP!F15","v":"mês"}]
[4,{"$f":"PFP!C16","v":"T1"},{"$f":"PFP!E16","v":"Técnico de projetos/obra (P8147)"},{"$f":"PFP!F16","v":"mês"},{"$f":"SUM(F65:Q65)","v":3},{"$nulls":9},1,1,1]
[4,{"$f":"PFP!C17","v":"D"},{"$f":"PFP!E17","v":"Desenhista (40807) **"},{"$f":"PFP!F17","v":"mês"},{"$f":"SUM(F66:Q66)","v":3},{"$nulls":9},1,1,1]
[4,{"$f":"PFP!C18","v":"A1"},{"$f":"PFP!E18","v":"Secretária (P8135)"},{"$f":"PFP!F18","v":"mês"},{"$f":"SUM(F67:Q67)","v":1.5},{"$nulls":9},0.5,0.5,0.5]
[4,{"$f":"PFP!C22","v":"M1"},{"$f":"PFP!E22","v":"Relatório Parcial"},{"$f":"PFP!F22","v":"un"},{"$f":"SUM(F68:Q68)","v":0}]
[4,{"$f":"PFP!C23","v":"M2"},{"$f":"PFP!E23","v":"Relatório Final"},{"$f":"PFP!F23","v":"un"},{"$f":"SUM(F69:Q69)","v":1},{"$nulls":11},1]
[4,null,"Consolidação do Anteprojeto de Engenharia (APE)"]
["Total",null,"Balanço de Insumos",null,null,{"$f":"SUBTOTAL(2,F26:F70)","v":9},9,9,9,13,12,11,12,12,7,7,8]

{"sheet":"Cronograma Físico-Financeiro","index":11,"n_rows":17,"n_cols":16,"rows_kept":17,"cut":false,"hidden":false,"merged":[[11,1,12,2],[13,2,14,2],[15,1,16,2],[0,1,1,4],[4,1,5,1],[4,2,5,2],[6,1,7,1],[6,2,7,2],[8,1,9,1],[8,2,9,2]]}
[null,"CRONOGRAMA FÍSICO-FINANCEIRO"]
[]
[]
[null,null,null,"Mês 1","Mês 2","Mês 3","Mês 4","Mês 5","Mês 6","Mês 7","Mês 8","Mês 9","Mês 10","Mês 11","Mês 12"]
[null,"Estudos Básicos (EB)",{"$f":"'CRO1_Ins-Pro'!H26","v":1363178.6159896404},{"$f":"D6*$C$5","v":272635.72319792811},272635.72319792811,272635.72319792811,272635.72319792811,272635.72319792811,0,0,0,0,0,0,0,{"$f":"SUM(D5:O5)","v":1363178.6159896406}]
[null,null,null,0.2,0.2,0.2,0.2,0.2,{"$nulls":7},1]
[null,"Estudo de Viabilidade Técnica, Econômica e Ambiental (EVTEA)",{"$f":"'CRO1_Ins-Pro'!I26","v":799425.78999999992},{"$f":"D8*$C$7","v":0},0,0,0,0,199856.44749999998,199856.44749999998,199856.44749999998,199856.44749999998,0,0,0,799425.78999999992]
[{"$nulls":8},0.25,0.25,0.25,0.25,null,null,null,1]
[null,"Projeto Básico (PB)",{"$f":"'CRO1_Ins-Pro'!J26","v":525282.5675},{"$f":"D10*$C$9","v":0},0,0,0,0,0,0,0,0,157584.77025,157584.77025,210113.027,525282.5675]
[{"$nulls":12},0.3,0.3,0.4,1]
[]
[null,"NO MÊS",null,{"$f":"D5+D7+D9","v":272635.72319792811},272635.72319792811,272635.72319792811,272635.72319792811,272635.72319792811,199856.44749999998,199856.44749999998,199856.44749999998,{"$f":"L5+L7+L9","v":199856.44749999998},157584.77025,157584.77025,210113.027,{"$f":"SUM(D12:O12)","v":2687886.9734896403}]
[null,null,null,{"$f":"D12/SUM($C$5:$C$10)","v":0.10143124539346592},0.10143124539346592,0.10143124539346592,0.10143124539346592,0.10143124539346592,7.4354483455280701E-2,7.4354483455280701E-2,7.4354483455280701E-2,{"$f":"L12/SUM($C$5:$C$10)","v":7.4354483455280701E-2},5.8627751763464311E-2,5.8627751763464311E-2,7.8170335684619077E-2,{"$f":"SUM(D13:O13)","v":1.0000000000000002}]
[null,null,"DESEMBOLSO         (80% do Subproduto) ",{"$f":"D12*0.8","v":218108.5785583425},{"$f":"E12*0.8","v":218108.5785583425},218108.5785583425,218108.5785583425,{"$f":"H12*0.8+(P5*0.2)","v":490744.30175627058},159885.158,159885.158,159885.158,{"$f":"L12*0.8+(P7*0.2)","v":319770.31599999999},126067.8162,126067.8162,{"$f":"O12*0.8+(P9*0.2)","v":273146.9351},{"$f":"SUM(D14:O14)","v":2687886.9734896407}]
[null,null,null,{"$f":"D14/SUM($C$5,$C$7,$C$9)","v":8.1144996314772733E-2},{"$f":"E14/SUM($C$5,$C$7,$C$9)","v":8.1144996314772733E-2},8.1144996314772733E-2,8.1144996314772733E-2,0.18257624170823863,5.9483586764224564E-2,5.9483586764224564E-2,5.9483586764224564E-2,0.11896717352844913,4.6902201410771449E-2,4.6902201410771449E-2,0.1016214363900048,{"$f":"SUM(D15:O15)","v":1}]
[null,"ACUMULADO",null,{"$f":"D14","v":218108.5785583425},{"$f":"D16+E14","v":436217.157116685},{"$f":"E16+F14","v":654325.73567502748},872434.31423337001,1363178.6159896406,1523063.7739896406,1682948.9319896407,1842834.0899896407,{"$f":"K16+L14","v":2162604.4059896409},{"$f":"L16+M14","v":2288672.2221896406},{"$f":"M16+N14","v":2414740.0383896409},{"$f":"N16+O14","v":2687886.9734896407}]
[null,null,null,{"$f":"D13","v":0.10143124539346592},{"$f":"D17+E13","v":0.20286249078693183},0.30429373618039773,0.40572498157386366,0.50715622696732954,0.58151071042261027,0.655865193877891,0.73021967733317172,{"$f":"K17+L13","v":0.80457416078845245},{"$f":"L17+M13","v":0.86320191255191681},{"$f":"M17+N13","v":0.92182966431538116},{"$f":"N17+O13","v":1.0000000000000002}]

{"sheet":"MDO DNIT-jul2024","index":12,"n_rows":105,"n_cols":26,"rows_kept":105,"cut":false,"hidden":false,"merged":[[0,6,0,15],[0,0,2,0],[0,1,2,1],[0,2,2,2],[0,3,1,3],[0,4,1,5],[1,6,1,7],[1,8,1,9],[1,10,1,11],[1,12,1,13],[1,14,1,15],[1,20,1,21],[0,24,1,24],[0,16,0,21],[0,22,1,23],[0,25,1,25],[1,16,1,17],[1,18,1,19]]}
["Código","Categoria","Unid.","Salário","Encargos Sociais",null,"Encargos Complementares",{"$nulls":9},"Encargos Adicionais",{"$nulls":5},"Encargos Totais",null,"Valor Total","Encargos adici + Compl "]
[{"$nulls":6},"Alimentação",null,"EPI",null,"Ferramenta",null,"Transporte",null,"Exame Ocupacional",null,"Cesta Básica",null,"Assistência Médica",null,"Seguro de Vida"]
[null,null,null,"R$","%","R$","%","R$","%","R$","%","R$","%","R$","%","R$","%","R$","%","R$","%","R$","%","R$","R$","R$"]
["Profissionais mensalistas"]
["P8001","Advogado júnior","mês",4616.38,0.79300000000000004,3660.79,0.15959999999999999,736.74,5.4999999999999997E-3,25.51,0,0,0,0,5.9999999999999995E-4,2.95,0,0,6.4000000000000001E-2,295.48,2.2000000000000001E-3,9.98,1.0248999999999999,4731.45,9347.83,{"$f":"Y5-D5-F5","v":1070.6599999999999}]
["P8002","Advogado pleno","mês",6155.17,0.79300000000000004,4881.05,0.1197,736.74,4.1000000000000003E-3,25.51,0,0,0,0,5.0000000000000001E-4,2.95,0,0,4.8000000000000001E-2,295.48,1.6000000000000001E-3,9.98,0.96689999999999998,5951.71,12106.89,{"$f":"Y6-D6-F6","v":1070.6699999999992}]
["P8003","Advogado sênior","mês",11441.04,0.79300000000000004,9072.75,6.4399999999999999E-2,736.74,2.2000000000000001E-3,25.51,0,0,0,0,2.9999999999999997E-4,2.95,0,0,2.58E-2,295.48,8.9999999999999998E-4,9.98,0.88660000000000005,10143.41,21584.45,1070.6599999999999]
["P8007","Analista de desenvolvimento de sistemas júnior","mês",4690.87,0.79630000000000001,3735.34,0.15709999999999999,736.74,0,0,0,0,0,0,8.0000000000000004E-4,3.74,0,0,6.3E-2,295.48,2.0999999999999999E-3,9.98,1.0193000000000001,4781.28,9472.16,1045.9499999999998]
["P8008","Analista de desenvolvimento de sistemas pleno","mês",5657.08,0.79630000000000001,4504.74,0.13020000000000001,736.74,0,0,0,0,0,0,6.9999999999999999E-4,3.74,0,0,5.2200000000000003E-2,295.48,1.8E-3,9.98,0.98119999999999996,5550.68,11207.76,1045.9400000000005]
["P8009","Analista de desenvolvimento de sistemas sênior","mês",9897.56,0.79630000000000001,7881.43,7.4399999999999994E-2,736.74,0,0,0,0,0,0,4.0000000000000002E-4,3.74,0,0,2.9899999999999999E-2,295.48,1E-3,9.98,0.90200000000000002,8927.3700000000008,18824.919999999998,1045.9299999999985]
["P8013","Arquiteto júnior","mês",12002,0.79320000000000002,9519.99,6.1400000000000003E-2,736.74,2.0999999999999999E-3,25.51,0,0,0,0,2.0000000000000001E-4,2.61,0,0,2.46E-2,295.48,8.0000000000000004E-4,9.98,0.88239999999999996,10590.31,22592.31,1070.3200000000015]
["P8014","Arquiteto pleno","mês",12521.12,0.79320000000000002,9931.75,5.8799999999999998E-2,736.74,2E-3,25.51,0,0,0,0,2.0000000000000001E-4,2.61,0,0,2.3599999999999999E-2,295.48,8.0000000000000004E-4,9.98,0.87870000000000004,11002.08,23523.200000000001,1070.33]
["P8015","Arquiteto sênior","mês",15280.37,0.79320000000000002,12120.39,4.82E-2,736.74,1.6999999999999999E-3,25.51,0,0,0,0,2.0000000000000001E-4,2.61,0,0,1.9300000000000001E-2,295.48,6.9999999999999999E-4,9.98,0.86319999999999997,13190.72,28471.09,1070.33]
["P8019","Assistente social júnior","mês",3264.91,0.80159999999999998,2617.15,0.22570000000000001,736.74,7.7999999999999996E-3,25.51,0,0,7.1000000000000004E-3,23.14,1.2999999999999999E-3,4.29,0,0,9.0499999999999997E-2,295.48,3.0999999999999999E-3,9.98,1.137,3712.3,6977.21,1095.1500000000001]
["P8020","Assistente social pleno","mês",4353.21,0.80159999999999998,3489.54,0.16919999999999999,736.74,5.8999999999999999E-3,25.51,0,0,0,0,1E-3,4.29,0,0,6.7900000000000002E-2,295.48,2.3E-3,9.98,1.0479000000000001,4561.55,8914.76,1072.0100000000002]
["P8021","Assistente social sênior","mês",7202.11,0.80159999999999998,5773.22,0.1023,736.74,3.5000000000000001E-3,25.51,0,0,0,0,5.9999999999999995E-4,4.29,0,0,4.1000000000000002E-2,295.48,1.4E-3,9.98,0.95040000000000002,6845.22,14047.34,1072.0100000000002]
["P8025","Auxiliar","mês",1583.76,0.81559999999999999,1291.72,0.4652,736.74,1.9599999999999999E-2,31.06,1E-3,1.59,7.8299999999999995E-2,124.01,3.8999999999999998E-3,6.15,0,0,0.18659999999999999,295.48,6.3E-3,9.98,1.5765,2496.73,4080.5,1205.0199999999998]
["P8026","Auxiliar administrativo","mês",1880.26,0.80169999999999997,1507.4,0.39179999999999998,736.74,0,0,0,0,5.6500000000000002E-2,106.22,2E-3,3.76,0,0,0.15709999999999999,295.48,5.3E-3,9.98,1.4145000000000001,2659.59,4539.8500000000004,1152.19]
["P8027","Auxiliar de laboratório","mês",1753.34,0.80359999999999998,1408.99,0.42020000000000002,736.74,1.77E-2,31.06,1.9E-3,3.28,6.4899999999999999E-2,113.83,2.3E-3,4.0199999999999996,0,0,0.16850000000000001,295.48,5.7000000000000002E-3,9.98,1.4847999999999999,2603.38,4356.7299999999996,1194.3999999999994]
["P8028","Auxiliar de topografia","mês",1583.76,0.80620000000000003,1276.83,0.4652,736.74,1.9599999999999999E-2,31.06,8.9999999999999998E-4,1.39,7.8299999999999995E-2,124.01,2.8E-3,4.3899999999999997,0,0,0.18659999999999999,295.48,6.3E-3,9.98,1.5658000000000001,2479.88,4063.64,1203.0500000000002]
["P8032","Biólogo júnior","mês",3224.68,0.79700000000000004,2570.0700000000002,0.22850000000000001,736.74,7.9000000000000008E-3,25.51,0,0,7.9000000000000008E-3,25.55,1.1000000000000001E-3,3.6,0,0,9.1600000000000001E-2,295.48,3.0999999999999999E-3,9.98,1.1371,3666.94,6891.62,1096.8699999999999]
["P8033","Biólogo pleno","mês",4299.57,0.79700000000000004,3426.76,0.1714,736.74,5.8999999999999999E-3,25.51,0,0,0,0,8.0000000000000004E-4,3.6,0,0,6.8699999999999997E-2,295.48,2.3E-3,9.98,1.0462,4498.08,8797.65,1071.3199999999997]
["P8034","Biólogo sênior","mês",7659.98,0.79700000000000004,6105.01,9.6199999999999994E-2,736.74,3.3E-3,25.51,0,0,0,0,5.0000000000000001E-4,3.6,0,0,3.8600000000000002E-2,295.48,1.2999999999999999E-3,9.98,0.93689999999999996,7176.33,14836.31,1071.3199999999997]
["P8038","Chefe de escritório","mês",3337.76,0.79390000000000005,2649.85,0.22070000000000001,736.74,0,0,0,0,5.5999999999999999E-3,18.77,8.0000000000000004E-4,2.81,0,0,8.8499999999999995E-2,295.48,3.0000000000000001E-3,9.98,1.1126,3713.63,7051.4,1063.7899999999995]
["P8040","Contador júnior","mês",4191.21,0.79359999999999997,3326.15,0.17580000000000001,736.74,0,0,0,0,0,0,5.9999999999999995E-4,2.69,0,0,7.0499999999999993E-2,295.48,2.3999999999999998E-3,9.98,1.0428999999999999,4371.04,8562.25,1044.8899999999999]
["P8041","Contador pleno","mês",5588.28,0.79359999999999997,4434.8599999999997,0.1318,736.74,0,0,0,0,0,0,5.0000000000000001E-4,2.69,0,0,5.2900000000000003E-2,295.48,1.8E-3,9.98,0.98060000000000003,5479.76,11068.04,1044.9000000000015]
["P8042","Contador sênior","mês",10788.12,0.79359999999999997,8561.4500000000007,6.83E-2,736.74,0,0,0,0,0,0,2.0000000000000001E-4,2.69,0,0,2.7400000000000001E-2,295.48,8.9999999999999998E-4,9.98,0.89049999999999996,9606.34,20394.46,1044.8899999999976]
["P8044","Coordenador ambiental","mês",18689.66,0.79679999999999995,14891.92,3.9399999999999998E-2,736.74,1.1999999999999999E-3,23.3,0,0,0,0,2.0000000000000001E-4,3.98,0,0,1.5800000000000002E-2,295.48,5.0000000000000001E-4,9.98,0.85399999999999998,15961.41,34651.08,1069.5000000000018]
["P8045","Economista júnior","mês",4750.1000000000004,0.78610000000000002,3734.05,0.15509999999999999,736.74,0,0,0,0,0,0,4.0000000000000002E-4,1.9,0,0,6.2199999999999998E-2,295.48,2.0999999999999999E-3,9.98,1.0059,4778.1499999999996,9528.25,1044.0999999999995]
["P8046","Economista pleno","mês",6333.46,0.78610000000000002,4978.74,0.1163,736.74,0,0,0,0,0,0,2.9999999999999997E-4,1.9,0,0,4.6699999999999998E-2,295.48,1.6000000000000001E-3,9.98,0.95099999999999996,6022.84,12356.3,1044.0999999999995]
["P8047","Economista sênior","mês",10433.39,0.78610000000000002,8201.69,7.0599999999999996E-2,736.74,0,0,0,0,0,0,2.0000000000000001E-4,1.9,0,0,2.8299999999999999E-2,295.48,1E-3,9.98,0.88619999999999999,9245.7900000000009,19679.189999999999,1044.1099999999988]
["P8054","Engenheiro agrônomo júnior","mês",12002,0.79079999999999995,9491.18,6.1400000000000003E-2,736.74,2.0999999999999999E-3,25.51,0,0,0,0,2.0000000000000001E-4,2.5,0,0,2.46E-2,295.48,8.0000000000000004E-4,9.98,0.88,10561.4,22563.4,1070.2200000000012]
["P8055","Engenheiro agrônomo pleno","mês",12380.97,0.79079999999999995,9790.8700000000008,5.9499999999999997E-2,736.74,2.0999999999999999E-3,25.51,0,0,0,0,2.0000000000000001E-4,2.5,0,0,2.3900000000000001E-2,295.48,8.0000000000000004E-4,9.98,0.87719999999999998,10861.09,23242.06,1070.2200000000012]
["P8056","Engenheiro agrônomo sênior","mês",13631.64,0.79079999999999995,10779.9,5.3999999999999999E-2,736.74,1.9E-3,25.51,0,0,0,0,2.0000000000000001E-4,2.5,0,0,2.1700000000000001E-2,295.48,6.9999999999999999E-4,9.98,0.86929999999999996,11850.12,25481.759999999998,1070.2199999999993]
["P8057","Engenheiro ambiental júnior","mês",12002,0.79820000000000002,9580,6.1400000000000003E-2,736.74,2.0999999999999999E-3,25.51,0,0,0,0,4.0000000000000002E-4,4.3499999999999996,0,0,2.46E-2,295.48,8.0000000000000004E-4,9.98,0.88749999999999996,10652.07,22654.07,1072.0699999999997]
["P8058","Engenheiro ambiental pleno","mês",12193.36,0.79820000000000002,9732.74,6.0400000000000002E-2,736.74,2.0999999999999999E-3,25.51,0,0,0,0,4.0000000000000002E-4,4.3499999999999996,0,0,2.4199999999999999E-2,295.48,8.0000000000000004E-4,9.98,0.8861,10804.81,22998.17,1072.0699999999979]
["P8059","Engenheiro ambiental sênior","mês",14759.24,0.79820000000000002,11780.83,4.99E-2,736.74,1.6999999999999999E-3,25.51,0,0,0,0,2.9999999999999997E-4,4.3499999999999996,0,0,0.02,295.48,6.9999999999999999E-4,9.98,0.87080000000000002,12852.9,27612.14,1072.0699999999997]
["P8060","Engenheiro consultor especial","mês",21827.91,0.79759999999999998,17409.939999999999,3.3799999999999997E-2,736.74,1.1000000000000001E-3,23.3,0,0,0,0,2.0000000000000001E-4,3.99,0,0,1.35E-2,295.48,5.0000000000000001E-4,9.98,0.84660000000000002,18479.439999999999,40307.360000000001,1069.510000000002]
["P8061","Engenheiro coordenador","mês",18189.93,0.79759999999999998,14508.29,4.0500000000000001E-2,736.74,1.2999999999999999E-3,23.3,0,0,0,0,2.0000000000000001E-4,3.99,0,0,1.6199999999999999E-2,295.48,5.0000000000000001E-4,9.98,0.85640000000000005,15577.78,33767.71,1069.489999999998]
["P8062","Engenheiro de pesca júnior","mês",12002,0.80130000000000001,9617.2000000000007,6.1400000000000003E-2,736.74,2.0999999999999999E-3,25.51,0,0,0,0,4.0000000000000002E-4,4.74,0,0,2.46E-2,295.48,8.0000000000000004E-4,9.98,0.89070000000000005,10689.66,22691.66,1072.4599999999991]
["P8063","Engenheiro de pesca pleno","mês",12714.67,0.80130000000000001,10188.27,5.79E-2,736.74,2E-3,25.51,0,0,0,0,4.0000000000000002E-4,4.74,0,0,2.3199999999999998E-2,295.48,8.0000000000000004E-4,9.98,0.88560000000000005,11260.73,23975.4,1072.4600000000009]
["P8064","Engenheiro de pesca sênior","mês",16261.81,0.80130000000000001,13030.59,4.53E-2,736.74,1.6000000000000001E-3,25.51,0,0,0,0,2.9999999999999997E-4,4.74,0,0,1.8200000000000001E-2,295.48,5.9999999999999995E-4,9.98,0.86729999999999996,14103.05,30364.86,1072.4600000000009]
["P8065","Engenheiro de projetos júnior","mês",12002,0.79759999999999998,9572.7999999999993,6.1400000000000003E-2,736.74,2.0999999999999999E-3,25.51,0,0,0,0,2.9999999999999997E-4,3.99,0,0,2.46E-2,295.48,8.0000000000000004E-4,9.98,0.88690000000000002,10644.5,22646.5,1071.7000000000007]
["P8066","Engenheiro de projetos pleno","mês",12629.6,0.79759999999999998,10073.370000000001,5.8299999999999998E-2,736.74,2E-3,25.51,0,0,0,0,2.9999999999999997E-4,3.99,0,0,2.3400000000000001E-2,295.48,8.0000000000000004E-4,9.98,0.88249999999999995,11145.08,23774.68,1071.7099999999991]
["P8067","Engenheiro de projetos sênior","mês",15877.29,0.79759999999999998,12663.73,4.6399999999999997E-2,736.74,1.6000000000000001E-3,25.51,0,0,0,0,2.9999999999999997E-4,3.99,0,0,1.8599999999999998E-2,295.48,5.9999999999999995E-4,9.98,0.86509999999999998,13735.44,29612.73,1071.7099999999991]
["P8068","Engenheiro florestal júnior","mês",12002,0.80130000000000001,9617.2000000000007,6.1400000000000003E-2,736.74,2.0999999999999999E-3,25.51,0,0,0,0,4.0000000000000002E-4,4.74,0,0,2.46E-2,295.48,8.0000000000000004E-4,9.98,0.89070000000000005,10689.66,22691.66,1072.4599999999991]
["P8069","Engenheiro florestal pleno","mês",12714.67,0.80130000000000001,10188.27,5.79E-2,736.74,2E-3,25.51,0,0,0,0,4.0000000000000002E-4,4.74,0,0,2.3199999999999998E-2,295.48,8.0000000000000004E-4,9.98,0.88560000000000005,11260.73,23975.4,1072.4600000000009]
["P8070","Engenheiro florestal sênior","mês",16261.81,0.80130000000000001,13030.59,4.53E-2,736.74,1.6000000000000001E-3,25.51,0,0,0,0,2.9999999999999997E-4,4.74,0,0,1.8200000000000001E-2,295.48,5.9999999999999995E-4,9.98,0.86729999999999996,14103.05,30364.86,1072.4600000000009]
["P8080","Geólogo júnior","mês",10004.5,0.80079999999999996,8011.6,6.7699999999999996E-2,677.01,2.5999999999999999E-3,25.51,0,0,0,0,2.9999999999999997E-4,3.42,0,0,2.9499999999999998E-2,295.48,1E-3,9.98,0.90190000000000003,9023.01,19027.509999999998,1011.409999999998]
["P8081","Geólogo pleno","mês",11911.59,0.80079999999999996,9538.7999999999993,5.6800000000000003E-2,677.01,2.0999999999999999E-3,25.51,0,0,0,0,2.9999999999999997E-4,3.42,0,0,2.4799999999999999E-2,295.48,8.0000000000000004E-4,9.98,0.88570000000000004,10550.2,22461.79,1011.4000000000015]
["P8082","Geólogo sênior","mês",13818.68,0.80079999999999996,11066,4.9000000000000002E-2,677.01,1.8E-3,25.51,0,0,0,0,2.0000000000000001E-4,3.42,0,0,2.1399999999999999E-2,295.48,6.9999999999999999E-4,9.98,0.874,12077.4,25896.07,1011.3899999999994]
["P8092","Jornalista júnior","mês",3073.16,0.79549999999999998,2444.6999999999998,0.2397,736.74,8.3000000000000001E-3,25.51,0,0,1.1299999999999999E-2,34.64,8.9999999999999998E-4,2.68,0,0,9.6100000000000005E-2,295.48,3.2000000000000002E-3,9.98,1.1551,3549.74,6622.9,1105.04]
["P8093","Jornalista pleno","mês",4097.55,0.79549999999999998,3259.6,0.17979999999999999,736.74,6.1999999999999998E-3,25.51,0,0,0,0,6.9999999999999999E-4,2.68,0,0,7.2099999999999997E-2,295.48,2.3999999999999998E-3,9.98,1.0567,4330,8427.5499999999993,1070.3999999999992]
["P8094","Jornalista sênior","mês",7891.46,0.79549999999999998,6277.65,9.3399999999999997E-2,736.74,3.2000000000000002E-3,25.51,0,0,0,0,2.9999999999999997E-4,2.68,0,0,3.7400000000000003E-2,295.48,1.2999999999999999E-3,9.98,0.93110000000000004,7348.05,15239.51,1070.4000000000005]
["P8098","Laboratorista","mês",2337.79,0.80359999999999998,1878.65,0.31509999999999999,736.74,1.2200000000000001E-2,28.6,0,0,3.3700000000000001E-2,78.760000000000005,1.6999999999999999E-3,4.0199999999999996,0,0,0.12640000000000001,295.48,4.3E-3,9.98,1.2970999999999999,3032.24,5370.03,1153.5899999999997]
["P8102","Médico veterinário","mês",12002,0.79079999999999995,9491.18,6.1400000000000003E-2,736.74,2.0999999999999999E-3,25.51,0,0,0,0,2.0000000000000001E-4,2.2599999999999998,0,0,2.46E-2,295.48,8.0000000000000004E-4,9.98,0.88,10561.16,22563.16,1069.9799999999996]
["P8106","Meteorologista júnior","mês",5253.81,0.79330000000000001,4167.84,0.14019999999999999,736.74,4.8999999999999998E-3,25.51,0,0,0,0,5.0000000000000001E-4,2.63,0,0,5.62E-2,295.48,1.9E-3,9.98,0.997,5238.1899999999996,10491.99,1070.3399999999992]
["P8107","Meteorologista pleno","mês",7005.07,0.79330000000000001,5557.12,0.1052,736.74,3.5999999999999999E-3,25.51,0,0,0,0,4.0000000000000002E-4,2.63,0,0,4.2200000000000001E-2,295.48,1.4E-3,9.98,0.94610000000000005,6627.47,13632.54,1070.3500000000013]
["P8108","Meteorologista sênior","mês",11774.37,0.79330000000000001,9340.61,6.2600000000000003E-2,736.74,2.2000000000000001E-3,25.51,0,0,0,0,2.0000000000000001E-4,2.63,0,0,2.5100000000000001E-2,295.48,8.0000000000000004E-4,9.98,0.88419999999999999,10410.950000000001,22185.32,1070.3399999999983]
["P8112","Motorista de caminhão","mês",2332.4,0.80569999999999997,1879.21,0.3014,702.89,1.3299999999999999E-2,31.06,0,0,3.39E-2,79.09,1.8E-3,4.24,0,0,0.12670000000000001,295.48,4.3E-3,9.98,1.2870999999999999,3001.96,5334.36,1122.7499999999995]
["P8113","Motorista de veículo leve","mês",2065.77,0.80130000000000001,1655.3,0.34029999999999999,702.89,1.4999999999999999E-2,31.06,0,0,4.5999999999999999E-2,95.09,1.9E-3,3.85,0,0,0.14299999999999999,295.48,4.7999999999999996E-3,9.98,1.3524,2793.65,4859.42,1138.3500000000001]
["P8117","Oceanógrafo júnior","mês",4510.24,0.80300000000000005,3621.72,0.1633,736.74,5.7000000000000002E-3,25.51,0,0,0,0,8.0000000000000004E-4,3.57,0,0,6.5500000000000003E-2,295.48,2.2000000000000001E-3,9.98,1.0405,4693.01,9203.25,1071.2900000000004]
["P8118","Oceanógrafo pleno","mês",6013.65,0.80300000000000005,4828.96,0.1225,736.74,4.1999999999999997E-3,25.51,0,0,0,0,5.9999999999999995E-4,3.57,0,0,4.9099999999999998E-2,295.48,1.6999999999999999E-3,9.98,0.98109999999999997,5900.25,11913.9,1071.29]
["P8119","Oceanógrafo sênior","mês",10872.11,0.80300000000000005,8730.2999999999993,6.7799999999999999E-2,736.74,2.3E-3,25.51,0,0,0,0,2.9999999999999997E-4,3.57,0,0,2.7199999999999998E-2,295.48,8.9999999999999998E-4,9.98,0.90149999999999997,9801.59,20673.689999999999,1071.2799999999988]
["P8129","Pedagogo júnior","mês",2507.29,0.92379999999999995,2316.2399999999998,0.29380000000000001,736.74,1.0200000000000001E-2,25.51,0,0,2.7400000000000001E-2,68.59,1.04E-2,26,0,0,0.1178,295.48,4.0000000000000001E-3,9.98,1.3874,3478.55,5985.84,1162.3100000000004]
["P8130","Pedagogo pleno","mês",3343.06,0.92379999999999995,3088.31,0.22040000000000001,736.74,7.6E-3,25.51,0,0,5.4999999999999997E-3,18.45,7.7999999999999996E-3,26,0,0,8.8400000000000006E-2,295.48,3.0000000000000001E-3,9.98,1.2565,4200.4799999999996,7543.53,1112.1599999999994]
["P8131","Pedagogo sênior","mês",4715.72,0.92379999999999995,4356.38,0.15620000000000001,736.74,5.4000000000000003E-3,25.51,0,0,0,0,5.4999999999999997E-3,26,0,0,6.2700000000000006E-2,295.48,2.0999999999999999E-3,9.98,1.1556999999999999,5450.1,10165.82,1093.7199999999993]
["P8135","Secretária","mês",2697.38,0.7984,2153.59,0.27310000000000001,736.74,0,0,0,0,2.12E-2,57.19,1.4E-3,3.87,0,0,0.1095,295.48,3.7000000000000002E-3,9.98,1.2074,3256.85,5954.23,1103.2599999999993]
["P8139","Sondador","mês",2017.39,0.8004,1614.72,0.36520000000000002,736.74,1.4200000000000001E-2,28.6,0,0,4.8599999999999997E-2,97.99,2.2000000000000001E-3,4.51,0,0,0.14649999999999999,295.48,4.8999999999999998E-3,9.98,1.3819999999999999,2788.02,4805.42,1173.3099999999997]
["P8143","Técnico ambiental","mês",2911.08,0.80640000000000001,2347.4899999999998,0.25309999999999999,736.74,9.7999999999999997E-3,28.6,0,0,1.52E-2,44.37,1.4E-3,4.05,0,0,0.10150000000000001,295.48,3.3999999999999998E-3,9.98,1.1909000000000001,3466.71,6377.79,{"$f":"Y70-D70-F70","v":1119.2200000000003}]
["P8147","Técnico de obras","mês",3184.9,0.80210000000000004,2554.61,0.23130000000000001,736.74,8.9999999999999993E-3,28.6,0,0,8.8000000000000005E-3,27.94,1.1999999999999999E-3,3.8,0,0,9.2799999999999994E-2,295.48,3.0999999999999999E-3,9.98,1.1483000000000001,3657.15,6842.04,1102.5299999999997]
["P8151","Técnico de segurança do trabalho","mês",4601.83,0.80920000000000003,3723.8,0.16009999999999999,736.74,6.1999999999999998E-3,28.6,0,0,0,0,1E-3,4.67,0,0,6.4199999999999993E-2,295.48,2.2000000000000001E-3,9.98,1.0428999999999999,4799.28,9401.11,1075.4800000000005]
["P8155","Técnico em geoprocessamento","mês",2879.59,0.79610000000000003,2292.44,0.25580000000000003,736.74,9.9000000000000008E-3,28.6,0,0,1.61E-2,46.26,1.1999999999999999E-3,3.53,0,0,0.1026,295.48,3.5000000000000001E-3,9.98,1.1853,3413.04,6292.64,1120.6100000000001]
["P8159","Técnico em informática - programador","mês",4690.87,0.80079999999999996,3756.45,0.15709999999999999,736.74,0,0,0,0,0,0,6.9999999999999999E-4,3.45,0,0,6.3E-2,295.48,2.0999999999999999E-3,9.98,1.0237000000000001,4802.1000000000004,9492.98,1045.6599999999999]
["P8163","Topógrafo","mês",2428.5700000000002,0.80620000000000003,1957.92,0.3034,736.74,1.18E-2,28.6,0,0,3.0200000000000001E-2,73.319999999999993,1.8E-3,4.3899999999999997,0,0,0.1217,295.48,4.1000000000000003E-3,9.98,1.2790999999999999,3106.43,5535,1148.5099999999998]
["P8167","Arquivista júnior","mês",2411.9299999999998,0.79959999999999998,1928.58,0.30549999999999999,736.74,0,0,0,0,3.0800000000000001E-2,74.319999999999993,1.2999999999999999E-3,3.15,0,0,0.1225,295.48,4.1000000000000003E-3,9.98,1.2638,3048.25,5460.17,1119.6600000000003]
["P8168","Arquivista pleno","mês",3215.9,0.79959999999999998,2571.4299999999998,0.2291,736.74,0,0,0,0,8.0999999999999996E-3,26.08,1E-3,3.15,0,0,9.1899999999999996E-2,295.48,3.0999999999999999E-3,9.98,1.1328,3642.87,6858.77,1071.4400000000005]
["P8169","Arquivista sênior","mês",5113.29,0.79959999999999998,4088.59,0.14410000000000001,736.74,0,0,0,0,0,0,5.9999999999999995E-4,3.15,0,0,5.7799999999999997E-2,295.48,2E-3,9.98,1.004,5133.95,10247.24,1045.3599999999997]
["P8173","Administrador júnior","mês",3341.1,0.7974,2664.19,0.2205,736.74,0,0,0,0,5.5999999999999999E-3,18.57,1.1000000000000001E-3,3.58,0,0,8.8400000000000006E-2,295.48,3.0000000000000001E-3,9.98,1.1160000000000001,3728.54,7069.64,1064.3500000000004]
["P8174","Administrador pleno","mês",4454.8,0.7974,3552.26,0.16539999999999999,736.74,0,0,0,0,0,0,8.0000000000000004E-4,3.58,0,0,6.6299999999999998E-2,295.48,2.2000000000000001E-3,9.98,1.0322,4598.04,9052.84,1045.7799999999997]
["P8175","Administrador sênior","mês",7993.16,0.7974,6373.75,9.2200000000000004E-2,736.74,0,0,0,0,0,0,4.0000000000000002E-4,3.58,0,0,3.6999999999999998E-2,295.48,1.1999999999999999E-3,9.98,0.92820000000000003,7419.53,15412.69,1045.7800000000007]
["P8180","Engenheiro agrimensor júnior","mês",12002,0.7984,9582.4,6.1400000000000003E-2,736.74,2.0999999999999999E-3,25.51,0,0,0,0,4.0000000000000002E-4,4.3899999999999997,0,0,2.46E-2,295.48,8.0000000000000004E-4,9.98,0.88770000000000004,10654.5,22656.5,1072.1000000000004]
["P8181","Engenheiro agrimensor pleno","mês",12338.1,0.7984,9850.74,5.9700000000000003E-2,736.74,2.0999999999999999E-3,25.51,0,0,0,0,4.0000000000000002E-4,4.3899999999999997,0,0,2.3900000000000001E-2,295.48,8.0000000000000004E-4,9.98,0.88529999999999998,10922.84,23260.94,1072.0999999999985]
["P8182","Engenheiro agrimensor sênior","mês",14173.3,0.7984,11315.96,5.1999999999999998E-2,736.74,1.8E-3,25.51,0,0,0,0,2.9999999999999997E-4,4.3899999999999997,0,0,2.0799999999999999E-2,295.48,6.9999999999999999E-4,9.98,0.874,12388.07,26561.37,1072.1100000000006]
["P8183","Geógrafo júnior","mês",3904.44,0.79620000000000002,3108.72,0.18870000000000001,736.74,6.4999999999999997E-3,25.51,0,0,0,0,8.0000000000000004E-4,3.29,0,0,7.5700000000000003E-2,295.48,2.5999999999999999E-3,9.98,1.0705,4179.72,8084.16,1070.9999999999995]
["P8184","Geógrafo pleno","mês",5205.92,0.79620000000000002,4144.96,0.14149999999999999,736.74,4.8999999999999998E-3,25.51,0,0,0,0,5.9999999999999995E-4,3.29,0,0,5.6800000000000003E-2,295.48,1.9E-3,9.98,1.0019,5215.96,10421.879999999999,1070.9999999999991]
["P8185","Geógrafo sênior","mês",10039.58,0.79620000000000002,7993.51,7.3400000000000007E-2,736.74,2.5000000000000001E-3,25.51,0,0,0,0,2.9999999999999997E-4,3.29,0,0,2.9399999999999999E-2,295.48,1E-3,9.98,0.90290000000000004,9064.52,19104.099999999999,1071.0099999999984]
["P8186","Antropólogo júnior","mês",3075.8,0.82050000000000001,2523.6999999999998,0.23949999999999999,736.74,8.3000000000000001E-3,25.51,0,0,1.12E-2,34.479999999999997,2E-3,6.14,0,0,9.6100000000000005E-2,295.48,3.2000000000000002E-3,9.98,1.1808000000000001,3632.03,6707.84,1108.3400000000001]
["P8187","Antropólogo pleno","mês",4101.07,0.82050000000000001,3364.93,0.17960000000000001,736.74,6.1999999999999998E-3,25.51,0,0,0,0,1.5E-3,6.14,0,0,7.1999999999999995E-2,295.48,2.3999999999999998E-3,9.98,1.0823,4438.78,8539.85,1073.8500000000008]
["P8188","Antropólogo sênior","mês",6246.53,0.82050000000000001,5125.28,0.1179,736.74,4.1000000000000003E-3,25.51,0,0,0,0,1E-3,6.14,0,0,4.7300000000000002E-2,295.48,1.6000000000000001E-3,9.98,0.99239999999999995,6199.13,12445.66,1073.8500000000004]
["P8189","Arqueólogo júnior","mês",2815.27,0.80889999999999995,2277.27,0.26169999999999999,736.74,9.1000000000000004E-3,25.51,0,0,1.78E-2,50.12,1.9E-3,5.28,0,0,0.105,295.48,3.5000000000000001E-3,9.98,1.2078,3400.38,6215.65,1123.1099999999997]
["P8190","Arqueólogo pleno","mês",3753.69,0.80889999999999995,3036.36,0.1963,736.74,6.7999999999999996E-3,25.51,0,0,0,0,1.4E-3,5.28,0,0,7.8700000000000006E-2,295.48,2.7000000000000001E-3,9.98,1.0948,4109.3599999999997,7863.04,1072.9900000000002]
["P8191","Arqueólogo sênior","mês",5706.15,0.80889999999999995,4615.71,0.12909999999999999,736.74,4.4999999999999997E-3,25.51,0,0,0,0,8.9999999999999998E-4,5.28,0,0,5.1799999999999999E-2,295.48,1.6999999999999999E-3,9.98,0.99690000000000001,5688.71,11394.86,1073.0000000000009]
["P8192","Historiador júnior","mês",3885.3,0.8367,3250.83,0.18959999999999999,736.74,6.6E-3,25.51,0,0,0,0,1.8E-3,6.99,0,0,7.6100000000000001E-2,295.48,2.5999999999999999E-3,9.98,1.1133,4325.53,8210.84,1074.71]
["P8193","Historiador pleno","mês",5180.3999999999996,0.8367,4334.4399999999996,0.14219999999999999,736.74,4.8999999999999998E-3,25.51,0,0,0,0,1.2999999999999999E-3,6.99,0,0,5.7000000000000002E-2,295.48,1.9E-3,9.98,1.0442,5409.15,10589.55,1074.71]
["P8194","Historiador sênior","mês",8013.69,0.8367,6705.05,9.1899999999999996E-2,736.74,3.2000000000000002E-3,25.51,0,0,0,0,8.9999999999999998E-4,6.99,0,0,3.6900000000000002E-2,295.48,1.1999999999999999E-3,9.98,0.9708,7779.76,15793.45,1074.7100000000009]
["P8195","Paleontólogo júnior","mês",3075.8,0.82050000000000001,2523.6999999999998,0.23949999999999999,736.74,8.3000000000000001E-3,25.51,0,0,1.12E-2,34.479999999999997,2E-3,6.14,0,0,9.6100000000000005E-2,295.48,3.2000000000000002E-3,9.98,1.1808000000000001,3632.03,6707.84,1108.3400000000001]
["P8196","Paleontólogo pleno","mês",4101.07,0.82050000000000001,3364.93,0.17960000000000001,736.74,6.1999999999999998E-3,25.51,0,0,0,0,1.5E-3,6.14,0,0,7.1999999999999995E-2,295.48,2.3999999999999998E-3,9.98,1.0823,4438.78,8539.85,1073.8500000000008]
["P8197","Paleontólogo sênior","mês",6246.53,0.82050000000000001,5125.28,0.1179,736.74,4.1000000000000003E-3,25.51,0,0,0,0,1E-3,6.14,0,0,4.7300000000000002E-2,295.48,1.6000000000000001E-3,9.98,0.99239999999999995,6199.13,12445.66,1073.8500000000004]
["P8198","Sociólogo júnior","mês",4027.98,0.83889999999999998,3379.07,0.18290000000000001,736.74,6.3E-3,25.51,0,0,0,0,1.8E-3,7.17,0,0,7.3400000000000007E-2,295.48,2.5000000000000001E-3,9.98,1.1057999999999999,4453.96,8481.94,1074.8900000000008]
["P8199","Sociólogo pleno","mês",5370.64,0.83889999999999998,4505.43,0.13719999999999999,736.74,4.7999999999999996E-3,25.51,0,0,0,0,1.2999999999999999E-3,7.17,0,0,5.5E-2,295.48,1.9E-3,9.98,1.0389999999999999,5580.31,10950.95,1074.8800000000001]
["P8200","Sociólogo sênior","mês",8040.47,0.83889999999999998,6745.15,9.1600000000000001E-2,736.74,3.2000000000000002E-3,25.51,0,0,0,0,8.9999999999999998E-4,7.17,0,0,3.6700000000000003E-2,295.48,1.1999999999999999E-3,9.98,0.97260000000000002,7820.04,15860.51,1074.8900000000003]
["Profissionais horistas",{"$nulls":24},{"$f":"Y103-D103-F103","v":0}]
["P8264","Motorista de veículo leve - horista","h",9.39,1.1315999999999999,10.63,0.41020000000000001,3.85,1.8100000000000002E-2,0.17,0,0,5.5500000000000001E-2,0.52,2.2000000000000001E-3,0.02,0,0,0.1724,1.62,5.7999999999999996E-3,0.05,1.7959000000000001,16.86,26.25,{"$f":"Y104-D104-F104","v":6.2299999999999986}]
["Fonte: FGV IBRE"]

{"sheet":"Drone","index":13,"n_rows":69,"n_cols":20,"rows_kept":69,"cut":false,"hidden":false,"merged":[[14,21,14,25],[53,19,54,19],[30,12,31,12],[30,13,30,16],[30,17,30,18],[30,19,31,19]]}
[]
["Cotações data 10/2024"]
["COTAÇÃO Software p/ o drone - Agisoft Metashape "]
["Fonte: Google shopping"]
[{"$nulls":12},"Cotação 1","Cotação 2","Cotação 3","Cotação 4","Cotação 5"]
[{"$nulls":12},549,399,335]
[]
[{"$nulls":14},"CV=",{"$f":"STDEVA(M6:Q6)/AVERAGE(M6:Q6)","v":0.25684094594608659}]
[{"$nulls":14},"Média:",{"$f":"AVERAGE(M6:Q6)","v":427.66666666666669}]
[{"$nulls":14},"Mediana:",{"$f":"MEDIAN(M6:Q6)","v":399}]
[{"$nulls":14},"Menor:",{"$f":"SMALL(P9:P10,1)","v":399}]
{"$rows_empty":9}
["COTAÇÃO Drone"]
["Fonte: Google shopping"]
[]
[{"$nulls":12},"Cotação 1","Cotação 2","Cotação 3","Cotação 4","Cotação 5","Cotação 6"]
[{"$nulls":12},49990,31384.5,38691,49990,31384.5,35990]
[{"$nulls":10},"CV=",{"$f":"STDEVA(M25:R25)/AVERAGE(M25:R25)","v":0.21583720505325713}]
[{"$nulls":10},"Média:",{"$f":"AVERAGE(M25:R25)","v":39571.666666666664}]
[{"$nulls":10},"Mediana:",{"$f":"MEDIAN(M25:R25)","v":37340.5}]
[{"$nulls":10},"Menor:",{"$f":"SMALL(L27:L28,1)","v":37340.5}]
[]
[{"$nulls":12},"VALOR DE AQUISIÇÃO","VALOR DA DEPRECIAÇÃO",null,null,null,"MANUTENÇÃO",null,"VALOR MENSAL TOTAL (R$)"]
[{"$nulls":13},"Tempo de Utilização (Anos)","Meses p/Ano de Uso","Percentual Residual (%)","Depreciação        Mensal - R$","Percentual Anual (%)","Valor Mensal (R$)"]
[{"$nulls":12},{"$f":"L29","v":37340.5},2,12,0.1,{"$f":"ROUND((M33*(100%-P33))/(N33*O33),2)","v":1400.27},0.2,{"$f":"ROUND((R33*M33)/12,2)","v":622.34},{"$f":"S33+Q33","v":2022.6100000000001}]
{"$rows_empty":17}
["Cotação ","Software Autodesk AutoCAD"]
[]
[]
[{"$nulls":12},"VALOR DE AQUISIÇÃO","VALOR DA DEPRECIAÇÃO",null,null,null,"MANUTENÇÃO",null,"VALOR MENSAL TOTAL (R$)"]
[{"$nulls":13},"Tempo de Utilização (Anos)","Meses p/Ano de Uso","Percentual Residual (%)","Depreciação        Mensal - R$","Percentual Anual (%)","Valor Mensal (R$)"]
[{"$nulls":12},8545,2,12,0.1,{"$f":"ROUND((M56*(100%-P56))/(N56*O56),2)","v":320.44},0.2,{"$f":"ROUND((R56*M56)/12,2)","v":142.41999999999999},{"$f":"S56+Q56","v":462.86}]
{"$rows_empty":12}
[{"$nulls":11},"TOTAL DO EQUIPAMENTO:",null,{"$f":"T56+T33+P11","v":2884.4700000000003}]

{"sheet":"Serv Graficos","index":14,"n_rows":42,"n_cols":9,"rows_kept":42,"cut":false,"hidden":false,"merged":[[27,0,27,3],[2,0,2,4],[14,0,14,4],[19,0,19,3],[21,1,21,2],[22,0,22,4],[37,0,37,4],[38,0,38,4],[39,0,39,4],[40,0,40,4],[41,0,41,4]]}
[]
[]
["Serviços Gráficos"]
[]
["Serviço",null,"Referencia","Código","Valor",null,null,"1 Vol Impressão Rel Final"]
["Impressão colorida",null,"SETOP/COMPOSIÇÃO","CO-2019",1.8,null,"Preto",{"$f":"C17*E7","v":91.35}]
["Impressão preta",null,"SETOP/COMPOSIÇÃO","CO-2017",0.28999999999999998,null,"Colorida",{"$f":"D17*E6","v":63}]
["Encadernação até 350 fls.",null,"EMBASA/COMPOSIÇÃO","30.02.30 / 30.02.27",{"$f":"20+7.2","v":27.2},"Foi considerado a soma de 2 composições, com encadernação de 250 e 100 folhas","Encader",{"$f":"E8","v":27.2}]
["Encadernação até 50 fls.",null,"EMBASA/COMPOSIÇÃO","30.02.26",6,null,"Total",{"$f":"SUM(H6:H8)","v":181.54999999999998}]
["Encadernação até 100 fls.",null,"EMBASA/COMPOSIÇÃO","30.02.27",7.2]
["Impressão em A3",null,"SETOP/COMPOSIÇÃO","CO-2018 / CO-2018",{"$f":"(4.33+0.83)/2","v":2.58},"Foi considerado o valor médio entre a impressão colorida e preta/branco",null,"1 Rel A3"]
["Impressão em A1",null,"-","-",{"$f":"2*E11","v":5.16},"Foi considerado o dobro do valor da impressão A3","Impresão A3",{"$f":"B18*E11","v":645}]
["Impressão em A0",null,"-","-",{"$f":"2*E12","v":10.32},"Foi considerado o dobro do valor da impressão A1","Encader",{"$f":"E8","v":27.2}]
[{"$nulls":6},"Total",{"$f":"SUM(H12:H13)","v":672.2}]
["RELATÓRIO FINAL"]
["Qtd Rel Final (Volumes)","Qtd Pág por Volume","Qtd Impressão Preta","Qtd Impressão Color","Custo Unitário Parcial"]
[3,350,{"$f":"B17*0.9","v":315},{"$f":"B17*0.1","v":35},{"$f":"H9*A17","v":544.65},"Estimamos 90% do total de páginas de impressões pretas e 10% coloridas."]
["Peça Gráfica - Impressão em A3",250,null,null,{"$f":"ROUND(((B18*E11)+E8),2)","v":672.2}]
["Peça Gráfica - Impressão em A1",50,null,null,{"$f":"ROUND(((B19*E12)+E8),2)","v":285.2}]
["Custo Unitário Rel Final",null,null,null,{"$f":"SUM(E17:E19)","v":1502.05}]
[]
[]
["MINUTA DO RELATÓRIO FINAL"]
["Qtd Rel Final (Volumes)","Qtd Pág por Volume","Qtd Impressão Preta","Qtd Impressão Color","Custo Unitário Parcial"]
[3,350,{"$f":"B25*0.9","v":315},{"$f":"B25*0.1","v":35},{"$f":"H9*A25","v":544.65}]
["Peça Gráfica - Impressão em A4",350,null,null,{"$f":"(E7*B26)+H8","v":128.69999999999999}]
[]
["Custo Unitário Rel Final",null,null,null,{"$f":"SUM(E25:E26)","v":673.34999999999991}]
[]
[]
["Descrição","Qtd Pág por Volume","Qtd Impressão Preta","Qtd Impressão Color","Custo Unitário Total"]
["Relatório Mensal",50,{"$f":"B32*0.9","v":45},{"$f":"B32*0.1","v":5},{"$f":"H36","v":28.049999999999997},"Estimamos a quantidade de página por volume.",null,"1 Rel Mensal","1 Rel Parcial"]
["Relatório Parcial",100,{"$f":"B33*0.9","v":90},{"$f":"B33*0.1","v":10},{"$f":"I36","v":51.3},"Estimamos a quantidade de página por volume.",null,{"$f":"C32*E7","v":13.049999999999999},{"$f":"C33*E7","v":26.099999999999998}]
["Minuta do Relatório Final",null,null,null,{"$f":"E28","v":673.34999999999991},null,null,{"$f":"D32*E6","v":9},{"$f":"D33*E6","v":18}]
["Relatório Final",null,null,null,{"$f":"E20","v":1502.05},null,null,{"$f":"E9","v":6},{"$f":"E10","v":7.2}]
[{"$nulls":6},"Total",{"$f":"SUM(H33:H35)","v":28.049999999999997},{"$f":"SUM(I33:I35)","v":51.3}]
[]
["OBS:      A quantidade de páginas por volume foi estimada"]
["1 - Relatório Mensal: Será considerado 01 Volume com uma quantidade estimada de 50 páginas."]
["2 - Relatório Parcial: Será considerado 01 Volumes com uma quantidade estimada de 100 páginas."]
["3 - Minuta do Relatório Final:  Será considerado 03 Volumes com uma quantidade estimada de 350 páginas, cada, + 01 Volume de desenho em Folha A4, com estimativa de 350 páginas."]
["4 - Relatório Final:  Será considerado 03 Volumes com uma quantidade estimada de 350 páginas, cada, + 01 Volume de desenho em Folha A3, com estimativa de 350 páginas."]

{"sheet":"CPU-VEICULO_PickUp","index":15,"n_rows":61,"n_cols":33,"rows_kept":61,"cut":false,"hidden":false,"merged":[[52,19,52,26],[4,0,4,2],[6,0,6,2],[7,0,7,1],[7,4,7,7],[8,0,8,2],[52,8,52,18]]}
[]
[]
[]
[]
["Composição de Preços de Locação de Veículo tipo pick-up"]
[null,"Data de atualização:","2024-01-22",null,"CV","Média","Mediana",null,null,null,"CV","Média","Mediana",{"$nulls":8},"CV","Média","Mediana"]
["CODEVASF ",null,null,null,{"$f":"_xlfn.STDEV.S(E10:H10)/AVERAGE(E10:H10)","v":9.2667922664402616E-2},{"$f":"AVERAGE(E10:H10)","v":179935.5},{"$f":"MEDIAN(E10:H10)","v":184702},null,null,null,{"$f":"_xlfn.STDEV.S(L9:S9)/AVERAGE(L9:S9)","v":0.20952494145854728},{"$f":"AVERAGE(L9:S9)","v":31.095714285714287},{"$f":"MEDIAN(L9:S9)","v":30.16},{"$nulls":8},{"$f":"_xlfn.STDEV.S(W9:AD9)/AVERAGE(W9:AD9)","v":0.13240988535259646},{"$f":"AVERAGE(W9:AD9)","v":430.60093749999999},{"$f":"MEDIAN(W9:AD9)","v":437.31624999999997}]
["OBS:               Preço sem BDI e sem motorista                                                                   BDI=",null,null,null,"Preço FIPE ",{"$nulls":4},"PRODUTO ","MENOR (MÉDIA, MEDIANA)","COT. 1","COT. 2","COT. 3","COT. 4","COT. 5","COT. 6","COT. 7","COT. 8",null,"PRODUTO","MENOR (MÉDIA, MEDIANA)","COT. 1","COT. 2","COT. 3","COT. 4","COT. 5","COT. 6","COT. 7","COT. 8"]
["Veículo tipo pick-up, cabine dupla - 2.0 16V 4x4 diesel Aut.",null,null,null,"Toro Ultra 2.0 16V 4x4 TB Diesel Aut.","Toro Freedom 2.0 16V 4x4 TB Diesel Aut.","Toro Volcano 2.0 16V 4x4 TB Diesel Aut."," Toro Ranch 2.0 16V 4x4 TB Diesel Aut.\n",null,"LUBRIFICANTE 5W30",{"$f":"SMALL(L7:M7,1)","v":30.16},32.270000000000003,28.9,30.16,37.700000000000003,39.99,20.25,28.4,null,null,"Pneu 225/65 R17",{"$f":"SMALL(W7:X7,1)","v":430.60093749999999},{"$f":"1661.85/4","v":415.46249999999998},{"$f":"1940.9/4","v":485.22500000000002},399.88,330.46,479.6,386.23,459.17,488.78]
[null,"Custo Mensal (R$):",{"$f":"C51","v":7163.7901683616183},null,193030,157308,177450,191954]
[null,"Custo Diária (R$):",{"$f":"C10/22","v":325.62682583461901}]
[null,"Custo Horário (R$):",{"$f":"C10/176","v":40.703353229327377}]
["A","Depreciação mensal do equipamento"]
["A1","Preço de Aquisição ",{"$f":"SMALL(F7:G7,1)","v":179935.5}]
["A2","Tempo previsto de vida útil (meses)",36]
["A3","Previsão de recup. Na venda do bem usado",0.4]
["A4","Custo mensal [A1-(A3xA1)]/A2",{"$f":"(C14-(C16*C14))/C15","v":2998.9250000000002}]
["B","Juros pelo Capital empregado"]
["B1","Taxa mensal de Juros *",{"$f":"POWER(1+C56,1/12)-1","v":9.300823618865417E-3}]
["B2","Juros s/depreciação/aluguel (B1xA4)",{"$f":"C19*C17","v":27.892472471205974}]
["C","Conservação e manutenção **",0.75]
["C1","Taxa de gastos s/a deprec. Inc. seguros (%)",{"$f":"C21","v":0.75},{"$nulls":28},"PREÇO DO DIESEL",5.98]
["C2","Incidência mensal (C1xA4)",{"$f":"C22*C17","v":2249.1937500000004},{"$nulls":28},"https://precos.petrobras.com.br/sele%C3%A7%C3%A3o-de-estados-diesel "]
["D","Combustível"]
["D1","Média mensal de quilômetro por veículo",{"$f":"130*22","v":2860}]
["D2","Preço do litro de combustível",{"$f":"AG22","v":5.98}]
["D3","Quilômetros rodados com um litro combustivel",10]
["D4","Combustivel    (D1/D3)*D2",{"$f":"(C25/C27)*C26","v":1710.2800000000002}]
["E","Lubrificantes"]
["E1","Quilometragem do Contrato (D1*12)",{"$f":"C25*36","v":102960}]
["E2","Franquia por troca de óleo (km)",10000]
["E3","Preço do litro de óleo",{"$f":"K9","v":30.16}]
["E4","Quantidade de litros de óleo por troca",5]
["E5","Quantidade de dias do Contrato",{"$f":"365*3","v":1095}]
["E6","Lubrificantes  E = (E1*E3*E4*30)/E2*E5",{"$f":"(C30*C32*C33*30)/(C31*C34)","v":42.537994520547947}]
["F","Pneus"]
["F1","Quilometragem do Contrato ",{"$f":"C30","v":102960}]
["F2","Vida do Pneu em quilômetros",45000]
["F3","Quantidade de pneus",5]
["F4","Preço do Pneu",{"$f":"V9","v":430.60093749999999}]
["F5","Quantidade de dias do contrato ",{"$f":"C34","v":1095}]
["F6","Pneus = (F1*F3*F4*30)/(F2*F5)",{"$f":"(C37*C39*C40*30)/(C38*C41)","v":134.96095136986301}]
["G","Motorista"]
["G1","Salário com encargos sociais",0,{"$nulls":6},"https://www.google.com/search?q=lubrificante+5w30&sxsrf=AJOqlzUM514L6uswJHb1jIGpGgXchTtV5A:1677092590843&source=lnms&tbm=shop&sa=X&sqi=2&ved= "]
["H","Custo Mensal"," "]
[null,"Sem Motorista (A4+B2+C2+D4+E6+F6)",{"$f":"C17+C20+C23+C28+C35+C42","v":7163.7901683616183}]
[null,"Com Motorista (A4+B2+C2+D4+E6+F6+G1)",{"$f":"C17+C20+C23+C28+C35+C42+C44","v":7163.7901683616183}]
["I","Custo Direto p/ km Rodado"]
[null,"Sem Motorista",{"$f":"C46/C25","v":2.5048217371893768}]
[null,"Com Motorista",{"$f":"C47/C25","v":2.5048217371893768}]
["J","Preço cobrado sem BDI",{"$f":"C46*(1+C8)","v":7163.7901683616183}]
["J1","Sem Motorista",{"$f":"C51","v":7163.7901683616183}]
["J2","Com Motorista",{"$f":"C47","v":7163.7901683616183},{"$nulls":16},"https://www.google.com/search?q=pneu+225%2F65+R17&sa=X&biw=1600&bih=757&tbm=shop&sxsrf=AJOqlzWsb-d4PS1_OUOEhKmRc2RbtSg3RQ%3A1677092596279&ei=9Gb2Y9K5ENTa5OUPvLykGA&ved=0ahUKEwjSg9Pj6Kn9AhVULbkGHTweCQMQ4dUDCAg&uact=5&oq=pneu+225%2F65+R17&gs_lcp=Cgtwcm9kdWN0cy1jYxADMgsIABCABBCxAxCDATIFCAAQgAQyBwgAEIAEEAoyBwgAEIAEEAoyBwgAEIAEEAoyBwgAEIAEEAoyBwgAEIAEEAoyBQgAEIAEMgcIABCABBAKMgcIABCABBAKOgQIIxAnOgQIABBDSgQIQRgAUABYoTJgqUBoAHAAeACAAdIFiAGUKZIBDTAuMi42LjIuMi4yLjGYAQCgAQHAAQE&sclient=products-cc"]
[]
[null,"OBSERVAÇÕES:"]
["*","Calculado com base na taxa SELIC JANEIRO/2024:",0.11749999999999999]
[null," Taxa de Juros Selic — Português (Brasil) (www.gov.br) "]
["**","Conservação e manutenção - é calculado com o uso de um coeficiente multiplicador \"k\", conforme tabela abaixo, sobre a "]
[null,"depreciação mensal do equipamento (Item A da planilha de composição de preços). Os valores de K são fornecidos por"]
[null," fabricantes. "]
[null,"Metodologia conforme a bibliografia \"Como Preparar Orçamentos de Obras\", 3 edição, Aldo Dórea Mattos, 2019."]

{"sheet":"CPU-VEICULO_Leve","index":16,"n_rows":85,"n_cols":33,"rows_kept":85,"cut":false,"hidden":false,"merged":[[49,21,49,28],[1,0,1,3],[3,0,3,3],[4,0,4,2],[4,5,4,8],[5,0,5,3],[49,9,49,20]]}
[]
["Composição de Preços de Locação de Veículos"]
[null,"2023-08-23","Data de atualização:","2024-01-22",null,"CV","Média","Mediana",null,null,null,"CV","Média","Mediana",{"$nulls":9},"CV","Média","Mediana"]
["CODEVASF ",{"$nulls":4},{"$f":"_xlfn.STDEV.S(F7:I7)/AVERAGE(F7:I7)","v":0.13771993420696838},{"$f":"AVERAGE(F7:I7)","v":71853.75},{"$f":"MEDIAN(F7:I7)","v":71738},null,null,null,{"$f":"_xlfn.STDEV.S(M6:U6)/AVERAGE(M6:U6)","v":0.13240272079250945},{"$f":"AVERAGE(M6:U6)","v":29.678888888888892},{"$f":"MEDIAN(M6:U6)","v":28.9},{"$nulls":9},{"$f":"_xlfn.STDEV.S(Y6:AG6)/AVERAGE(Y6:AG6)","v":0.15996868103040221},{"$f":"AVERAGE(Y6:AG6)","v":293.46277777777783},{"$f":"MEDIAN(Y6:AG6)","v":289.99}]
["OBS:               Preço sem BDI e sem motorista                                                           BDI=",{"$nulls":4},"Preço FIPE",{"$nulls":4},"PRODUTO","MENOR","COT. 1","COT. 2","COT. 3","COT. 4","COT. 5","COT. 6","COT. 7","COT. 8","COT. 9",null,"PRODUTO ","MENOR","COT. 1","COT. 2","COT. 3","COT. 4","COT. 5","COT. 6","COT. 7","COT. 8","COT. 9"]
["Veículo Leve 1.0 T. Flex 12V 5p",{"$nulls":4},"Renault Kwid Zen 1.0","Hyndai HB20 Sense 1.0 ","ONIX HATCH LT 1.0 12V Flex 5p Mec.","MOBI TREKKING 1.0 Flex 5p.",null,"LUBRIFICANTE 15W40",{"$f":"SMALL(M4:N4,1)","v":28.9},26.12,34.5,23.28,28,34.9,33.450000000000003,28.35,28.9,29.61,null,"Pneu 185/65 R14",{"$f":"SMALL(Y4:Z4,1)","v":289.99},369.9,{"$f":"1440.2/4","v":360.05},229,254.15,{"$f":"1238.72/4","v":309.68},263.2,289.99,293.23,{"$f":"1087.86/4","v":271.96499999999997}]
[null,null,"Custo Mensal (R$):",{"$f":"D48","v":3358.807213121765},null,60247,74811,83692,68665,null,null,""]
[null,null,"Custo Diário (R$):",{"$f":"D7/30","v":111.96024043739217}]
[null,null,"Custo Horário (R$):",{"$f":"D7/176","v":19.0841318927373}]
["A",null,"Depreciação mensal do equipamento"]
["A1",null,"Preço de Aquisição ",{"$f":"SMALL(G4:H4,1)","v":71738}]
["A2",null,"Tempo previsto de vida útil (meses)",36]
["A3",null,"Previsão de recup. Na venda do bem usado",0.4]
["A4",null,"Custo mensal [A1-(A3xA1)]/A2",{"$f":"(D11-(D13*D11))/D12","v":1195.6333333333334}]
["B",null,"Juros pelo Capital empregado"]
["B1",null,"Taxa mensal de Juros *",{"$f":"POWER(1+D53,1/12)-1","v":9.300823618865417E-3}]
["B2",null,"Juros s/depreciação/aluguel (B1xA4)",{"$f":"D16*D14","v":11.120374746169455}]
["C",null,"Conservação e manutenção **",0.75]
["C1",null,"Taxa de gastos s/a deprec. Inc. seguros (%)",{"$f":"D18","v":0.75}]
["C2",null,"Incidência mensal (C1xA4)",{"$f":"D19*D14","v":896.72500000000014}]
["D",null,"Combustível"]
["D1",null,"Média mensal de quilômetro por veículo",{"$f":"130*22","v":2860}]
["D2",null,"Preço do litro de combustível",{"$f":"G83","v":5.58}]
["D3",null,"Quilômetros rodados com um litro combustivel",{"$f":"(12.8+13.3+15.3+15)/4","v":14.100000000000001}]
["D4",null,"Combustivel    (D1/D3)*D2",{"$f":"(D22/D24)*D23","v":1131.8297872340424}]
["E",null,"Lubrificantes"]
["E1",null,"Quilometragem do Contrato (D1*12)",{"$f":"D22*36","v":102960}]
["E2",null,"Franquia por troca de óleo (km)",10000]
["E3",null,"Preço do litro de óleo",{"$f":"L6","v":28.9}]
["E4",null,"Quantidade de litros de óleo por troca",4]
["E5",null,"Quantidade de dias do Contrato",{"$f":"365*3","v":1095}]
["E6",null,"Lubrificantes  E = (E1*E3*E4*30)/E2*E5",{"$f":"(D27*D29*D30*30)/(D28*D31)","v":32.608701369863013}]
["F",null,"Pneus"]
["F1",null,"Quilometragem do Contrato ",{"$f":"D27","v":102960}]
["F2",null,"Vida do Pneu em quilômetros",45000]
["F3",null,"Quantidade de pneus",5]
["F4",null,"Preço do Pneu",{"$f":"X6","v":289.99}]
["F5",null,"Quantidade de dias do contrato ",{"$f":"D31","v":1095},{"$nulls":6},"https://www.google.com/search?q=lubrificante+15w40+1l&sa=X&biw=1600&bih=757&tbm=shop&sxsrf=AJOqlzUezMM_9i0M4NKjKqAMycLuOygp_g%3A1677158931166&ei=E2r3Y5e2CcH31sQPsK67CA&ved=0ahUKEwjXi8vy36v9AhXBu5UCHTDXDgEQ4dUDCAg&uact=5&oq=lubrificante+15w40+1l&gs_lcp=Cgtwcm9kdWN0cy1jYxADMgsIABAWEB4Q8QQQGDoICAAQgAQQsAM6CQgAEAcQHhCwAzoJCAAQCBAeELADOgkIABAeELADEBg6DggAEAUQHhDxBBCwAxAYOgUIABCABDoGCAAQFhAeOggIABAWEB4QGEoECEEYAVDeBFi3DWD0D2gBcAB4AIABpQWIAZAIkgEHMy0xLjAuMZgBAKABAcgBCsABAQ&sclient=products-cc"]
["F6",null,"Pneus = (F1*F3*F4*30)/(F2*F5)",{"$f":"(D34*D36*D37*30)/(D35*D38)","v":90.89001643835617}]
["G",null,"Motorista"]
["G1",null,"Salário com encargos sociais",0]
["H",null,"Custo Mensal"," ",{"$nulls":17},"https://www.google.com/search?q=Pneu+185%2F65+R14&sa=X&hl=pt-BR&biw=1600&bih=757&tbm=shop&sxsrf=AJOqlzVJW-LYM1ZPHImwhsD-4UwyAvTluQ%3A1677158863331&ei=z2n3Y-uxE-zT1sQP0r-OmAs&ved=0ahUKEwir1Z7S36v9AhXsqZUCHdKfA7MQ4dUDCAg&uact=5&oq=Pneu+185%2F65+R14&gs_lcp=Cgtwcm9kdWN0cy1jYxADMgsIABCABBCxAxCDATIFCAAQgAQyBQgAEIAEMgUIABCABDIFCAAQgAQyBQgAEIAEMgUIABCABDIFCAAQgAQyBQgAEIAEMgUIABCABEoECEEYAFD5A1jGCWC1EGgAcAB4AIABrQmIAdcbkgEHNS0yLjAuMpgBAKABAcABAQ&sclient=products-cc"]
[null,null,"Sem Motorista (A4+B2+C2+D4+E6+F6)",{"$f":"D14+D17+D20+D25+D32+D39","v":3358.807213121765}]
[null,null,"Com Motorista (A4+B2+C2+D4+E6+F6+G1)",{"$f":"D14+D17+D20+D25+D32+D39+D41","v":3358.807213121765}]
["I",null,"Custo Direto p/ km Rodado"]
[null,null,"Sem Motorista",{"$f":"D43/D22","v":1.1744081164761415}]
[null,null,"Com Motorista",{"$f":"D44/D22","v":1.1744081164761415}]
["J",null,"Preço cobrado sem BDI",{"$f":"D43*(1+D5)","v":3358.807213121765}]
["J1",null,"Sem Motorista",{"$f":"D48","v":3358.807213121765}]
["J2",null,"Com Motorista",{"$f":"D44","v":3358.807213121765}]
[]
[]
["*",null,"Calculado com base na taxa SELIC JANEIRO/2024:",0.11749999999999999]
[null,null,"SELIC AGOSTO / 2022  -  Taxa de Juros Selic — Português (Brasil) (www.gov.br) "]
[]
["**",null,"Conservação e manutenção - é calculado com o uso de um coeficiente multiplicador \"k\", conforme tabela abaixo, sobre a "]
[null,null,"depreciação mensal do equipamento (Item A da planilha de composição de preços). Os valores de K são fornecidos por"]
[null,null," fabricantes. "]
[null,null,"Metodologia conforme a bibliografia \"Como Preparar Orçamentos de Obras\", 3 edição, Aldo Dórea Mattos, 2019."]
{"$rows_empty":23}
[{"$nulls":5},"PREÇO DA GASOLINA",5.58]
[]
[{"$nulls":5},"https://precos.petrobras.com.br/sele%C3%A7%C3%A3o-de-estados-gasolina"]

{"sheet":"CPU HOSPEDAGEM","index":17,"n_rows":19,"n_cols":4,"rows_kept":19,"cut":false,"hidden":false,"merged":[[2,1,2,2]]}
[]
[null,"Engenharia Consultiva da Codevasf"]
[null,"CPU - HOSPEDAGEM EQUIPE DE CAMPO (4 PESSOAS/MÊS)",null,"Código/Referencia"]
[null,"ALUGUEL ",3074.56,"F020003334/EMBASA insumo"]
[null," Aquisição de Mobiliário",{"$f":"42.41*C16","v":169.64},"B8954/DNIT"]
[null,"Material de limpeza e diarista",{"$f":"125.8+(123*8)","v":1109.8},"10563/ORSE - E200300131/EMBASA"]
[null,"manutenção da casa alugada - Serviços Gerais/Vigia ",2841.56,"41096/SINAPI"]
[null,"Energia ",180,"10555/ORSE"]
[null,"Água",394.99,"10554/ORSE"]
[null,"telefone/Internet",{"$f":"154.99+89","v":243.99},"10557/10558/ORSE"]
[null,"IPTU (mês)",{"$f":"(C4*0.5)/12","v":128.10666666666665}]
[]
[null,"Custo Mensal:",{"$f":"SUM(C4:C12)","v":8142.6466666666656}]
[null,"Custo Mensal por pessoa:",{"$f":"C13/C16","v":2035.6616666666664}]
[null,"Custo diário por pessoa:",{"$f":"C14/22","v":92.530075757575744}]
[null,"número de pessoas:",4]
[null,"Alimentação:",100.59,"Tabela Diária Codevasf 2024"]
[]
[null,"Diária Total (alimentação + hospedagem):",{"$f":"C15+C17","v":193.12007575757576}]

{"sheet":"COT. VANT","index":18,"n_rows":17,"n_cols":10,"rows_kept":17,"cut":false,"hidden":true,"merged":[[1,0,1,9],[7,0,9,0],[7,1,7,5],[8,1,8,5],[9,1,9,5]]}
[]
["COTAÇÃO ORÇAMENTÁRIA DE LEVANTAMENTO PLANIALTIMÉTRICO POR MEIO DE VANT PARA ÁREA NA CIDADE DE PINDARÉ-MIRIM-MA"]
["MÊS/ANO DE REFERÊNCIA ","ÁREA DO PROJETO [ha]","EMPRESA","LOCALIDADE","WEBSITE","CONTATO","AVALIAÇÃO TÉCNICA DA PROPOSTA","PREÇO","PREÇO UNITÁRIO","RELAÇÃO CUSTO-BENEFÍCIO"]
["2022-09-01",50,"DRONES SOLUTION","SALVADOR-BA","http://www.dronessolution.com.br/","contato@dronessolution.com.br","SATISFATÓRIA",9800,{"$f":"(H4/B4)","v":196},"A"]
["2022-09-01",50,"ERG","BELO HORIZONTE-MG","http://www.ergbh.com.br/","comercial@ergbh.com.br","SATISFATÓRIA",13240.5,{"$f":"(H5/B5)","v":264.81},"B"]
["2022-09-01",50,"CEPEMAR","VITÓRIA-ES","http://www.cepemar.com.br/","comercial@cepemar.com.br","SATISFATÓRIA",63000,1260,"C"]
[]
["Observações","  1. Na cotação acima já estão iclusos: Planejamento Aerotogramétrico, Voo Aerotoforamétrico, Apoio de Campo, Aerotriangulação, Restituição, MDT, MDS, Ortofotos, Edição/Revisão e Entrega Final.",{"$nulls":4},"CV com todos valores:",{"$f":"STDEVA(H4:H6)/AVERAGE(H4:H6)","v":1.0380549324194583}]
[null,"  2. INCONCLUSIVA: não apresentou o orçamento de forma detalhada.",{"$nulls":4},"CV tirando o maior valor:",{"$f":"STDEVA(H4:H5)/AVERAGE(H4:H5)","v":0.21117604918923782}]
[null,"  3. SATISFATÓRIA: apresentou, no mínimo, os requisitos básicos de um orçamento.",{"$nulls":4},"Média tirando o maior valor:",{"$f":"AVERAGE(H4:H5)","v":11520.25},"Valor para a área de 65ha"]
[null,"4-Para o valor do serviço de Vant, considerou-se a média tirando o maior valor das cotações recebidas, pois o CV (coeficiente de variação) está muito elevado com as 3 cotaçoes."]
[null,"5-As cotações recebidas foram utilizadas para o serviço de levantamento do Ramal do Manga no Amapá, referente a um trecho de 6,5km de rodovia, com área total estimadade de 65ha."]
[null,"Dessa forma, para a cotação representativa deste serviço, realizou-se a parametrização proporcional a área de estudo do serviço a ser realizado."]
[]
[null,"Portanto:"]
[null,null,{"$f":"I10","v":"Valor para a área de 65ha"},{"$f":"H10","v":11520.25}]
[null,null,"Valor unitário para a área de 1ha",{"$f":"D16/65","v":177.23461538461538}]