{"text_format":"2","workbook":"xlsx","n_sheets":18,"sheets":["Resumo","1.Enge","2.Enca","3.Elet","4.Aju-3","5.Refr","6.Aju-5","7.Marc","8.Aju-7","9.Enca","10.Aju-9","BDI","MAT","EPI","FER","PMO","IMR","OS"],"not_rendered":{"charts":0,"images":0,"macros":0,"external_links":0,"defined_names":6,"comments":1,"pivot_tables":0},"unopened":[],"bounds":{"document_bytes":16777216,"sheet_cells":100000,"run_cost":"one","rows_first":2000,"rows_last":500,"rows_between":2000,"halvings":0,"cell_chars":16384,"cell_head_chars":4096},"cells_cut":0,"cells_raw":0,"read":"whole","date_system":"1900"}

{"sheet":"Resumo","index":0,"n_rows":22,"n_cols":8,"rows_kept":22,"cut":false,"hidden":false,"merged":[[17,0,17,5],[18,0,18,5],[19,0,19,5],[20,0,20,5],[21,0,21,5],[16,0,16,5],[0,0,0,7],[14,0,14,5],[15,0,15,5],[13,0,13,5],[1,0,1,2]]}
["PLANILHA DE CUSTO E FORMAÇÃO DE PREÇOS "]
["Tipo de serviço / posto",null,null,"Valor proposto por empregado\n (R$)","Qtde de empregados\n por posto","Valor proposto\n por posto\n(R$)","Qtde de postos","Valor total do serviço (R$)"]
["Item","CBO","(A)","(B)","(C)","(D) = (B x C)","(E)","(F) = (D x E)"]
[1,"2142-05","Engenheiro",{"$f":"'1.Enge'!D109","v":29165.82},1,{"$f":"D4*E4","v":29165.82},1,{"$f":"F4*G4","v":29165.82}]
[2,"7102-05","Encarregado",{"$f":"'2.Enca'!D109","v":10244.146769999999},1,10244.146769999999,1,10244.146769999999]
[3,"9511-05","Técnico Eletricista",{"$f":"'3.Elet'!D109","v":10256.154479999999},1,10256.154479999999,1,10256.154479999999]
[4,"7156-15","Ajudante Eletricista",{"$f":"'4.Aju-3'!D109","v":7762.1672699999999},1,7762.1672699999999,1,7762.1672699999999]
[5,"7257-05","Técnico em Refrigeração",{"$f":"'5.Refr'!D109","v":10256.154479999999},1,10256.154479999999,1,10256.154479999999]
[6,"7156-15","Ajudante em Refrigeração",{"$f":"'6.Aju-5'!D109","v":7762.1672699999999},1,7762.1672699999999,1,7762.1672699999999]
[7,"7711-05","Técnico Marceneiro",{"$f":"'7.Marc'!D109","v":8364.7947239999994},1,8364.7947239999994,1,8364.7947239999994]
[8,"7170-20","Ajudante Marceneiro",{"$f":"'8.Aju-7'!D109","v":6446.2869899999996},1,6446.2869899999996,1,6446.2869899999996]
[9,"7241-10","Técnico em Manutenção e Hidráulica",{"$f":"'9.Enca'!D109","v":10628.74098},1,10628.74098,1,10628.74098]
[10,"7170-20","Ajudante em Manutenção e Pintura",{"$f":"'10.Aju-9'!D109","v":6765.4501200000004},1,6765.4501200000004,1,6765.4501200000004]
["VALOR MENSAL DOS SERVIÇOS ",{"$nulls":5},1,{"$f":"SUM(H4:H13)","v":107651.883084}]
["VALOR ANUAL DOS SERVIÇOS ",{"$nulls":5},12,{"$f":"$H$14*G15","v":1291822.5970080001}]
["VALOR TOTAL DOS SERVIÇOS ",{"$nulls":5},36,{"$f":"$H$14*G16","v":3875467.7910239999}]
["VALOR MENSAL DOS MATERIAIS",{"$nulls":5},1,{"$f":"ROUND(H18/12,2)","v":55756.02}]
["VALOR ANUAL DOS MATERIAIS",{"$nulls":5},12,{"$f":"MAT!J5","v":669072.17999999993}]
["VALOR TOTAL DOS MATERIAIS",{"$nulls":5},36,{"$f":"H18*3","v":2007216.5399999998}]
["VALOR MENSAL DO CONTRATO",{"$nulls":5},1,{"$f":"H14+H17","v":163407.90308399999}]
["VALOR ANUAL DO CONTRATO",{"$nulls":5},12,{"$f":"H15+H18","v":1960894.7770080001}]
["VALOR TOTAL DO CONTRATO",{"$nulls":5},36,5882684.3310239995]

{"sheet":"1.Enge","index":1,"n_rows":112,"n_cols":4,"rows_kept":112,"cut":false,"hidden":false,"merged":[[0,0,0,3],[1,0,1,3],[9,0,9,3],[10,0,10,3],[12,2,12,3],[18,2,18,3],[14,2,14,3],[11,0,11,3],[30,0,30,2],[31,0,31,3],[15,2,15,3],[19,2,19,3],[17,2,17,3],[16,2,16,3],[13,2,13,3],[32,0,32,3],[37,0,37,2],[20,0,20,3],[21,0,21,3],[22,1,22,2],[58,0,58,2],[59,0,59,3],[60,0,60,3],[39,1,39,2],[81,0,81,2],[82,0,82,3],[83,0,83,3],[84,0,84,3],[66,0,66,2],[67,0,67,3],[68,0,68,3],[78,0,78,3],[76,0,76,2],[77,0,77,3],[108,0,108,2],[106,0,106,2],[96,0,96,1],[97,0,97,2],[100,0,100,3],[98,0,98,3],[99,0,99,3]]}
["PLANILHAS DE CUSTOS E FORMAÇÃO DE PREÇOS"]
["Discriminação dos serviços"]
["A","Data da Apresentação da Proposta: ",null,"2024-08-26"]
["B","Munícipio/UF: ",null,"Brasília/DF"]
["C","Ano do Acordo, Convenção ou Dissídio Coletivo:","SENGE/DF","2023/25"]
["D","Número de meses de execução contratual:",null,{"$f":"12*5","v":60}]
["E","Tipo de serviço:",null,"Continuado"]
["F","Unidade de medida",null,"Posto"]
["G","Quantidade total a contratar (em função da unidade de medida):",null,1]
[]
["Mão de obra vinculada à execução contratual"]
["Dados complementares para composição dos custos referente à mão de obra"]
[1,"Tipo de serviço ","Coordenação de Engenharia"]
[2,"Classificação Brasileira de Ocupações (CBO)","2142-05"]
[3,"Categoria profissional (vinculada à execução contratual)","Engenheiro civil"]
[4,"Data base CCT","2023-05-01"]
[5,"Vigência CCT","2025-04-30"]
[6,"Carga horia semanal","44 horas/semana"]
[7,"Piso normativo da categoria profissional",10800]
[8,"Salário proposto no contrato",12960]
[]
["MÓDULO 1: Composição da remuneração (M1)"]
[1,"Composição da Remuneração",null,"Valor (R$)"]
["A","Salário Base",1,{"$f":"C20","v":12960}]
["B","Adicional de periculosidade",0,{"$f":"ROUNDUP($D$24*C25,2)","v":0}]
["C","Adicional de Insalubridade",0,{"$f":"ROUNDUP($D$24*C26,2)","v":0}]
["D","Adicional Noturno",0,0]
["E","Hora Noturna Adicional",0,0]
["F","Adicional de Hora Extra",0,0]
["G","Outros (especificar)",0,0]
["Total do Módulo 1",null,null,{"$f":"SUM(D24:D30)","v":12960}]
[]
["MÓDULO 2: Encargos e benefícios anuais, mensais e diários (M2)"]
["2.1","13º (décimo terceiro) salário, férias e adicional de férias","Porcentagem (%)","Valor (R$)"]
["A","13º salário   ",8.3299999999999999E-2,{"$f":"ROUNDUP($D$31/12,2)","v":1080}]
["B","Férias",8.3299999999999999E-2,{"$f":"ROUNDUP($D$31/12,2)","v":1080}]
["C","Adicional de Férias (1/3 Constitucional)",{"$f":"C36/3","v":2.7766666666666665E-2},{"$f":"ROUNDUP($D$31/3/12,2)","v":360}]
["Total submódulo 2.1",null,null,{"$f":"SUM(D35:D37)","v":2520}]
[]
["2.2"," GPS, FGTS e outras contribuições",null,"Valor (R$)"]
["A","INSS (com/sem desoneração)",0,{"$f":"ROUNDUP($D$31*C41,2)","v":0}]
["B","Salário Educação",2.5000000000000001E-2,{"$f":"ROUNDUP($D$31*C42,2)","v":324}]
["C","SAT",0.03,388.8]
["D","SESC - SESI",1.4999999999999999E-2,194.4]
["E","SENAI - SENAC",0.01,129.6]
["F","SEBRAE",6.0000000000000001E-3,77.760000000000005]
["G","INCRA",2E-3,25.92]
["H","FGTS",0.08,1036.8]
["I","SECONCI",0.01,129.6]
[null,"Total submódulo 2.2",{"$f":"SUM(C41:C49)","v":0.17800000000000002},{"$f":"SUM(D41:D49)","v":2306.8799999999997}]
[]
["2.3","Benefícios mensais e diários","Referência","Valor (R$)"]
["A","Vale transporte","CLT",{"$f":"ROUND(IF((22*5.5*2)-(D31*0.06*22/30)>0,(22*5.5*2)-(D31*0.06*22/30),0),2)","v":0}]
["B","Vale alimentação","CCT",{"$f":"35*22","v":770}]
["C","Assistência Médica-Odontológica e Familiar ","SICRO",287.48]
["D","Auxílio Creche ","CCT",{"$f":"ROUNDUP(350*1.67/2*6/40,2)","v":43.839999999999996}]
["E","Seguro de Vida e Assistência Funeral","SICRO",9.98]
[null,"Total submódulo 2.3",null,{"$f":"SUM(D53:D57)","v":1111.3}]
["Total do Módulo 2",null,null,{"$f":"D38+D50+D58","v":5938.1799999999994}]
[]
["MÓDULO 3: Provisão para rescisão (M3)"]
["A","Aviso Prévio Indenizado",3.2399999999999998E-2,{"$f":"ROUNDUP($D$31*C62,2)","v":419.90999999999997}]
["B","Aviso Prévio Trabalhado",8.0000000000000004E-4,{"$f":"ROUNDUP($D$31*C63,2)","v":10.37}]
["C","Incidência dos encargos sobre o Aviso Prévio",2.8999999999999998E-3,37.589999999999996]
["D","Incidencia dos encargos sobre 13o-ferias (submodulo 2.2 sobre 2.1)",6.1199999999999997E-2,793.16]
["E","Multa sobre saldo FGTS",{"$f":"0.08*0.4","v":3.2000000000000001E-2},414.72]
["Total do Módulo 3",null,null,{"$f":"SUM(D62:D66)","v":1675.75}]
[]
["MÓDULO 4: Custo mensal de reposição do profissional ausente (M4)"]
["X","Custo diário do empregado substituto ","Dias",{"$f":"ROUNDUP((D31+D59+D67)/30,2)","v":685.8}]
["A","Férias",{"$f":"ROUND(30/12,2)","v":2.5},{"$f":"ROUNDUP($D$70*C71,2)","v":1714.5}]
["B","Ausências por enfermidade",{"$f":"ROUNDUP(0.66/100*360/12,2)","v":0.2},{"$f":"ROUNDUP($D$70*C72,2)","v":137.16}]
["C","Faltas Justificadas",{"$f":"ROUNDUP(0.56/100*360/12,2)","v":0.17},116.59]
["D","Ausência por acidente de trabalho",{"$f":"ROUNDUP(0.08/100*360/12,2)","v":0.03},20.580000000000002]
["E","Afastamento Parentalidade",{"$f":"ROUNDUP((0.05+0.03)/100*360/12,2)","v":0.03},20.580000000000002]
["F","Outros (especificar)",0,0]
["Total do Módulo 4",null,null,{"$f":"SUM(D71:D76)","v":2009.4099999999999}]
[]
["MÓDULO 5: Insumos de mão de obra (M5)"]
["A","EPI e Uniforme","SINAPI Engenheiro",{"$f":"EPI!M5","v":76.22}]
["B","Materiais e ferramentas ","SINAPI Engenheiro",{"$f":"FER!M5","v":2.2999999999999998}]
["Total do Módulo 5",null,null,{"$f":"SUM(D80:D81)","v":78.52}]
["Nota: Valores mensais por empregado."]
[]
["MÓDULO 6: Custos indiretos, tributos e lucro (M6)"]
["A","Custos Indiretos   ","SINAPI",{"$f":"BDI!C2","v":4.8000000000000001E-2}]
["A.1","Administração Central","SINAPI",{"$f":"BDI!C3","v":0.03}]
["A.2","Seguros e Garantias Contratuais","SINAPI",{"$f":"BDI!C4","v":8.0000000000000002E-3}]
["A.3","Riscos","SINAPI",{"$f":"BDI!C5","v":0.01}]
["B","Despesas Financeiras","SINAPI",{"$f":"BDI!C6","v":6.1999999999999998E-3}]
["C","Lucro  ","SINAPI",{"$f":"BDI!C7","v":0.06}]
["D","Tributos Federais e Estaduais/Municipais ","SINAPI",{"$f":"BDI!C8","v":0.13150000000000001}]
["D.1","COFINS","SINAPI",{"$f":"BDI!C9","v":0.03}]
["D.2","PIS","SINAPI",{"$f":"BDI!C10","v":6.4999999999999997E-3}]
["D.3","CPRB - (com/sem desoneração)","SINAPI",{"$f":"BDI!C11","v":4.4999999999999998E-2}]
["D.4","ISSQN","SINAPI",{"$f":"BDI!C12","v":0.05}]
["Total ",null,null,{"$f":"BDI!C13","v":0.28699999999999998}]
["Total do Módulo 6",null,null,{"$f":"ROUNDUP(D107*(D97),2)","v":6503.96}]
[]
["QUADRO-RESUMO CUSTO POR EMPREGADO"]
["Mão-de-obra vinculada à execução contratual (valor por empregado)"]
["A","MÓDULO 1: Composição da remuneração (M1)",null,{"$f":"D31","v":12960}]
["B","MÓDULO 2: Encargos e benefícios anuais, mensais e diários (M2)",null,{"$f":"D59","v":5938.1799999999994}]
["C","MÓDULO 3: Provisão para rescisão (M3)",null,{"$f":"D67","v":1675.75}]
["D","MÓDULO 4: Custo de reposição do profissional ausente (M4)",null,{"$f":"D77","v":2009.4099999999999}]
["E","MÓDULO 5: Insumos de mão de obra (M5)",null,{"$f":"D82","v":78.52}]
["Subtotal (A + B + C + D + E)",null,null,{"$f":"SUM(D102:D106)","v":22661.86}]
["F","MÓDULO 6: Custos indiretos, tributos e lucro (M6)",null,{"$f":"D98","v":6503.96}]
["Custo mensal do posto",null,null,{"$f":"D107+D108","v":29165.82}]
["G","RESERVA MENSAL CONTA VINCULADA",null,{"$f":"D38+D67","v":4195.75}]
["H","RESERVA MENSAL REPOSIÇÃO",null,{"$f":"D77","v":2009.4099999999999}]
["I","CUSTO MENSAL ORDINÁRIO",null,{"$f":"D109-D110-D111","v":22960.66}]

{"sheet":"2.Enca","index":2,"n_rows":112,"n_cols":4,"rows_kept":112,"cut":false,"hidden":false,"merged":[[98,0,98,3],[99,0,99,3],[100,0,100,3],[106,0,106,2],[108,0,108,2],[66,0,66,2],[20,0,20,3],[21,0,21,3],[22,1,22,2],[30,0,30,2],[31,0,31,3],[37,0,37,2],[39,1,39,2],[58,0,58,2],[59,0,59,3],[60,0,60,3],[32,0,32,3],[97,0,97,2],[67,0,67,3],[68,0,68,3],[76,0,76,2],[77,0,77,3],[78,0,78,3],[81,0,81,2],[82,0,82,3],[83,0,83,3],[84,0,84,3],[96,0,96,1],[19,2,19,3],[16,2,16,3],[12,2,12,3],[0,0,0,3],[1,0,1,3],[9,0,9,3],[10,0,10,3],[11,0,11,3],[13,2,13,3],[14,2,14,3],[15,2,15,3],[17,2,17,3],[18,2,18,3]]}
["PLANILHAS DE CUSTOS E FORMAÇÃO DE PREÇOS"]
["Discriminação dos serviços"]
["A","Data da Apresentação da Proposta: ",null,"2024-08-26"]
["B","Munícipio/UF: ",null,"Brasília/DF"]
["C","Ano do Acordo, Convenção ou Dissídio Coletivo:","SINDISERVICOS/DF",2024]
["D","Número de meses de execução contratual:",null,{"$f":"12*5","v":60}]
["E","Tipo de serviço:",null,"Continuado"]
["F","Unidade de medida",null,"Posto"]
["G","Quantidade total a contratar (em função da unidade de medida):",null,1]
[]
["Mão de obra vinculada à execução contratual"]
["Dados complementares para composição dos custos referente à mão de obra"]
[1,"Tipo de serviço ","Encarregado de manutenção"]
[2,"Classificação Brasileira de Ocupações (CBO)","7102-05"]
[3,"Categoria profissional (vinculada à execução contratual)","Encarregado de manutenção de prédios"]
[4,"Data base CCT","2024-01-01"]
[5,"Vigência CCT","2024-12-31"]
[6,"Carga horia semanal","44 horas/semana"]
[7,"Piso normativo da categoria profissional",3222.38]
[8,"Salário proposto no contrato",3866.85]
[]
["MÓDULO 1: Composição da remuneração (M1)"]
[1,"Composição da Remuneração",null,"Valor (R$)"]
["A","Salário Base",1,{"$f":"C20","v":3866.85}]
["B","Adicional de periculosidade",0,{"$f":"ROUNDUP($D$24*C25,2)","v":0}]
["C","Adicional de Insalubridade",0,{"$f":"ROUNDUP($D$24*C26,2)","v":0}]
["D","Adicional Noturno",0,0]
["E","Hora Noturna Adicional",0,0]
["F","Adicional de Hora Extra",0,0]
["G","Outros (especificar)",0,0]
["Total do Módulo 1",null,null,{"$f":"SUM(D24:D30)","v":3866.85}]
[]
["MÓDULO 2: Encargos e benefícios anuais, mensais e diários (M2)"]
["2.1","13º (décimo terceiro) salário, férias e adicional de férias","Porcentagem (%)","Valor (R$)"]
["A","13º salário   ",8.3299999999999999E-2,{"$f":"ROUNDUP($D$31/12,2)","v":322.24}]
["B","Férias",8.3299999999999999E-2,{"$f":"ROUNDUP($D$31/12,2)","v":322.24}]
["C","Adicional de Férias (1/3 Constitucional)",{"$f":"C36/3","v":2.7766666666666665E-2},{"$f":"ROUNDUP($D$31/3/12,2)","v":107.42}]
["Total submódulo 2.1",null,null,{"$f":"SUM(D35:D37)","v":751.9}]
[]
["2.2"," GPS, FGTS e outras contribuições",null,"Valor (R$)"]
["A","INSS (com/sem desoneração)",0,{"$f":"ROUNDUP($D$31*C41,2)","v":0}]
["B","Salário Educação",2.5000000000000001E-2,{"$f":"ROUNDUP($D$31*C42,2)","v":96.68}]
["C","SAT",0.03,116.01]
["D","SESC - SESI",1.4999999999999999E-2,58.01]
["E","SENAI - SENAC",0.01,38.669999999999995]
["F","SEBRAE",6.0000000000000001E-3,23.21]
["G","INCRA",2E-3,7.74]
["H","FGTS",0.08,309.34999999999997]
["I","SECONCI",0.01,38.669999999999995]
[null,"Total submódulo 2.2",{"$f":"SUM(C41:C49)","v":0.17800000000000002},{"$f":"SUM(D41:D49)","v":688.33999999999992}]
[]
["2.3","Benefícios mensais e diários","Referência","Valor (R$)"]
["A","Vale transporte","CLT",{"$f":"ROUND(IF((22*5.5*2)-(D31*0.06*22/30)>0,(22*5.5*2)-(D31*0.06*22/30),0),2)","v":71.86}]
["B","Vale alimentação","CCT",{"$f":"42.2*22","v":928.40000000000009}]
["C","Assistência Médica-Odontológica e Familiar ","SICRO",287.48]
["D","Auxílio Creche ","CCT",0]
["E","Seguro de Vida e Assistência Funeral","SICRO",9.98]
[null,"Total submódulo 2.3",null,{"$f":"SUM(D53:D57)","v":1297.7200000000003}]
["Total do Módulo 2",null,null,{"$f":"D38+D50+D58","v":2737.96}]
[]
["MÓDULO 3: Provisão para rescisão (M3)"]
["A","Aviso Prévio Indenizado",3.2399999999999998E-2,{"$f":"ROUNDUP($D$31*C62,2)","v":125.29}]
["B","Aviso Prévio Trabalhado",8.0000000000000004E-4,{"$f":"ROUNDUP($D$31*C63,2)","v":3.0999999999999996}]
["C","Incidência dos encargos sobre o Aviso Prévio",2.8999999999999998E-3,11.22]
["D","Incidencia dos encargos sobre 13o-ferias (submodulo 2.2 sobre 2.1)",6.1199999999999997E-2,236.66]
["E","Multa sobre saldo FGTS",{"$f":"0.08*0.4","v":3.2000000000000001E-2},123.74000000000001]
["Total do Módulo 3",null,null,{"$f":"SUM(D62:D66)","v":500.01}]
[]
["MÓDULO 4: Custo mensal de reposição do profissional ausente (M4)"]
["X","Custo diário do empregado substituto ","Dias",{"$f":"ROUNDUP((D31+D59+D67)/30,2)","v":236.82999999999998}]
["A","Férias",{"$f":"ROUND(30/12,2)","v":2.5},{"$f":"ROUNDUP($D$70*C71,2)","v":592.08000000000004}]
["B","Ausências por enfermidade",{"$f":"ROUNDUP(0.66/100*360/12,2)","v":0.2},{"$f":"ROUNDUP($D$70*C72,2)","v":47.37}]
["C","Faltas Justificadas",{"$f":"ROUNDUP(0.56/100*360/12,2)","v":0.17},40.269999999999996]
["D","Ausência por acidente de trabalho",{"$f":"ROUNDUP(0.08/100*360/12,2)","v":0.03},7.1099999999999994]
["E","Afastamento Parentalidade",{"$f":"ROUNDUP((0.05+0.03)/100*360/12,2)","v":0.03},7.1099999999999994]
["F","Outros (especificar)",0,0]
["Total do Módulo 4",null,null,{"$f":"SUM(D71:D76)","v":693.94}]
[]
["MÓDULO 5: Insumos de mão de obra (M5)"]
["A","EPI e Uniforme","SINAPI Encarregado",{"$f":"EPI!M6","v":142.20999999999998}]
["B","Materiais e ferramentas ","SINAPI Encarregado",{"$f":"FER!M6","v":18.740000000000002}]
["Total do Módulo 5",null,null,{"$f":"SUM(D80:D81)","v":160.94999999999999}]
["Nota: Valores mensais por empregado."]
[]
["MÓDULO 6: Custos indiretos, tributos e lucro (M6)"]
["A","Custos Indiretos   ","SINAPI",{"$f":"BDI!C2","v":4.8000000000000001E-2}]
["A.1","Administração Central","SINAPI",{"$f":"BDI!C3","v":0.03}]
["A.2","Seguros e Garantias Contratuais","SINAPI",{"$f":"BDI!C4","v":8.0000000000000002E-3}]
["A.3","Riscos","SINAPI",{"$f":"BDI!C5","v":0.01}]
["B","Despesas Financeiras","SINAPI",{"$f":"BDI!C6","v":6.1999999999999998E-3}]
["C","Lucro  ","SINAPI",{"$f":"BDI!C7","v":0.06}]
["D","Tributos Federais e Estaduais/Municipais ","SINAPI",{"$f":"BDI!C8","v":0.13150000000000001}]
["D.1","COFINS","SINAPI",{"$f":"BDI!C9","v":0.03}]
["D.2","PIS","SINAPI",{"$f":"BDI!C10","v":6.4999999999999997E-3}]
["D.3","CPRB - (com/sem desoneração)","SINAPI",{"$f":"BDI!C11","v":4.4999999999999998E-2}]
["D.4","ISSQN","SINAPI",{"$f":"BDI!C12","v":0.05}]
["Total ",null,null,{"$f":"BDI!C13","v":0.28699999999999998}]
["Total do Módulo 6",null,null,{"$f":"D107*(D97)","v":2284.4367699999998}]
[]
["QUADRO-RESUMO CUSTO POR EMPREGADO"]
["Mão-de-obra vinculada à execução contratual (valor por empregado)"]
["A","MÓDULO 1: Composição da remuneração (M1)",null,{"$f":"D31","v":3866.85}]
["B","MÓDULO 2: Encargos e benefícios anuais, mensais e diários (M2)",null,{"$f":"D59","v":2737.96}]
["C","MÓDULO 3: Provisão para rescisão (M3)",null,{"$f":"D67","v":500.01}]
["D","MÓDULO 4: Custo de reposição do profissional ausente (M4)",null,{"$f":"D77","v":693.94}]
["E","MÓDULO 5: Insumos de mão de obra (M5)",null,{"$f":"D82","v":160.94999999999999}]
["Subtotal (A + B + C + D + E)",null,null,{"$f":"SUM(D102:D106)","v":7959.71}]
["F","MÓDULO 6: Custos indiretos, tributos e lucro (M6)",null,{"$f":"D98","v":2284.4367699999998}]
["Custo mensal do posto",null,null,{"$f":"D107+D108","v":10244.146769999999}]
["G","RESERVA MENSAL CONTA VINCULADA",null,{"$f":"D38+D67","v":1251.9099999999999}]
["H","RESERVA MENSAL REPOSIÇÃO",null,{"$f":"D77","v":693.94}]
["I","CUSTO MENSAL ORDINÁRIO",null,{"$f":"D109-D110-D111","v":8298.296769999999}]

{"sheet":"3.Elet","index":3,"n_rows":112,"n_cols":4,"rows_kept":112,"cut":false,"hidden":false,"merged":[[99,0,99,3],[100,0,100,3],[106,0,106,2],[108,0,108,2],[16,2,16,3],[82,0,82,3],[83,0,83,3],[84,0,84,3],[96,0,96,1],[97,0,97,2],[98,0,98,3],[67,0,67,3],[68,0,68,3],[76,0,76,2],[77,0,77,3],[78,0,78,3],[81,0,81,2],[37,0,37,2],[39,1,39,2],[58,0,58,2],[59,0,59,3],[60,0,60,3],[66,0,66,2],[32,0,32,3],[13,2,13,3],[14,2,14,3],[15,2,15,3],[17,2,17,3],[18,2,18,3],[19,2,19,3],[20,0,20,3],[21,0,21,3],[22,1,22,2],[30,0,30,2],[31,0,31,3],[12,2,12,3],[0,0,0,3],[1,0,1,3],[9,0,9,3],[10,0,10,3],[11,0,11,3]]}
["PLANILHAS DE CUSTOS E FORMAÇÃO DE PREÇOS"]
["Discriminação dos serviços"]
["A","Data da Apresentação da Proposta: ",null,"2024-08-26"]
["B","Munícipio/UF: ",null,"Brasília/DF"]
["C","Ano do Acordo, Convenção ou Dissídio Coletivo:","SINDISERVICOS/DF",2024]
["D","Número de meses de execução contratual:",null,{"$f":"12*5","v":60}]
["E","Tipo de serviço:",null,"Continuado"]
["F","Unidade de medida",null,"Posto"]
["G","Quantidade total a contratar (em função da unidade de medida):",null,1]
[]
["Mão de obra vinculada à execução contratual"]
["Dados complementares para composição dos custos referente à mão de obra"]
[1,"Tipo de serviço ","Técnico Eletricista"]
[2,"Classificação Brasileira de Ocupações (CBO)","9511-05"]
[3,"Categoria profissional (vinculada à execução contratual)","Eletricista de manutenção em geral"]
[4,"Data base CCT","2024-01-01"]
[5,"Vigência CCT","2024-12-31"]
[6,"Carga horia semanal","44 horas/semana"]
[7,"Piso normativo da categoria profissional",2405.96]
[8,"Salário proposto no contrato",2887.15]
[]
["MÓDULO 1: Composição da remuneração (M1)"]
[1,"Composição da Remuneração",null,"Valor (R$)"]
["A","Salário Base",1,{"$f":"C20","v":2887.15}]
["B","Adicional de periculosidade",0.3,{"$f":"ROUNDUP($D$24*C25,2)","v":866.15}]
["C","Adicional de Insalubridade",0,{"$f":"ROUNDUP($D$24*C26,2)","v":0}]
["D","Adicional Noturno",0,0]
["E","Hora Noturna Adicional",0,0]
["F","Adicional de Hora Extra",0,0]
["G","Outros (especificar)",0,0]
["Total do Módulo 1",null,null,{"$f":"SUM(D24:D30)","v":3753.3}]
[]
["MÓDULO 2: Encargos e benefícios anuais, mensais e diários (M2)"]
["2.1","13º (décimo terceiro) salário, férias e adicional de férias","Porcentagem (%)","Valor (R$)"]
["A","13º salário   ",8.3299999999999999E-2,{"$f":"ROUNDUP($D$31/12,2)","v":312.77999999999997}]
["B","Férias",8.3299999999999999E-2,{"$f":"ROUNDUP($D$31/12,2)","v":312.77999999999997}]
["C","Adicional de Férias (1/3 Constitucional)",{"$f":"C36/3","v":2.7766666666666665E-2},{"$f":"ROUNDUP($D$31/3/12,2)","v":104.26}]
["Total submódulo 2.1",null,null,{"$f":"SUM(D35:D37)","v":729.81999999999994}]
[]
["2.2"," GPS, FGTS e outras contribuições",null,"Valor (R$)"]
["A","INSS (com/sem desoneração)",0,{"$f":"ROUNDUP($D$31*C41,2)","v":0}]
["B","Salário Educação",2.5000000000000001E-2,{"$f":"ROUNDUP($D$31*C42,2)","v":93.84}]
["C","SAT",0.03,112.60000000000001]
["D","SESC - SESI",1.4999999999999999E-2,56.3]
["E","SENAI - SENAC",0.01,37.54]
["F","SEBRAE",6.0000000000000001E-3,22.520000000000003]
["G","INCRA",2E-3,7.51]
["H","FGTS",0.08,300.27]
["I","SECONCI",0.01,37.54]
[null,"Total submódulo 2.2",{"$f":"SUM(C41:C49)","v":0.17800000000000002},{"$f":"SUM(D41:D49)","v":668.11999999999989}]
[]
["2.3","Benefícios mensais e diários","Referência","Valor (R$)"]
["A","Vale transporte","CLT",{"$f":"ROUND(IF((22*5.5*2)-(D31*0.06*22/30)>0,(22*5.5*2)-(D31*0.06*22/30),0),2)","v":76.849999999999994}]
["B","Vale alimentação","CCT",{"$f":"42.2*22","v":928.40000000000009}]
["C","Assistência Médica-Odontológica e Familiar ","SICRO",287.48]
["D","Auxílio Creche ","CCT",0]
["E","Seguro de Vida e Assistência Funeral","SICRO",9.98]
[null,"Total submódulo 2.3",null,{"$f":"SUM(D53:D57)","v":1302.71}]
["Total do Módulo 2",null,null,{"$f":"D38+D50+D58","v":2700.6499999999996}]
[]
["MÓDULO 3: Provisão para rescisão (M3)"]
["A","Aviso Prévio Indenizado",3.2399999999999998E-2,{"$f":"ROUNDUP($D$31*C62,2)","v":121.61}]
["B","Aviso Prévio Trabalhado",8.0000000000000004E-4,{"$f":"ROUNDUP($D$31*C63,2)","v":3.01}]
["C","Incidência dos encargos sobre o Aviso Prévio",2.8999999999999998E-3,10.89]
["D","Incidencia dos encargos sobre 13o-ferias (submodulo 2.2 sobre 2.1)",6.1199999999999997E-2,229.70999999999998]
["E","Multa sobre saldo FGTS",{"$f":"0.08*0.4","v":3.2000000000000001E-2},120.11]
["Total do Módulo 3",null,null,{"$f":"SUM(D62:D66)","v":485.33}]
[]
["MÓDULO 4: Custo mensal de reposição do profissional ausente (M4)"]
["X","Custo diário do empregado substituto ","Dias",{"$f":"ROUNDUP((D31+D59+D67)/30,2)","v":231.31}]
["A","Férias",{"$f":"ROUND(30/12,2)","v":2.5},{"$f":"ROUNDUP($D$70*C71,2)","v":578.28}]
["B","Ausências por enfermidade",{"$f":"ROUNDUP(0.66/100*360/12,2)","v":0.2},{"$f":"ROUNDUP($D$70*C72,2)","v":46.269999999999996}]
["C","Faltas Justificadas",{"$f":"ROUNDUP(0.56/100*360/12,2)","v":0.17},39.33]
["D","Ausência por acidente de trabalho",{"$f":"ROUNDUP(0.08/100*360/12,2)","v":0.03},6.9399999999999995]
["E","Afastamento Parentalidade",{"$f":"ROUNDUP((0.05+0.03)/100*360/12,2)","v":0.03},6.9399999999999995]
["F","Outros (especificar)",0,0]
["Total do Módulo 4",null,null,{"$f":"SUM(D71:D76)","v":677.7600000000001}]
[]
["MÓDULO 5: Insumos de mão de obra (M5)"]
["A","EPI e Uniforme","SINAPI Eletricista",{"$f":"EPI!M3","v":192.29000000000002}]
["B","Materiais e ferramentas ","SINAPI Eletricista",{"$f":"FER!M3","v":159.70999999999998}]
["Total do Módulo 5",null,null,{"$f":"SUM(D80:D81)","v":352}]
["Nota: Valores mensais por empregado."]
[]
["MÓDULO 6: Custos indiretos, tributos e lucro (M6)"]
["A","Custos Indiretos   ","SINAPI",{"$f":"BDI!C2","v":4.8000000000000001E-2}]
["A.1","Administração Central","SINAPI",{"$f":"BDI!C3","v":0.03}]
["A.2","Seguros e Garantias Contratuais","SINAPI",{"$f":"BDI!C4","v":8.0000000000000002E-3}]
["A.3","Riscos","SINAPI",{"$f":"BDI!C5","v":0.01}]
["B","Despesas Financeiras","SINAPI",{"$f":"BDI!C6","v":6.1999999999999998E-3}]
["C","Lucro  ","SINAPI",{"$f":"BDI!C7","v":0.06}]
["D","Tributos Federais e Estaduais/Municipais ","SINAPI",{"$f":"BDI!C8","v":0.13150000000000001}]
["D.1","COFINS","SINAPI",{"$f":"BDI!C9","v":0.03}]
["D.2","PIS","SINAPI",{"$f":"BDI!C10","v":6.4999999999999997E-3}]
["D.3","CPRB - (com/sem desoneração)","SINAPI",{"$f":"BDI!C11","v":4.4999999999999998E-2}]
["D.4","ISSQN","SINAPI",{"$f":"BDI!C12","v":0.05}]
["Total ",null,null,{"$f":"BDI!C13","v":0.28699999999999998}]
["Total do Módulo 6",null,null,{"$f":"D107*(D97)","v":2287.1144799999997}]
[]
["QUADRO-RESUMO CUSTO POR EMPREGADO"]
["Mão-de-obra vinculada à execução contratual (valor por empregado)"]
["A","MÓDULO 1: Composição da remuneração (M1)",null,{"$f":"D31","v":3753.3}]
["B","MÓDULO 2: Encargos e benefícios anuais, mensais e diários (M2)",null,{"$f":"D59","v":2700.6499999999996}]
["C","MÓDULO 3: Provisão para rescisão (M3)",null,{"$f":"D67","v":485.33}]
["D","MÓDULO 4: Custo de reposição do profissional ausente (M4)",null,{"$f":"D77","v":677.7600000000001}]
["E","MÓDULO 5: Insumos de mão de obra (M5)",null,{"$f":"D82","v":352}]
["Subtotal (A + B + C + D + E)",null,null,{"$f":"SUM(D102:D106)","v":7969.04}]
["F","MÓDULO 6: Custos indiretos, tributos e lucro (M6)",null,{"$f":"D98","v":2287.1144799999997}]
["Custo mensal do posto",null,null,{"$f":"D107+D108","v":10256.154479999999}]
["G","RESERVA MENSAL CONTA VINCULADA",null,{"$f":"D38+D67","v":1215.1499999999999}]
["H","RESERVA MENSAL REPOSIÇÃO",null,{"$f":"D77","v":677.7600000000001}]
["I","CUSTO MENSAL ORDINÁRIO",null,{"$f":"D109-D110-D111","v":8363.2444799999994}]

{"sheet":"4.Aju-3","index":4,"n_rows":112,"n_cols":4,"rows_kept":112,"cut":false,"hidden":false,"merged":[[98,0,98,3],[99,0,99,3],[100,0,100,3],[106,0,106,2],[108,0,108,2],[97,0,97,2],[66,0,66,2],[67,0,67,3],[68,0,68,3],[76,0,76,2],[77,0,77,3],[78,0,78,3],[81,0,81,2],[82,0,82,3],[83,0,83,3],[84,0,84,3],[96,0,96,1],[60,0,60,3],[19,2,19,3],[20,0,20,3],[21,0,21,3],[22,1,22,2],[30,0,30,2],[31,0,31,3],[32,0,32,3],[37,0,37,2],[39,1,39,2],[58,0,58,2],[59,0,59,3],[18,2,18,3],[0,0,0,3],[1,0,1,3],[9,0,9,3],[10,0,10,3],[11,0,11,3],[12,2,12,3],[13,2,13,3],[14,2,14,3],[15,2,15,3],[16,2,16,3],[17,2,17,3]]}
["PLANILHAS DE CUSTOS E FORMAÇÃO DE PREÇOS"]
["Discriminação dos serviços"]
["A","Data da Apresentação da Proposta: ",null,"2024-08-26"]
["B","Munícipio/UF: ",null,"Brasília/DF"]
["C","Ano do Acordo, Convenção ou Dissídio Coletivo:","SINDISERVICOS/DF",2024]
["D","Número de meses de execução contratual:",null,{"$f":"12*5","v":60}]
["E","Tipo de serviço:",null,"Continuado"]
["F","Unidade de medida",null,"Posto"]
["G","Quantidade total a contratar (em função da unidade de medida):",null,1]
[]
["Mão de obra vinculada à execução contratual"]
["Dados complementares para composição dos custos referente à mão de obra"]
[1,"Tipo de serviço ","Ajudante de Eletricista"]
[2,"Classificação Brasileira de Ocupações (CBO)","7156-15"]
[3,"Categoria profissional (vinculada à execução contratual)","Ajudante de eletricista"]
[4,"Data base CCT","2024-01-01"]
[5,"Vigência CCT","2024-12-31"]
[6,"Carga horia semanal","44 horas/semana"]
[7,"Piso normativo da categoria profissional",1629.62]
[8,"Salário proposto no contrato",1955.54]
[]
["MÓDULO 1: Composição da remuneração (M1)"]
[1,"Composição da Remuneração",null,"Valor (R$)"]
["A","Salário Base",1,{"$f":"C20","v":1955.54}]
["B","Adicional de periculosidade",0.3,{"$f":"ROUNDUP($D$24*C25,2)","v":586.66999999999996}]
["C","Adicional de Insalubridade",0,{"$f":"ROUNDUP($D$24*C26,2)","v":0}]
["D","Adicional Noturno",0,0]
["E","Hora Noturna Adicional",0,0]
["F","Adicional de Hora Extra",0,0]
["G","Outros (especificar)",0,0]
["Total do Módulo 1",null,null,{"$f":"SUM(D24:D30)","v":2542.21}]
[]
["MÓDULO 2: Encargos e benefícios anuais, mensais e diários (M2)"]
["2.1","13º (décimo terceiro) salário, férias e adicional de férias","Porcentagem (%)","Valor (R$)"]
["A","13º salário   ",8.3299999999999999E-2,{"$f":"ROUNDUP($D$31/12,2)","v":211.85999999999999}]
["B","Férias",8.3299999999999999E-2,{"$f":"ROUNDUP($D$31/12,2)","v":211.85999999999999}]
["C","Adicional de Férias (1/3 Constitucional)",{"$f":"C36/3","v":2.7766666666666665E-2},{"$f":"ROUNDUP($D$31/3/12,2)","v":70.62}]
["Total submódulo 2.1",null,null,{"$f":"SUM(D35:D37)","v":494.34}]
[]
["2.2"," GPS, FGTS e outras contribuições",null,"Valor (R$)"]
["A","INSS (com/sem desoneração)",0,{"$f":"ROUNDUP($D$31*C41,2)","v":0}]
["B","Salário Educação",2.5000000000000001E-2,{"$f":"ROUNDUP($D$31*C42,2)","v":63.559999999999995}]
["C","SAT",0.03,76.27000000000001]
["D","SESC - SESI",1.4999999999999999E-2,38.14]
["E","SENAI - SENAC",0.01,25.430000000000003]
["F","SEBRAE",6.0000000000000001E-3,15.26]
["G","INCRA",2E-3,5.09]
["H","FGTS",0.08,203.38]
["I","SECONCI",0.01,25.430000000000003]
[null,"Total submódulo 2.2",{"$f":"SUM(C41:C49)","v":0.17800000000000002},{"$f":"SUM(D41:D49)","v":452.56}]
[]
["2.3","Benefícios mensais e diários","Referência","Valor (R$)"]
["A","Vale transporte","CLT",{"$f":"ROUND(IF((22*5.5*2)-(D31*0.06*22/30)>0,(22*5.5*2)-(D31*0.06*22/30),0),2)","v":130.13999999999999}]
["B","Vale alimentação","CCT",{"$f":"42.2*22","v":928.40000000000009}]
["C","Assistência Médica-Odontológica e Familiar ","SICRO",287.48]
["D","Auxílio Creche ","CCT",0]
["E","Seguro de Vida e Assistência Funeral","SICRO",9.98]
[null,"Total submódulo 2.3",null,{"$f":"SUM(D53:D57)","v":1356}]
["Total do Módulo 2",null,null,{"$f":"D38+D50+D58","v":2302.9}]
[]
["MÓDULO 3: Provisão para rescisão (M3)"]
["A","Aviso Prévio Indenizado",3.2399999999999998E-2,{"$f":"ROUNDUP($D$31*C62,2)","v":82.37}]
["B","Aviso Prévio Trabalhado",8.0000000000000004E-4,{"$f":"ROUNDUP($D$31*C63,2)","v":2.0399999999999996}]
["C","Incidência dos encargos sobre o Aviso Prévio",2.8999999999999998E-3,7.38]
["D","Incidencia dos encargos sobre 13o-ferias (submodulo 2.2 sobre 2.1)",6.1199999999999997E-2,155.59]
["E","Multa sobre saldo FGTS",{"$f":"0.08*0.4","v":3.2000000000000001E-2},81.36]
["Total do Módulo 3",null,null,{"$f":"SUM(D62:D66)","v":328.74}]
[]
["MÓDULO 4: Custo mensal de reposição do profissional ausente (M4)"]
["X","Custo diário do empregado substituto ","Dias",{"$f":"ROUNDUP((D31+D59+D67)/30,2)","v":172.47}]
["A","Férias",{"$f":"ROUND(30/12,2)","v":2.5},{"$f":"ROUNDUP($D$70*C71,2)","v":431.18}]
["B","Ausências por enfermidade",{"$f":"ROUNDUP(0.66/100*360/12,2)","v":0.2},{"$f":"ROUNDUP($D$70*C72,2)","v":34.5}]
["C","Faltas Justificadas",{"$f":"ROUNDUP(0.56/100*360/12,2)","v":0.17},29.32]
["D","Ausência por acidente de trabalho",{"$f":"ROUNDUP(0.08/100*360/12,2)","v":0.03},5.18]
["E","Afastamento Parentalidade",{"$f":"ROUNDUP((0.05+0.03)/100*360/12,2)","v":0.03},5.18]
["F","Outros (especificar)",0,0]
["Total do Módulo 4",null,null,{"$f":"SUM(D71:D76)","v":505.36}]
[]
["MÓDULO 5: Insumos de mão de obra (M5)"]
["A","EPI e Uniforme","SINAPI Eletricista",{"$f":"EPI!M3","v":192.29000000000002}]
["B","Materiais e ferramentas ","SINAPI Eletricista",{"$f":"FER!M3","v":159.70999999999998}]
["Total do Módulo 5",null,null,{"$f":"SUM(D80:D81)","v":352}]
["Nota: Valores mensais por empregado."]
[]
["MÓDULO 6: Custos indiretos, tributos e lucro (M6)"]
["A","Custos Indiretos   ","SINAPI",{"$f":"BDI!C2","v":4.8000000000000001E-2}]
["A.1","Administração Central","SINAPI",{"$f":"BDI!C3","v":0.03}]
["A.2","Seguros e Garantias Contratuais","SINAPI",{"$f":"BDI!C4","v":8.0000000000000002E-3}]
["A.3","Riscos","SINAPI",{"$f":"BDI!C5","v":0.01}]
["B","Despesas Financeiras","SINAPI",{"$f":"BDI!C6","v":6.1999999999999998E-3}]
["C","Lucro  ","SINAPI",{"$f":"BDI!C7","v":0.06}]
["D","Tributos Federais e Estaduais/Municipais ","SINAPI",{"$f":"BDI!C8","v":0.13150000000000001}]
["D.1","COFINS","SINAPI",{"$f":"BDI!C9","v":0.03}]
["D.2","PIS","SINAPI",{"$f":"BDI!C10","v":6.4999999999999997E-3}]
["D.3","CPRB - (com/sem desoneração)","SINAPI",{"$f":"BDI!C11","v":4.4999999999999998E-2}]
["D.4","ISSQN","SINAPI",{"$f":"BDI!C12","v":0.05}]
["Total ",null,null,{"$f":"BDI!C13","v":0.28699999999999998}]
["Total do Módulo 6",null,null,{"$f":"D107*(D97)","v":1730.9572699999999}]
[]
["QUADRO-RESUMO CUSTO POR EMPREGADO"]
["Mão-de-obra vinculada à execução contratual (valor por empregado)"]
["A","MÓDULO 1: Composição da remuneração (M1)",null,{"$f":"D31","v":2542.21}]
["B","MÓDULO 2: Encargos e benefícios anuais, mensais e diários (M2)",null,{"$f":"D59","v":2302.9}]
["C","MÓDULO 3: Provisão para rescisão (M3)",null,{"$f":"D67","v":328.74}]
["D","MÓDULO 4: Custo de reposição do profissional ausente (M4)",null,{"$f":"D77","v":505.36}]
["E","MÓDULO 5: Insumos de mão de obra (M5)",null,{"$f":"D82","v":352}]
["Subtotal (A + B + C + D + E)",null,null,{"$f":"SUM(D102:D106)","v":6031.21}]
["F","MÓDULO 6: Custos indiretos, tributos e lucro (M6)",null,{"$f":"D98","v":1730.9572699999999}]
["Custo mensal do posto",null,null,{"$f":"D107+D108","v":7762.1672699999999}]
["G","RESERVA MENSAL CONTA VINCULADA",null,{"$f":"D38+D67","v":823.07999999999993}]
["H","RESERVA MENSAL REPOSIÇÃO",null,{"$f":"D77","v":505.36}]
["I","CUSTO MENSAL ORDINÁRIO",null,{"$f":"D109-D110-D111","v":6433.7272700000003}]

{"sheet":"5.Refr","index":5,"n_rows":112,"n_cols":4,"rows_kept":112,"cut":false,"hidden":false,"merged":[[98,0,98,3],[99,0,99,3],[100,0,100,3],[106,0,106,2],[108,0,108,2],[97,0,97,2],[66,0,66,2],[67,0,67,3],[68,0,68,3],[76,0,76,2],[77,0,77,3],[78,0,78,3],[81,0,81,2],[82,0,82,3],[83,0,83,3],[84,0,84,3],[96,0,96,1],[60,0,60,3],[19,2,19,3],[20,0,20,3],[21,0,21,3],[22,1,22,2],[30,0,30,2],[31,0,31,3],[32,0,32,3],[37,0,37,2],[39,1,39,2],[58,0,58,2],[59,0,59,3],[18,2,18,3],[0,0,0,3],[1,0,1,3],[9,0,9,3],[10,0,10,3],[11,0,11,3],[12,2,12,3],[13,2,13,3],[14,2,14,3],[15,2,15,3],[16,2,16,3],[17,2,17,3]]}
["PLANILHAS DE CUSTOS E FORMAÇÃO DE PREÇOS"]
["Discriminação dos serviços"]
["A","Data da Apresentação da Proposta: ",null,"2024-08-26"]
["B","Munícipio/UF: ",null,"Brasília/DF"]
["C","Ano do Acordo, Convenção ou Dissídio Coletivo:","SINDISERVICOS/DF",2024]
["D","Número de meses de execução contratual:",null,{"$f":"12*5","v":60}]
["E","Tipo de serviço:",null,"Continuado"]
["F","Unidade de medida",null,"Posto"]
["G","Quantidade total a contratar (em função da unidade de medida):",null,1]
[]
["Mão de obra vinculada à execução contratual"]
["Dados complementares para composição dos custos referente à mão de obra"]
[1,"Tipo de serviço ","Técnico em Refrigeração"]
[2,"Classificação Brasileira de Ocupações (CBO)","7257-05"]
[3,"Categoria profissional (vinculada à execução contratual)","Mecânico de refrigeração"]
[4,"Data base CCT","2024-01-01"]
[5,"Vigência CCT","2024-12-31"]
[6,"Carga horia semanal","44 horas/semana"]
[7,"Piso normativo da categoria profissional",2405.96]
[8,"Salário proposto no contrato",2887.15]
[]
["MÓDULO 1: Composição da remuneração (M1)"]
[1,"Composição da Remuneração",null,"Valor (R$)"]
["A","Salário Base",1,{"$f":"C20","v":2887.15}]
["B","Adicional de periculosidade",0.3,{"$f":"ROUNDUP($D$24*C25,2)","v":866.15}]
["C","Adicional de Insalubridade",0,{"$f":"ROUNDUP($D$24*C26,2)","v":0}]
["D","Adicional Noturno",0,0]
["E","Hora Noturna Adicional",0,0]
["F","Adicional de Hora Extra",0,0]
["G","Outros (especificar)",0,0]
["Total do Módulo 1",null,null,{"$f":"SUM(D24:D30)","v":3753.3}]
[]
["MÓDULO 2: Encargos e benefícios anuais, mensais e diários (M2)"]
["2.1","13º (décimo terceiro) salário, férias e adicional de férias","Porcentagem (%)","Valor (R$)"]
["A","13º salário   ",8.3299999999999999E-2,{"$f":"ROUNDUP($D$31/12,2)","v":312.77999999999997}]
["B","Férias",8.3299999999999999E-2,{"$f":"ROUNDUP($D$31/12,2)","v":312.77999999999997}]
["C","Adicional de Férias (1/3 Constitucional)",{"$f":"C36/3","v":2.7766666666666665E-2},{"$f":"ROUNDUP($D$31/3/12,2)","v":104.26}]
["Total submódulo 2.1",null,null,{"$f":"SUM(D35:D37)","v":729.81999999999994}]
[]
["2.2"," GPS, FGTS e outras contribuições",null,"Valor (R$)"]
["A","INSS (com/sem desoneração)",0,{"$f":"ROUNDUP($D$31*C41,2)","v":0}]
["B","Salário Educação",2.5000000000000001E-2,{"$f":"ROUNDUP($D$31*C42,2)","v":93.84}]
["C","SAT",0.03,112.60000000000001]
["D","SESC - SESI",1.4999999999999999E-2,56.3]
["E","SENAI - SENAC",0.01,37.54]
["F","SEBRAE",6.0000000000000001E-3,22.520000000000003]
["G","INCRA",2E-3,7.51]
["H","FGTS",0.08,300.27]
["I","SECONCI",0.01,37.54]
[null,"Total submódulo 2.2",{"$f":"SUM(C41:C49)","v":0.17800000000000002},{"$f":"SUM(D41:D49)","v":668.11999999999989}]
[]
["2.3","Benefícios mensais e diários","Referência","Valor (R$)"]
["A","Vale transporte","CLT",{"$f":"ROUND(IF((22*5.5*2)-(D31*0.06*22/30)>0,(22*5.5*2)-(D31*0.06*22/30),0),2)","v":76.849999999999994}]
["B","Vale alimentação","CCT",{"$f":"42.2*22","v":928.40000000000009}]
["C","Assistência Médica-Odontológica e Familiar ","SICRO",287.48]
["D","Auxílio Creche ","CCT",0]
["E","Seguro de Vida e Assistência Funeral","SICRO",9.98]
[null,"Total submódulo 2.3",null,{"$f":"SUM(D53:D57)","v":1302.71}]
["Total do Módulo 2",null,null,{"$f":"D38+D50+D58","v":2700.6499999999996}]
[]
["MÓDULO 3: Provisão para rescisão (M3)"]
["A","Aviso Prévio Indenizado",3.2399999999999998E-2,{"$f":"ROUNDUP($D$31*C62,2)","v":121.61}]
["B","Aviso Prévio Trabalhado",8.0000000000000004E-4,{"$f":"ROUNDUP($D$31*C63,2)","v":3.01}]
["C","Incidência dos encargos sobre o Aviso Prévio",2.8999999999999998E-3,10.89]
["D","Incidencia dos encargos sobre 13o-ferias (submodulo 2.2 sobre 2.1)",6.1199999999999997E-2,229.70999999999998]
["E","Multa sobre saldo FGTS",{"$f":"0.08*0.4","v":3.2000000000000001E-2},120.11]
["Total do Módulo 3",null,null,{"$f":"SUM(D62:D66)","v":485.33}]
[]
["MÓDULO 4: Custo mensal de reposição do profissional ausente (M4)"]
["X","Custo diário do empregado substituto ","Dias",{"$f":"ROUNDUP((D31+D59+D67)/30,2)","v":231.31}]
["A","Férias",{"$f":"ROUND(30/12,2)","v":2.5},{"$f":"ROUNDUP($D$70*C71,2)","v":578.28}]
["B","Ausências por enfermidade",{"$f":"ROUNDUP(0.66/100*360/12,2)","v":0.2},{"$f":"ROUNDUP($D$70*C72,2)","v":46.269999999999996}]
["C","Faltas Justificadas",{"$f":"ROUNDUP(0.56/100*360/12,2)","v":0.17},39.33]
["D","Ausência por acidente de trabalho",{"$f":"ROUNDUP(0.08/100*360/12,2)","v":0.03},6.9399999999999995]
["E","Afastamento Parentalidade",{"$f":"ROUNDUP((0.05+0.03)/100*360/12,2)","v":0.03},6.9399999999999995]
["F","Outros (especificar)",0,0]
["Total do Módulo 4",null,null,{"$f":"SUM(D71:D76)","v":677.7600000000001}]
[]
["MÓDULO 5: Insumos de mão de obra (M5)"]
["A","EPI e Uniforme","SINAPI Eletricista",{"$f":"EPI!M3","v":192.29000000000002}]
["B","Materiais e ferramentas ","SINAPI Eletricista",{"$f":"FER!M3","v":159.70999999999998}]
["Total do Módulo 5",null,null,{"$f":"SUM(D80:D81)","v":352}]
["Nota: Valores mensais por empregado."]
[]
["MÓDULO 6: Custos indiretos, tributos e lucro (M6)"]
["A","Custos Indiretos   ","SINAPI",{"$f":"BDI!C2","v":4.8000000000000001E-2}]
["A.1","Administração Central","SINAPI",{"$f":"BDI!C3","v":0.03}]
["A.2","Seguros e Garantias Contratuais","SINAPI",{"$f":"BDI!C4","v":8.0000000000000002E-3}]
["A.3","Riscos","SINAPI",{"$f":"BDI!C5","v":0.01}]
["B","Despesas Financeiras","SINAPI",{"$f":"BDI!C6","v":6.1999999999999998E-3}]
["C","Lucro  ","SINAPI",{"$f":"BDI!C7","v":0.06}]
["D","Tributos Federais e Estaduais/Municipais ","SINAPI",{"$f":"BDI!C8","v":0.13150000000000001}]
["D.1","COFINS","SINAPI",{"$f":"BDI!C9","v":0.03}]
["D.2","PIS","SINAPI",{"$f":"BDI!C10","v":6.4999999999999997E-3}]
["D.3","CPRB - (com/sem desoneração)","SINAPI",{"$f":"BDI!C11","v":4.4999999999999998E-2}]
["D.4","ISSQN","SINAPI",{"$f":"BDI!C12","v":0.05}]
["Total ",null,null,{"$f":"BDI!C13","v":0.28699999999999998}]
["Total do Módulo 6",null,null,{"$f":"D107*(D97)","v":2287.1144799999997}]
[]
["QUADRO-RESUMO CUSTO POR EMPREGADO"]
["Mão-de-obra vinculada à execução contratual (valor por empregado)"]
["A","MÓDULO 1: Composição da remuneração (M1)",null,{"$f":"D31","v":3753.3}]
["B","MÓDULO 2: Encargos e benefícios anuais, mensais e diários (M2)",null,{"$f":"D59","v":2700.6499999999996}]
["C","MÓDULO 3: Provisão para rescisão (M3)",null,{"$f":"D67","v":485.33}]
["D","MÓDULO 4: Custo de reposição do profissional ausente (M4)",null,{"$f":"D77","v":677.7600000000001}]
["E","MÓDULO 5: Insumos de mão de obra (M5)",null,{"$f":"D82","v":352}]
["Subtotal (A + B + C + D + E)",null,null,{"$f":"SUM(D102:D106)","v":7969.04}]
["F","MÓDULO 6: Custos indiretos, tributos e lucro (M6)",null,{"$f":"D98","v":2287.1144799999997}]
["Custo mensal do posto",null,null,{"$f":"D107+D108","v":10256.154479999999}]
["G","RESERVA MENSAL CONTA VINCULADA",null,{"$f":"D38+D67","v":1215.1499999999999}]
["H","RESERVA MENSAL REPOSIÇÃO",null,{"$f":"D77","v":677.7600000000001}]
["I","CUSTO MENSAL ORDINÁRIO",null,{"$f":"D109-D110-D111","v":8363.2444799999994}]

{"sheet":"6.Aju-5","index":6,"n_rows":112,"n_cols":4,"rows_kept":112,"cut":false,"hidden":false,"merged":[[98,0,98,3],[99,0,99,3],[100,0,100,3],[106,0,106,2],[108,0,108,2],[97,0,97,2],[66,0,66,2],[67,0,67,3],[68,0,68,3],[76,0,76,2],[77,0,77,3],[78,0,78,3],[81,0,81,2],[82,0,82,3],[83,0,83,3],[84,0,84,3],[96,0,96,1],[60,0,60,3],[19,2,19,3],[20,0,20,3],[21,0,21,3],[22,1,22,2],[30,0,30,2],[31,0,31,3],[32,0,32,3],[37,0,37,2],[39,1,39,2],[58,0,58,2],[59,0,59,3],[18,2,18,3],[0,0,0,3],[1,0,1,3],[9,0,9,3],[10,0,10,3],[11,0,11,3],[12,2,12,3],[13,2,13,3],[14,2,14,3],[15,2,15,3],[16,2,16,3],[17,2,17,3]]}
["PLANILHAS DE CUSTOS E FORMAÇÃO DE PREÇOS"]
["Discriminação dos serviços"]
["A","Data da Apresentação da Proposta: ",null,"2024-08-26"]
["B","Munícipio/UF: ",null,"Brasília/DF"]
["C","Ano do Acordo, Convenção ou Dissídio Coletivo:","SINDISERVICOS/DF",2024]
["D","Número de meses de execução contratual:",null,{"$f":"12*5","v":60}]
["E","Tipo de serviço:",null,"Continuado"]
["F","Unidade de medida",null,"Posto"]
["G","Quantidade total a contratar (em função da unidade de medida):",null,1]
[]
["Mão de obra vinculada à execução contratual"]
["Dados complementares para composição dos custos referente à mão de obra"]
[1,"Tipo de serviço ","Ajudante de Refrigeração"]
[2,"Classificação Brasileira de Ocupações (CBO)","7156-15"]
[3,"Categoria profissional (vinculada à execução contratual)","Ajudante de eletricista"]
[4,"Data base CCT","2024-01-01"]
[5,"Vigência CCT","2024-12-31"]
[6,"Carga horia semanal","44 horas/semana"]
[7,"Piso normativo da categoria profissional",1629.62]
[8,"Salário proposto no contrato",1955.54]
[]
["MÓDULO 1: Composição da remuneração (M1)"]
[1,"Composição da Remuneração",null,"Valor (R$)"]
["A","Salário Base",1,{"$f":"C20","v":1955.54}]
["B","Adicional de periculosidade",0.3,{"$f":"ROUNDUP($D$24*C25,2)","v":586.66999999999996}]
["C","Adicional de Insalubridade",0,{"$f":"ROUNDUP($D$24*C26,2)","v":0}]
["D","Adicional Noturno",0,0]
["E","Hora Noturna Adicional",0,0]
["F","Adicional de Hora Extra",0,0]
["G","Outros (especificar)",0,0]
["Total do Módulo 1",null,null,{"$f":"SUM(D24:D30)","v":2542.21}]
[]
["MÓDULO 2: Encargos e benefícios anuais, mensais e diários (M2)"]
["2.1","13º (décimo terceiro) salário, férias e adicional de férias","Porcentagem (%)","Valor (R$)"]
["A","13º salário   ",8.3299999999999999E-2,{"$f":"ROUNDUP($D$31/12,2)","v":211.85999999999999}]
["B","Férias",8.3299999999999999E-2,{"$f":"ROUNDUP($D$31/12,2)","v":211.85999999999999}]
["C","Adicional de Férias (1/3 Constitucional)",{"$f":"C36/3","v":2.7766666666666665E-2},{"$f":"ROUNDUP($D$31/3/12,2)","v":70.62}]
["Total submódulo 2.1",null,null,{"$f":"SUM(D35:D37)","v":494.34}]
[]
["2.2"," GPS, FGTS e outras contribuições",null,"Valor (R$)"]
["A","INSS (com/sem desoneração)",0,{"$f":"ROUNDUP($D$31*C41,2)","v":0}]
["B","Salário Educação",2.5000000000000001E-2,{"$f":"ROUNDUP($D$31*C42,2)","v":63.559999999999995}]
["C","SAT",0.03,76.27000000000001]
["D","SESC - SESI",1.4999999999999999E-2,38.14]
["E","SENAI - SENAC",0.01,25.430000000000003]
["F","SEBRAE",6.0000000000000001E-3,15.26]
["G","INCRA",2E-3,5.09]
["H","FGTS",0.08,203.38]
["I","SECONCI",0.01,25.430000000000003]
[null,"Total submódulo 2.2",{"$f":"SUM(C41:C49)","v":0.17800000000000002},{"$f":"SUM(D41:D49)","v":452.56}]
[]
["2.3","Benefícios mensais e diários","Referência","Valor (R$)"]
["A","Vale transporte","CLT",{"$f":"ROUND(IF((22*5.5*2)-(D31*0.06*22/30)>0,(22*5.5*2)-(D31*0.06*22/30),0),2)","v":130.13999999999999}]
["B","Vale alimentação","CCT",{"$f":"42.2*22","v":928.40000000000009}]
["C","Assistência Médica-Odontológica e Familiar ","SICRO",287.48]
["D","Auxílio Creche ","CCT",0]
["E","Seguro de Vida e Assistência Funeral","SICRO",9.98]
[null,"Total submódulo 2.3",null,{"$f":"SUM(D53:D57)","v":1356}]
["Total do Módulo 2",null,null,{"$f":"D38+D50+D58","v":2302.9}]
[]
["MÓDULO 3: Provisão para rescisão (M3)"]
["A","Aviso Prévio Indenizado",3.2399999999999998E-2,{"$f":"ROUNDUP($D$31*C62,2)","v":82.37}]
["B","Aviso Prévio Trabalhado",8.0000000000000004E-4,{"$f":"ROUNDUP($D$31*C63,2)","v":2.0399999999999996}]
["C","Incidência dos encargos sobre o Aviso Prévio",2.8999999999999998E-3,7.38]
["D","Incidencia dos encargos sobre 13o-ferias (submodulo 2.2 sobre 2.1)",6.1199999999999997E-2,155.59]
["E","Multa sobre saldo FGTS",{"$f":"0.08*0.4","v":3.2000000000000001E-2},81.36]
["Total do Módulo 3",null,null,{"$f":"SUM(D62:D66)","v":328.74}]
[]
["MÓDULO 4: Custo mensal de reposição do profissional ausente (M4)"]
["X","Custo diário do empregado substituto ","Dias",{"$f":"ROUNDUP((D31+D59+D67)/30,2)","v":172.47}]
["A","Férias",{"$f":"ROUND(30/12,2)","v":2.5},{"$f":"ROUNDUP($D$70*C71,2)","v":431.18}]
["B","Ausências por enfermidade",{"$f":"ROUNDUP(0.66/100*360/12,2)","v":0.2},{"$f":"ROUNDUP($D$70*C72,2)","v":34.5}]
["C","Faltas Justificadas",{"$f":"ROUNDUP(0.56/100*360/12,2)","v":0.17},29.32]
["D","Ausência por acidente de trabalho",{"$f":"ROUNDUP(0.08/100*360/12,2)","v":0.03},5.18]
["E","Afastamento Parentalidade",{"$f":"ROUNDUP((0.05+0.03)/100*360/12,2)","v":0.03},5.18]
["F","Outros (especificar)",0,0]
["Total do Módulo 4",null,null,{"$f":"SUM(D71:D76)","v":505.36}]
[]
["MÓDULO 5: Insumos de mão de obra (M5)"]
["A","EPI e Uniforme","SINAPI Eletricista",{"$f":"EPI!M3","v":192.29000000000002}]
["B","Materiais e ferramentas ","SINAPI Eletricista",{"$f":"FER!M3","v":159.70999999999998}]
["Total do Módulo 5",null,null,{"$f":"SUM(D80:D81)","v":352}]
["Nota: Valores mensais por empregado."]
[]
["MÓDULO 6: Custos indiretos, tributos e lucro (M6)"]
["A","Custos Indiretos   ","SINAPI",{"$f":"BDI!C2","v":4.8000000000000001E-2}]
["A.1","Administração Central","SINAPI",{"$f":"BDI!C3","v":0.03}]
["A.2","Seguros e Garantias Contratuais","SINAPI",{"$f":"BDI!C4","v":8.0000000000000002E-3}]
["A.3","Riscos","SINAPI",{"$f":"BDI!C5","v":0.01}]
["B","Despesas Financeiras","SINAPI",{"$f":"BDI!C6","v":6.1999999999999998E-3}]
["C","Lucro  ","SINAPI",{"$f":"BDI!C7","v":0.06}]
["D","Tributos Federais e Estaduais/Municipais ","SINAPI",{"$f":"BDI!C8","v":0.13150000000000001}]
["D.1","COFINS","SINAPI",{"$f":"BDI!C9","v":0.03}]
["D.2","PIS","SINAPI",{"$f":"BDI!C10","v":6.4999999999999997E-3}]
["D.3","CPRB - (com/sem desoneração)","SINAPI",{"$f":"BDI!C11","v":4.4999999999999998E-2}]
["D.4","ISSQN","SINAPI",{"$f":"BDI!C12","v":0.05}]
["Total ",null,null,{"$f":"BDI!C13","v":0.28699999999999998}]
["Total do Módulo 6",null,null,{"$f":"D107*(D97)","v":1730.9572699999999}]
[]
["QUADRO-RESUMO CUSTO POR EMPREGADO"]
["Mão-de-obra vinculada à execução contratual (valor por empregado)"]
["A","MÓDULO 1: Composição da remuneração (M1)",null,{"$f":"D31","v":2542.21}]
["B","MÓDULO 2: Encargos e benefícios anuais, mensais e diários (M2)",null,{"$f":"D59","v":2302.9}]
["C","MÓDULO 3: Provisão para rescisão (M3)",null,{"$f":"D67","v":328.74}]
["D","MÓDULO 4: Custo de reposição do profissional ausente (M4)",null,{"$f":"D77","v":505.36}]
["E","MÓDULO 5: Insumos de mão de obra (M5)",null,{"$f":"D82","v":352}]
["Subtotal (A + B + C + D + E)",null,null,{"$f":"SUM(D102:D106)","v":6031.21}]
["F","MÓDULO 6: Custos indiretos, tributos e lucro (M6)",null,{"$f":"D98","v":1730.9572699999999}]
["Custo mensal do posto",null,null,{"$f":"D107+D108","v":7762.1672699999999}]
["G","RESERVA MENSAL CONTA VINCULADA",null,{"$f":"D38+D67","v":823.07999999999993}]
["H","RESERVA MENSAL REPOSIÇÃO",null,{"$f":"D77","v":505.36}]
["I","CUSTO MENSAL ORDINÁRIO",null,{"$f":"D109-D110-D111","v":6433.7272700000003}]

{"sheet":"7.Marc","index":7,"n_rows":112,"n_cols":4,"rows_kept":112,"cut":false,"hidden":false,"merged":[[98,0,98,3],[99,0,99,3],[100,0,100,3],[106,0,106,2],[108,0,108,2],[97,0,97,2],[66,0,66,2],[67,0,67,3],[68,0,68,3],[76,0,76,2],[77,0,77,3],[78,0,78,3],[81,0,81,2],[82,0,82,3],[83,0,83,3],[84,0,84,3],[96,0,96,1],[60,0,60,3],[19,2,19,3],[20,0,20,3],[21,0,21,3],[22,1,22,2],[30,0,30,2],[31,0,31,3],[32,0,32,3],[37,0,37,2],[39,1,39,2],[58,0,58,2],[59,0,59,3],[18,2,18,3],[0,0,0,3],[1,0,1,3],[9,0,9,3],[10,0,10,3],[11,0,11,3],[12,2,12,3],[13,2,13,3],[14,2,14,3],[15,2,15,3],[16,2,16,3],[17,2,17,3]]}
["PLANILHAS DE CUSTOS E FORMAÇÃO DE PREÇOS"]
["Discriminação dos serviços"]
["A","Data da Apresentação da Proposta: ",null,"2024-08-26"]
["B","Munícipio/UF: ",null,"Brasília/DF"]
["C","Ano do Acordo, Convenção ou Dissídio Coletivo:","SINDISERVICOS/DF",2024]
["D","Número de meses de execução contratual:",null,{"$f":"12*5","v":60}]
["E","Tipo de serviço:",null,"Continuado"]
["F","Unidade de medida",null,"Posto"]
["G","Quantidade total a contratar (em função da unidade de medida):",null,1]
[]
["Mão de obra vinculada à execução contratual"]
["Dados complementares para composição dos custos referente à mão de obra"]
[1,"Tipo de serviço ","Técnico Marceneiro"]
[2,"Classificação Brasileira de Ocupações (CBO)","7711-05"]
[3,"Categoria profissional (vinculada à execução contratual)","Marceneiro"]
[4,"Data base CCT","2024-01-01"]
[5,"Vigência CCT","2024-12-31"]
[6,"Carga horia semanal","44 horas/semana"]
[7,"Piso normativo da categoria profissional",2405.96]
[8,"Salário proposto no contrato",2887.152]
[]
["MÓDULO 1: Composição da remuneração (M1)"]
[1,"Composição da Remuneração",null,"Valor (R$)"]
["A","Salário Base",1,{"$f":"C20","v":2887.152}]
["B","Adicional de periculosidade",0,{"$f":"ROUNDUP($D$24*C25,2)","v":0}]
["C","Adicional de Insalubridade",0,{"$f":"ROUNDUP($D$24*C26,2)","v":0}]
["D","Adicional Noturno",0,0]
["E","Hora Noturna Adicional",0,0]
["F","Adicional de Hora Extra",0,0]
["G","Outros (especificar)",0,0]
["Total do Módulo 1",null,null,{"$f":"SUM(D24:D30)","v":2887.152}]
[]
["MÓDULO 2: Encargos e benefícios anuais, mensais e diários (M2)"]
["2.1","13º (décimo terceiro) salário, férias e adicional de férias","Porcentagem (%)","Valor (R$)"]
["A","13º salário   ",8.3299999999999999E-2,{"$f":"ROUNDUP($D$31/12,2)","v":240.6}]
["B","Férias",8.3299999999999999E-2,{"$f":"ROUNDUP($D$31/12,2)","v":240.6}]
["C","Adicional de Férias (1/3 Constitucional)",{"$f":"C36/3","v":2.7766666666666665E-2},{"$f":"ROUNDUP($D$31/3/12,2)","v":80.2}]
["Total submódulo 2.1",null,null,{"$f":"SUM(D35:D37)","v":561.4}]
[]
["2.2"," GPS, FGTS e outras contribuições",null,"Valor (R$)"]
["A","INSS (com/sem desoneração)",0,{"$f":"ROUNDUP($D$31*C41,2)","v":0}]
["B","Salário Educação",2.5000000000000001E-2,{"$f":"ROUNDUP($D$31*C42,2)","v":72.180000000000007}]
["C","SAT",0.03,86.62]
["D","SESC - SESI",1.4999999999999999E-2,43.309999999999995]
["E","SENAI - SENAC",0.01,28.880000000000003]
["F","SEBRAE",6.0000000000000001E-3,17.330000000000002]
["G","INCRA",2E-3,5.7799999999999994]
["H","FGTS",0.08,230.98]
["I","SECONCI",0.01,28.880000000000003]
[null,"Total submódulo 2.2",{"$f":"SUM(C41:C49)","v":0.17800000000000002},{"$f":"SUM(D41:D49)","v":513.96}]
[]
["2.3","Benefícios mensais e diários","Referência","Valor (R$)"]
["A","Vale transporte","CLT",{"$f":"ROUND(IF((22*5.5*2)-(D31*0.06*22/30)>0,(22*5.5*2)-(D31*0.06*22/30),0),2)","v":114.97}]
["B","Vale alimentação","CCT",{"$f":"42.2*22","v":928.40000000000009}]
["C","Assistência Médica-Odontológica e Familiar ","SICRO",287.48]
["D","Auxílio Creche ","CCT",0]
["E","Seguro de Vida e Assistência Funeral","SICRO",9.98]
[null,"Total submódulo 2.3",null,{"$f":"SUM(D53:D57)","v":1340.8300000000002}]
["Total do Módulo 2",null,null,{"$f":"D38+D50+D58","v":2416.1900000000005}]
[]
["MÓDULO 3: Provisão para rescisão (M3)"]
["A","Aviso Prévio Indenizado",3.2399999999999998E-2,{"$f":"ROUNDUP($D$31*C62,2)","v":93.550000000000011}]
["B","Aviso Prévio Trabalhado",8.0000000000000004E-4,{"$f":"ROUNDUP($D$31*C63,2)","v":2.3099999999999996}]
["C","Incidência dos encargos sobre o Aviso Prévio",2.8999999999999998E-3,8.379999999999999]
["D","Incidencia dos encargos sobre 13o-ferias (submodulo 2.2 sobre 2.1)",6.1199999999999997E-2,176.7]
["E","Multa sobre saldo FGTS",{"$f":"0.08*0.4","v":3.2000000000000001E-2},92.39]
["Total do Módulo 3",null,null,{"$f":"SUM(D62:D66)","v":373.33}]
[]
["MÓDULO 4: Custo mensal de reposição do profissional ausente (M4)"]
["X","Custo diário do empregado substituto ","Dias",{"$f":"ROUNDUP((D31+D59+D67)/30,2)","v":189.23}]
["A","Férias",{"$f":"ROUND(30/12,2)","v":2.5},{"$f":"ROUNDUP($D$70*C71,2)","v":473.08}]
["B","Ausências por enfermidade",{"$f":"ROUNDUP(0.66/100*360/12,2)","v":0.2},{"$f":"ROUNDUP($D$70*C72,2)","v":37.85}]
["C","Faltas Justificadas",{"$f":"ROUNDUP(0.56/100*360/12,2)","v":0.17},32.169999999999995]
["D","Ausência por acidente de trabalho",{"$f":"ROUNDUP(0.08/100*360/12,2)","v":0.03},5.68]
["E","Afastamento Parentalidade",{"$f":"ROUNDUP((0.05+0.03)/100*360/12,2)","v":0.03},5.68]
["F","Outros (especificar)",0,0]
["Total do Módulo 4",null,null,{"$f":"SUM(D71:D76)","v":554.45999999999992}]
[]
["MÓDULO 5: Insumos de mão de obra (M5)"]
["A","EPI e Uniforme","SINAPI Carpinteiro",{"$f":"EPI!M2","v":176.04000000000002}]
["B","Materiais e ferramentas ","SINAPI Carpinteiro",{"$f":"FER!M2","v":92.28}]
["Total do Módulo 5",null,null,{"$f":"SUM(D80:D81)","v":268.32000000000005}]
["Nota: Valores mensais por empregado."]
[]
["MÓDULO 6: Custos indiretos, tributos e lucro (M6)"]
["A","Custos Indiretos   ","SINAPI",{"$f":"BDI!C2","v":4.8000000000000001E-2}]
["A.1","Administração Central","SINAPI",{"$f":"BDI!C3","v":0.03}]
["A.2","Seguros e Garantias Contratuais","SINAPI",{"$f":"BDI!C4","v":8.0000000000000002E-3}]
["A.3","Riscos","SINAPI",{"$f":"BDI!C5","v":0.01}]
["B","Despesas Financeiras","SINAPI",{"$f":"BDI!C6","v":6.1999999999999998E-3}]
["C","Lucro  ","SINAPI",{"$f":"BDI!C7","v":0.06}]
["D","Tributos Federais e Estaduais/Municipais ","SINAPI",{"$f":"BDI!C8","v":0.13150000000000001}]
["D.1","COFINS","SINAPI",{"$f":"BDI!C9","v":0.03}]
["D.2","PIS","SINAPI",{"$f":"BDI!C10","v":6.4999999999999997E-3}]
["D.3","CPRB - (com/sem desoneração)","SINAPI",{"$f":"BDI!C11","v":4.4999999999999998E-2}]
["D.4","ISSQN","SINAPI",{"$f":"BDI!C12","v":0.05}]
["Total ",null,null,{"$f":"BDI!C13","v":0.28699999999999998}]
["Total do Módulo 6",null,null,{"$f":"D107*(D97)","v":1865.3427239999999}]
[]
["QUADRO-RESUMO CUSTO POR EMPREGADO"]
["Mão-de-obra vinculada à execução contratual (valor por empregado)"]
["A","MÓDULO 1: Composição da remuneração (M1)",null,{"$f":"D31","v":2887.152}]
["B","MÓDULO 2: Encargos e benefícios anuais, mensais e diários (M2)",null,{"$f":"D59","v":2416.1900000000005}]
["C","MÓDULO 3: Provisão para rescisão (M3)",null,{"$f":"D67","v":373.33}]
["D","MÓDULO 4: Custo de reposição do profissional ausente (M4)",null,{"$f":"D77","v":554.45999999999992}]
["E","MÓDULO 5: Insumos de mão de obra (M5)",null,{"$f":"D82","v":268.32000000000005}]
["Subtotal (A + B + C + D + E)",null,null,{"$f":"SUM(D102:D106)","v":6499.4520000000002}]
["F","MÓDULO 6: Custos indiretos, tributos e lucro (M6)",null,{"$f":"D98","v":1865.3427239999999}]
["Custo mensal do posto",null,null,{"$f":"D107+D108","v":8364.7947239999994}]
["G","RESERVA MENSAL CONTA VINCULADA",null,{"$f":"D38+D67","v":934.73}]
["H","RESERVA MENSAL REPOSIÇÃO",null,{"$f":"D77","v":554.45999999999992}]
["I","CUSTO MENSAL ORDINÁRIO",null,{"$f":"D109-D110-D111","v":6875.6047239999998}]

{"sheet":"8.Aju-7","index":8,"n_rows":112,"n_cols":4,"rows_kept":112,"cut":false,"hidden":false,"merged":[[98,0,98,3],[99,0,99,3],[100,0,100,3],[106,0,106,2],[108,0,108,2],[97,0,97,2],[66,0,66,2],[67,0,67,3],[68,0,68,3],[76,0,76,2],[77,0,77,3],[78,0,78,3],[81,0,81,2],[82,0,82,3],[83,0,83,3],[84,0,84,3],[96,0,96,1],[60,0,60,3],[19,2,19,3],[20,0,20,3],[21,0,21,3],[22,1,22,2],[30,0,30,2],[31,0,31,3],[32,0,32,3],[37,0,37,2],[39,1,39,2],[58,0,58,2],[59,0,59,3],[18,2,18,3],[0,0,0,3],[1,0,1,3],[9,0,9,3],[10,0,10,3],[11,0,11,3],[12,2,12,3],[13,2,13,3],[14,2,14,3],[15,2,15,3],[16,2,16,3],[17,2,17,3]]}
["PLANILHAS DE CUSTOS E FORMAÇÃO DE PREÇOS"]
["Discriminação dos serviços"]
["A","Data da Apresentação da Proposta: ",null,"2024-08-26"]
["B","Munícipio/UF: ",null,"Brasília/DF"]
["C","Ano do Acordo, Convenção ou Dissídio Coletivo:","SINDISERVICOS/DF",2024]
["D","Número de meses de execução contratual:",null,{"$f":"12*5","v":60}]
["E","Tipo de serviço:",null,"Continuado"]
["F","Unidade de medida",null,"Posto"]
["G","Quantidade total a contratar (em função da unidade de medida):",null,1]
[]
["Mão de obra vinculada à execução contratual"]
["Dados complementares para composição dos custos referente à mão de obra"]
[1,"Tipo de serviço ","Ajudante Marceneiro"]
[2,"Classificação Brasileira de Ocupações (CBO)","7170-20"]
[3,"Categoria profissional (vinculada à execução contratual)","Ajudante de obras"]
[4,"Data base CCT","2024-01-01"]
[5,"Vigência CCT","2024-12-31"]
[6,"Carga horia semanal","44 horas/semana"]
[7,"Piso normativo da categoria profissional",1629.62]
[8,"Salário proposto no contrato",1955.54]
[]
["MÓDULO 1: Composição da remuneração (M1)"]
[1,"Composição da Remuneração",null,"Valor (R$)"]
["A","Salário Base",1,{"$f":"C20","v":1955.54}]
["B","Adicional de periculosidade",0,{"$f":"ROUNDUP($D$24*C25,2)","v":0}]
["C","Adicional de Insalubridade",0,{"$f":"ROUNDUP($D$24*C26,2)","v":0}]
["D","Adicional Noturno",0,0]
["E","Hora Noturna Adicional",0,0]
["F","Adicional de Hora Extra",0,0]
["G","Outros (especificar)",0,0]
["Total do Módulo 1",null,null,{"$f":"SUM(D24:D30)","v":1955.54}]
[]
["MÓDULO 2: Encargos e benefícios anuais, mensais e diários (M2)"]
["2.1","13º (décimo terceiro) salário, férias e adicional de férias","Porcentagem (%)","Valor (R$)"]
["A","13º salário   ",8.3299999999999999E-2,{"$f":"ROUNDUP($D$31/12,2)","v":162.97}]
["B","Férias",8.3299999999999999E-2,{"$f":"ROUNDUP($D$31/12,2)","v":162.97}]
["C","Adicional de Férias (1/3 Constitucional)",{"$f":"C36/3","v":2.7766666666666665E-2},{"$f":"ROUNDUP($D$31/3/12,2)","v":54.33}]
["Total submódulo 2.1",null,null,{"$f":"SUM(D35:D37)","v":380.27}]
[]
["2.2"," GPS, FGTS e outras contribuições",null,"Valor (R$)"]
["A","INSS (com/sem desoneração)",0,{"$f":"ROUNDUP($D$31*C41,2)","v":0}]
["B","Salário Educação",2.5000000000000001E-2,{"$f":"ROUNDUP($D$31*C42,2)","v":48.89}]
["C","SAT",0.03,58.669999999999995]
["D","SESC - SESI",1.4999999999999999E-2,29.34]
["E","SENAI - SENAC",0.01,19.560000000000002]
["F","SEBRAE",6.0000000000000001E-3,11.74]
["G","INCRA",2E-3,3.92]
["H","FGTS",0.08,156.44999999999999]
["I","SECONCI",0.01,19.560000000000002]
[null,"Total submódulo 2.2",{"$f":"SUM(C41:C49)","v":0.17800000000000002},{"$f":"SUM(D41:D49)","v":348.13}]
[]
["2.3","Benefícios mensais e diários","Referência","Valor (R$)"]
["A","Vale transporte","CLT",{"$f":"ROUND(IF((22*5.5*2)-(D31*0.06*22/30)>0,(22*5.5*2)-(D31*0.06*22/30),0),2)","v":155.96}]
["B","Vale alimentação","CCT",{"$f":"42.2*22","v":928.40000000000009}]
["C","Assistência Médica-Odontológica e Familiar ","SICRO",287.48]
["D","Auxílio Creche ","CCT",0]
["E","Seguro de Vida e Assistência Funeral","SICRO",9.98]
[null,"Total submódulo 2.3",null,{"$f":"SUM(D53:D57)","v":1381.8200000000002}]
["Total do Módulo 2",null,null,{"$f":"D38+D50+D58","v":2110.2200000000003}]
[]
["MÓDULO 3: Provisão para rescisão (M3)"]
["A","Aviso Prévio Indenizado",3.2399999999999998E-2,{"$f":"ROUNDUP($D$31*C62,2)","v":63.36}]
["B","Aviso Prévio Trabalhado",8.0000000000000004E-4,{"$f":"ROUNDUP($D$31*C63,2)","v":1.57}]
["C","Incidência dos encargos sobre o Aviso Prévio",2.8999999999999998E-3,5.68]
["D","Incidencia dos encargos sobre 13o-ferias (submodulo 2.2 sobre 2.1)",6.1199999999999997E-2,119.68]
["E","Multa sobre saldo FGTS",{"$f":"0.08*0.4","v":3.2000000000000001E-2},62.58]
["Total do Módulo 3",null,null,{"$f":"SUM(D62:D66)","v":252.87}]
[]
["MÓDULO 4: Custo mensal de reposição do profissional ausente (M4)"]
["X","Custo diário do empregado substituto ","Dias",{"$f":"ROUNDUP((D31+D59+D67)/30,2)","v":143.95999999999998}]
["A","Férias",{"$f":"ROUND(30/12,2)","v":2.5},{"$f":"ROUNDUP($D$70*C71,2)","v":359.9}]
["B","Ausências por enfermidade",{"$f":"ROUNDUP(0.66/100*360/12,2)","v":0.2},{"$f":"ROUNDUP($D$70*C72,2)","v":28.8}]
["C","Faltas Justificadas",{"$f":"ROUNDUP(0.56/100*360/12,2)","v":0.17},24.48]
["D","Ausência por acidente de trabalho",{"$f":"ROUNDUP(0.08/100*360/12,2)","v":0.03},4.3199999999999994]
["E","Afastamento Parentalidade",{"$f":"ROUNDUP((0.05+0.03)/100*360/12,2)","v":0.03},4.3199999999999994]
["F","Outros (especificar)",0,0]
["Total do Módulo 4",null,null,{"$f":"SUM(D71:D76)","v":421.82}]
[]
["MÓDULO 5: Insumos de mão de obra (M5)"]
["A","EPI e Uniforme","SINAPI Carpinteiro",{"$f":"EPI!M2","v":176.04000000000002}]
["B","Materiais e ferramentas ","SINAPI Carpinteiro",{"$f":"FER!M2","v":92.28}]
["Total do Módulo 5",null,null,{"$f":"SUM(D80:D81)","v":268.32000000000005}]
["Nota: Valores mensais por empregado."]
[]
["MÓDULO 6: Custos indiretos, tributos e lucro (M6)"]
["A","Custos Indiretos   ","SINAPI",{"$f":"BDI!C2","v":4.8000000000000001E-2}]
["A.1","Administração Central","SINAPI",{"$f":"BDI!C3","v":0.03}]
["A.2","Seguros e Garantias Contratuais","SINAPI",{"$f":"BDI!C4","v":8.0000000000000002E-3}]
["A.3","Riscos","SINAPI",{"$f":"BDI!C5","v":0.01}]
["B","Despesas Financeiras","SINAPI",{"$f":"BDI!C6","v":6.1999999999999998E-3}]
["C","Lucro  ","SINAPI",{"$f":"BDI!C7","v":0.06}]
["D","Tributos Federais e Estaduais/Municipais ","SINAPI",{"$f":"BDI!C8","v":0.13150000000000001}]
["D.1","COFINS","SINAPI",{"$f":"BDI!C9","v":0.03}]
["D.2","PIS","SINAPI",{"$f":"BDI!C10","v":6.4999999999999997E-3}]
["D.3","CPRB - (com/sem desoneração)","SINAPI",{"$f":"BDI!C11","v":4.4999999999999998E-2}]
["D.4","ISSQN","SINAPI",{"$f":"BDI!C12","v":0.05}]
["Total ",null,null,{"$f":"BDI!C13","v":0.28699999999999998}]
["Total do Módulo 6",null,null,{"$f":"D107*(D97)","v":1437.5169899999999}]
[]
["QUADRO-RESUMO CUSTO POR EMPREGADO"]
["Mão-de-obra vinculada à execução contratual (valor por empregado)"]
["A","MÓDULO 1: Composição da remuneração (M1)",null,{"$f":"D31","v":1955.54}]
["B","MÓDULO 2: Encargos e benefícios anuais, mensais e diários (M2)",null,{"$f":"D59","v":2110.2200000000003}]
["C","MÓDULO 3: Provisão para rescisão (M3)",null,{"$f":"D67","v":252.87}]
["D","MÓDULO 4: Custo de reposição do profissional ausente (M4)",null,{"$f":"D77","v":421.82}]
["E","MÓDULO 5: Insumos de mão de obra (M5)",null,{"$f":"D82","v":268.32000000000005}]
["Subtotal (A + B + C + D + E)",null,null,{"$f":"SUM(D102:D106)","v":5008.7699999999995}]
["F","MÓDULO 6: Custos indiretos, tributos e lucro (M6)",null,{"$f":"D98","v":1437.5169899999999}]
["Custo mensal do posto",null,null,{"$f":"D107+D108","v":6446.2869899999996}]
["G","RESERVA MENSAL CONTA VINCULADA",null,{"$f":"D38+D67","v":633.14}]
["H","RESERVA MENSAL REPOSIÇÃO",null,{"$f":"D77","v":421.82}]
["I","CUSTO MENSAL ORDINÁRIO",null,{"$f":"D109-D110-D111","v":5391.3269899999996}]

{"sheet":"9.Enca","index":9,"n_rows":112,"n_cols":4,"rows_kept":112,"cut":false,"hidden":false,"merged":[[98,0,98,3],[99,0,99,3],[100,0,100,3],[106,0,106,2],[108,0,108,2],[97,0,97,2],[66,0,66,2],[67,0,67,3],[68,0,68,3],[76,0,76,2],[77,0,77,3],[78,0,78,3],[81,0,81,2],[82,0,82,3],[83,0,83,3],[84,0,84,3],[96,0,96,1],[60,0,60,3],[19,2,19,3],[20,0,20,3],[21,0,21,3],[22,1,22,2],[30,0,30,2],[31,0,31,3],[32,0,32,3],[37,0,37,2],[39,1,39,2],[58,0,58,2],[59,0,59,3],[18,2,18,3],[0,0,0,3],[1,0,1,3],[9,0,9,3],[10,0,10,3],[11,0,11,3],[12,2,12,3],[13,2,13,3],[14,2,14,3],[15,2,15,3],[16,2,16,3],[17,2,17,3]]}
["PLANILHAS DE CUSTOS E FORMAÇÃO DE PREÇOS"]
["Discriminação dos serviços"]
["A","Data da Apresentação da Proposta: ",null,"2024-08-26"]
["B","Munícipio/UF: ",null,"Brasília/DF"]
["C","Ano do Acordo, Convenção ou Dissídio Coletivo:","SINDISERVICOS/DF",2024]
["D","Número de meses de execução contratual:",null,{"$f":"12*5","v":60}]
["E","Tipo de serviço:",null,"Continuado"]
["F","Unidade de medida",null,"Posto"]
["G","Quantidade total a contratar (em função da unidade de medida):",null,1]
[]
["Mão de obra vinculada à execução contratual"]
["Dados complementares para composição dos custos referente à mão de obra"]
[1,"Tipo de serviço ","Técnico em Manutenção e Hidráulica"]
[2,"Classificação Brasileira de Ocupações (CBO)","7241-10"]
[3,"Categoria profissional (vinculada à execução contratual)","Encanador"]
[4,"Data base CCT","2024-01-01"]
[5,"Vigência CCT","2024-12-31"]
[6,"Carga horia semanal","44 horas/semana"]
[7,"Piso normativo da categoria profissional",2405.96]
[8,"Salário proposto no contrato",2887.15]
[]
["MÓDULO 1: Composição da remuneração (M1)"]
[1,"Composição da Remuneração",null,"Valor (R$)"]
["A","Salário Base",1,{"$f":"C20","v":2887.15}]
["B","Adicional de periculosidade",0,{"$f":"ROUNDUP($D$24*C25,2)","v":0}]
["C","Adicional de Insalubridade",0.4,{"$f":"ROUNDUP($D$24*C26,2)","v":1154.8599999999999}]
["D","Adicional Noturno",0,0]
["E","Hora Noturna Adicional",0,0]
["F","Adicional de Hora Extra",0,0]
["G","Outros (especificar)",0,0]
["Total do Módulo 1",null,null,{"$f":"SUM(D24:D30)","v":4042.01}]
[]
["MÓDULO 2: Encargos e benefícios anuais, mensais e diários (M2)"]
["2.1","13º (décimo terceiro) salário, férias e adicional de férias","Porcentagem (%)","Valor (R$)"]
["A","13º salário   ",8.3299999999999999E-2,{"$f":"ROUNDUP($D$31/12,2)","v":336.84}]
["B","Férias",8.3299999999999999E-2,{"$f":"ROUNDUP($D$31/12,2)","v":336.84}]
["C","Adicional de Férias (1/3 Constitucional)",{"$f":"C36/3","v":2.7766666666666665E-2},{"$f":"ROUNDUP($D$31/3/12,2)","v":112.28}]
["Total submódulo 2.1",null,null,{"$f":"SUM(D35:D37)","v":785.95999999999992}]
[]
["2.2"," GPS, FGTS e outras contribuições",null,"Valor (R$)"]
["A","INSS (com/sem desoneração)",0,{"$f":"ROUNDUP($D$31*C41,2)","v":0}]
["B","Salário Educação",2.5000000000000001E-2,{"$f":"ROUNDUP($D$31*C42,2)","v":101.06}]
["C","SAT",0.03,121.27000000000001]
["D","SESC - SESI",1.4999999999999999E-2,60.64]
["E","SENAI - SENAC",0.01,40.43]
["F","SEBRAE",6.0000000000000001E-3,24.26]
["G","INCRA",2E-3,8.09]
["H","FGTS",0.08,323.37]
["I","SECONCI",0.01,40.43]
[null,"Total submódulo 2.2",{"$f":"SUM(C41:C49)","v":0.17800000000000002},{"$f":"SUM(D41:D49)","v":719.55}]
[]
["2.3","Benefícios mensais e diários","Referência","Valor (R$)"]
["A","Vale transporte","CLT",{"$f":"ROUND(IF((22*5.5*2)-(D31*0.06*22/30)>0,(22*5.5*2)-(D31*0.06*22/30),0),2)","v":64.150000000000006}]
["B","Vale alimentação","CCT",{"$f":"42.2*22","v":928.40000000000009}]
["C","Assistência Médica-Odontológica e Familiar ","SICRO",287.48]
["D","Auxílio Creche ","CCT",0]
["E","Seguro de Vida e Assistência Funeral","SICRO",9.98]
[null,"Total submódulo 2.3",null,{"$f":"SUM(D53:D57)","v":1290.0100000000002}]
["Total do Módulo 2",null,null,{"$f":"D38+D50+D58","v":2795.52}]
[]
["MÓDULO 3: Provisão para rescisão (M3)"]
["A","Aviso Prévio Indenizado",3.2399999999999998E-2,{"$f":"ROUNDUP($D$31*C62,2)","v":130.97}]
["B","Aviso Prévio Trabalhado",8.0000000000000004E-4,{"$f":"ROUNDUP($D$31*C63,2)","v":3.2399999999999998}]
["C","Incidência dos encargos sobre o Aviso Prévio",2.8999999999999998E-3,11.73]
["D","Incidencia dos encargos sobre 13o-ferias (submodulo 2.2 sobre 2.1)",6.1199999999999997E-2,247.38]
["E","Multa sobre saldo FGTS",{"$f":"0.08*0.4","v":3.2000000000000001E-2},129.35]
["Total do Módulo 3",null,null,{"$f":"SUM(D62:D66)","v":522.66999999999996}]
[]
["MÓDULO 4: Custo mensal de reposição do profissional ausente (M4)"]
["X","Custo diário do empregado substituto ","Dias",{"$f":"ROUNDUP((D31+D59+D67)/30,2)","v":245.34}]
["A","Férias",{"$f":"ROUND(30/12,2)","v":2.5},{"$f":"ROUNDUP($D$70*C71,2)","v":613.35}]
["B","Ausências por enfermidade",{"$f":"ROUNDUP(0.66/100*360/12,2)","v":0.2},{"$f":"ROUNDUP($D$70*C72,2)","v":49.07}]
["C","Faltas Justificadas",{"$f":"ROUNDUP(0.56/100*360/12,2)","v":0.17},41.71]
["D","Ausência por acidente de trabalho",{"$f":"ROUNDUP(0.08/100*360/12,2)","v":0.03},7.37]
["E","Afastamento Parentalidade",{"$f":"ROUNDUP((0.05+0.03)/100*360/12,2)","v":0.03},7.37]
["F","Outros (especificar)",0,0]
["Total do Módulo 4",null,null,{"$f":"SUM(D71:D76)","v":718.87000000000012}]
[]
["MÓDULO 5: Insumos de mão de obra (M5)"]
["A","EPI e Uniforme","SINAPI Encanador",{"$f":"EPI!M4","v":120.20000000000002}]
["B","Materiais e ferramentas ","SINAPI Encanador",{"$f":"FER!M4","v":59.27}]
["Total do Módulo 5",null,null,{"$f":"SUM(D80:D81)","v":179.47000000000003}]
["Nota: Valores mensais por empregado."]
[]
["MÓDULO 6: Custos indiretos, tributos e lucro (M6)"]
["A","Custos Indiretos   ","SINAPI",{"$f":"BDI!C2","v":4.8000000000000001E-2}]
["A.1","Administração Central","SINAPI",{"$f":"BDI!C3","v":0.03}]
["A.2","Seguros e Garantias Contratuais","SINAPI",{"$f":"BDI!C4","v":8.0000000000000002E-3}]
["A.3","Riscos","SINAPI",{"$f":"BDI!C5","v":0.01}]
["B","Despesas Financeiras","SINAPI",{"$f":"BDI!C6","v":6.1999999999999998E-3}]
["C","Lucro  ","SINAPI",{"$f":"BDI!C7","v":0.06}]
["D","Tributos Federais e Estaduais/Municipais ","SINAPI",{"$f":"BDI!C8","v":0.13150000000000001}]
["D.1","COFINS","SINAPI",{"$f":"BDI!C9","v":0.03}]
["D.2","PIS","SINAPI",{"$f":"BDI!C10","v":6.4999999999999997E-3}]
["D.3","CPRB - (com/sem desoneração)","SINAPI",{"$f":"BDI!C11","v":4.4999999999999998E-2}]
["D.4","ISSQN","SINAPI",{"$f":"BDI!C12","v":0.05}]
["Total ",null,null,{"$f":"BDI!C13","v":0.28699999999999998}]
["Total do Módulo 6",null,null,{"$f":"D107*(D97)","v":2370.2009800000001}]
[]
["QUADRO-RESUMO CUSTO POR EMPREGADO"]
["Mão-de-obra vinculada à execução contratual (valor por empregado)"]
["A","MÓDULO 1: Composição da remuneração (M1)",null,{"$f":"D31","v":4042.01}]
["B","MÓDULO 2: Encargos e benefícios anuais, mensais e diários (M2)",null,{"$f":"D59","v":2795.52}]
["C","MÓDULO 3: Provisão para rescisão (M3)",null,{"$f":"D67","v":522.66999999999996}]
["D","MÓDULO 4: Custo de reposição do profissional ausente (M4)",null,{"$f":"D77","v":718.87000000000012}]
["E","MÓDULO 5: Insumos de mão de obra (M5)",null,{"$f":"D82","v":179.47000000000003}]
["Subtotal (A + B + C + D + E)",null,null,{"$f":"SUM(D102:D106)","v":8258.5400000000009}]
["F","MÓDULO 6: Custos indiretos, tributos e lucro (M6)",null,{"$f":"D98","v":2370.2009800000001}]
["Custo mensal do posto",null,null,{"$f":"D107+D108","v":10628.74098}]
["G","RESERVA MENSAL CONTA VINCULADA",null,{"$f":"D38+D67","v":1308.6299999999999}]
["H","RESERVA MENSAL REPOSIÇÃO",null,{"$f":"D77","v":718.87000000000012}]
["I","CUSTO MENSAL ORDINÁRIO",null,{"$f":"D109-D110-D111","v":8601.2409800000005}]

{"sheet":"10.Aju-9","index":10,"n_rows":112,"n_cols":4,"rows_kept":112,"cut":false,"hidden":false,"merged":[[98,0,98,3],[99,0,99,3],[100,0,100,3],[106,0,106,2],[108,0,108,2],[97,0,97,2],[66,0,66,2],[67,0,67,3],[68,0,68,3],[76,0,76,2],[77,0,77,3],[78,0,78,3],[81,0,81,2],[82,0,82,3],[83,0,83,3],[84,0,84,3],[96,0,96,1],[60,0,60,3],[19,2,19,3],[20,0,20,3],[21,0,21,3],[22,1,22,2],[30,0,30,2],[31,0,31,3],[32,0,32,3],[37,0,37,2],[39,1,39,2],[58,0,58,2],[59,0,59,3],[18,2,18,3],[0,0,0,3],[1,0,1,3],[9,0,9,3],[10,0,10,3],[11,0,11,3],[12,2,12,3],[13,2,13,3],[14,2,14,3],[15,2,15,3],[16,2,16,3],[17,2,17,3]]}
["PLANILHAS DE CUSTOS E FORMAÇÃO DE PREÇOS"]
["Discriminação dos serviços"]
["A","Data da Apresentação da Proposta: ",null,"2024-08-26"]
["B","Munícipio/UF: ",null,"Brasília/DF"]
["C","Ano do Acordo, Convenção ou Dissídio Coletivo:","SINDISERVICOS/DF",2024]
["D","Número de meses de execução contratual:",null,{"$f":"12*5","v":60}]
["E","Tipo de serviço:",null,"Continuado"]
["F","Unidade de medida",null,"Posto"]
["G","Quantidade total a contratar (em função da unidade de medida):",null,1]
[]
["Mão de obra vinculada à execução contratual"]
["Dados complementares para composição dos custos referente à mão de obra"]
[1,"Tipo de serviço ","Ajudante Geral"]
[2,"Classificação Brasileira de Ocupações (CBO)","7170-20"]
[3,"Categoria profissional (vinculada à execução contratual)","Ajudante de obras"]
[4,"Data base CCT","2024-01-01"]
[5,"Vigência CCT","2024-12-31"]
[6,"Carga horia semanal","44 horas/semana"]
[7,"Piso normativo da categoria profissional",1629.62]
[8,"Salário proposto no contrato",1955.54]
[]
["MÓDULO 1: Composição da remuneração (M1)"]
[1,"Composição da Remuneração",null,"Valor (R$)"]
["A","Salário Base",1,{"$f":"C20","v":1955.54}]
["B","Adicional de periculosidade",0,{"$f":"ROUNDUP($D$24*C25,2)","v":0}]
["C","Adicional de Insalubridade",0,{"$f":"ROUNDUP($D$24*C26,2)","v":0}]
["D","Adicional Noturno",0,0]
["E","Hora Noturna Adicional",0,0]
["F","Adicional de Hora Extra",0,0]
["G","Outros (especificar)",0,0]
["Total do Módulo 1",null,null,{"$f":"SUM(D24:D30)","v":1955.54}]
[]
["MÓDULO 2: Encargos e benefícios anuais, mensais e diários (M2)"]
["2.1","13º (décimo terceiro) salário, férias e adicional de férias","Porcentagem (%)","Valor (R$)"]
["A","13º salário   ",8.3299999999999999E-2,{"$f":"ROUNDUP($D$31/12,2)","v":162.97}]
["B","Férias",8.3299999999999999E-2,{"$f":"ROUNDUP($D$31/12,2)","v":162.97}]
["C","Adicional de Férias (1/3 Constitucional)",{"$f":"C36/3","v":2.7766666666666665E-2},{"$f":"ROUNDUP($D$31/3/12,2)","v":54.33}]
["Total submódulo 2.1",null,null,{"$f":"SUM(D35:D37)","v":380.27}]
[]
["2.2"," GPS, FGTS e outras contribuições",null,"Valor (R$)"]
["A","INSS (com/sem desoneração)",0,{"$f":"ROUNDUP($D$31*C41,2)","v":0}]
["B","Salário Educação",2.5000000000000001E-2,{"$f":"ROUNDUP($D$31*C42,2)","v":48.89}]
["C","SAT",0.03,58.669999999999995]
["D","SESC - SESI",1.4999999999999999E-2,29.34]
["E","SENAI - SENAC",0.01,19.560000000000002]
["F","SEBRAE",6.0000000000000001E-3,11.74]
["G","INCRA",2E-3,3.92]
["H","FGTS",0.08,156.44999999999999]
["I","SECONCI",0.01,19.560000000000002]
[null,"Total submódulo 2.2",{"$f":"SUM(C41:C49)","v":0.17800000000000002},{"$f":"SUM(D41:D49)","v":348.13}]
[]
["2.3","Benefícios mensais e diários","Referência","Valor (R$)"]
["A","Vale transporte","CLT",{"$f":"ROUND(IF((22*5.5*2)-(D31*0.06*22/30)>0,(22*5.5*2)-(D31*0.06*22/30),0),2)","v":155.96}]
["B","Vale alimentação","CCT",{"$f":"42.2*22","v":928.40000000000009}]
["C","Assistência Médica-Odontológica e Familiar ","SICRO",287.48]
["D","Auxílio Creche ","CCT",0]
["E","Seguro de Vida e Assistência Funeral","SICRO",9.98]
[null,"Total submódulo 2.3",null,{"$f":"SUM(D53:D57)","v":1381.8200000000002}]
["Total do Módulo 2",null,null,{"$f":"D38+D50+D58","v":2110.2200000000003}]
[]
["MÓDULO 3: Provisão para rescisão (M3)"]
["A","Aviso Prévio Indenizado",3.2399999999999998E-2,{"$f":"ROUNDUP($D$31*C62,2)","v":63.36}]
["B","Aviso Prévio Trabalhado",8.0000000000000004E-4,{"$f":"ROUNDUP($D$31*C63,2)","v":1.57}]
["C","Incidência dos encargos sobre o Aviso Prévio",2.8999999999999998E-3,5.68]
["D","Incidencia dos encargos sobre 13o-ferias (submodulo 2.2 sobre 2.1)",6.1199999999999997E-2,119.68]
["E","Multa sobre saldo FGTS",{"$f":"0.08*0.4","v":3.2000000000000001E-2},62.58]
["Total do Módulo 3",null,null,{"$f":"SUM(D62:D66)","v":252.87}]
[]
["MÓDULO 4: Custo mensal de reposição do profissional ausente (M4)"]
["X","Custo diário do empregado substituto ","Dias",{"$f":"ROUNDUP((D31+D59+D67)/30,2)","v":143.95999999999998}]
["A","Férias",{"$f":"ROUND(30/12,2)","v":2.5},{"$f":"ROUNDUP($D$70*C71,2)","v":359.9}]
["B","Ausências por enfermidade",{"$f":"ROUNDUP(0.66/100*360/12,2)","v":0.2},{"$f":"ROUNDUP($D$70*C72,2)","v":28.8}]
["C","Faltas Justificadas",{"$f":"ROUNDUP(0.56/100*360/12,2)","v":0.17},24.48]
["D","Ausência por acidente de trabalho",{"$f":"ROUNDUP(0.08/100*360/12,2)","v":0.03},4.3199999999999994]
["E","Afastamento Parentalidade",{"$f":"ROUNDUP((0.05+0.03)/100*360/12,2)","v":0.03},4.3199999999999994]
["F","Outros (especificar)",0,0]
["Total do Módulo 4",null,null,{"$f":"SUM(D71:D76)","v":421.82}]
[]
["MÓDULO 5: Insumos de mão de obra (M5)"]
["A","EPI e Uniforme","SINAPI Pintor",{"$f":"EPI!M7","v":246.49999999999997}]
["B","Materiais e ferramentas ","SINAPI Pintor",{"$f":"FER!M7","v":269.81}]
["Total do Módulo 5",null,null,{"$f":"SUM(D80:D81)","v":516.30999999999995}]
["Nota: Valores mensais por empregado."]
[]
["MÓDULO 6: Custos indiretos, tributos e lucro (M6)"]
["A","Custos Indiretos   ","SINAPI",{"$f":"BDI!C2","v":4.8000000000000001E-2}]
["A.1","Administração Central","SINAPI",{"$f":"BDI!C3","v":0.03}]
["A.2","Seguros e Garantias Contratuais","SINAPI",{"$f":"BDI!C4","v":8.0000000000000002E-3}]
["A.3","Riscos","SINAPI",{"$f":"BDI!C5","v":0.01}]
["B","Despesas Financeiras","SINAPI",{"$f":"BDI!C6","v":6.1999999999999998E-3}]
["C","Lucro  ","SINAPI",{"$f":"BDI!C7","v":0.06}]
["D","Tributos Federais e Estaduais/Municipais ","SINAPI",{"$f":"BDI!C8","v":0.13150000000000001}]
["D.1","COFINS","SINAPI",{"$f":"BDI!C9","v":0.03}]
["D.2","PIS","SINAPI",{"$f":"BDI!C10","v":6.4999999999999997E-3}]
["D.3","CPRB - (com/sem desoneração)","SINAPI",{"$f":"BDI!C11","v":4.4999999999999998E-2}]
["D.4","ISSQN","SINAPI",{"$f":"BDI!C12","v":0.05}]
["Total ",null,null,{"$f":"BDI!C13","v":0.28699999999999998}]
["Total do Módulo 6",null,null,{"$f":"D107*(D97)","v":1508.69012}]
[]
["QUADRO-RESUMO CUSTO POR EMPREGADO"]
["Mão-de-obra vinculada à execução contratual (valor por empregado)"]
["A","MÓDULO 1: Composição da remuneração (M1)",null,{"$f":"D31","v":1955.54}]
["B","MÓDULO 2: Encargos e benefícios anuais, mensais e diários (M2)",null,{"$f":"D59","v":2110.2200000000003}]
["C","MÓDULO 3: Provisão para rescisão (M3)",null,{"$f":"D67","v":252.87}]
["D","MÓDULO 4: Custo de reposição do profissional ausente (M4)",null,{"$f":"D77","v":421.82}]
["E","MÓDULO 5: Insumos de mão de obra (M5)",null,{"$f":"D82","v":516.30999999999995}]
["Subtotal (A + B + C + D + E)",null,null,{"$f":"SUM(D102:D106)","v":5256.76}]
["F","MÓDULO 6: Custos indiretos, tributos e lucro (M6)",null,{"$f":"D98","v":1508.69012}]
["Custo mensal do posto",null,null,{"$f":"D107+D108","v":6765.4501200000004}]
["G","RESERVA MENSAL CONTA VINCULADA",null,{"$f":"D38+D67","v":633.14}]
["H","RESERVA MENSAL REPOSIÇÃO",null,{"$f":"D77","v":421.82}]
["I","CUSTO MENSAL ORDINÁRIO",null,{"$f":"D109-D110-D111","v":5710.4901200000004}]

{"sheet":"BDI","index":11,"n_rows":28,"n_cols":3,"rows_kept":28,"cut":false,"hidden":false,"merged":[[15,0,15,2],[27,0,27,1],[28,0,28,2],[13,0,13,2],[0,0,0,2],[12,0,12,1]]}
["BDI SERVIÇOS"]
["A","Custos Indiretos   ",{"$f":"SUM(C3:C5)","v":4.8000000000000001E-2}]
["A.1","Administração Central",0.03]
["A.2","Seguros e Garantias Contratuais",8.0000000000000002E-3]
["A.3","Riscos",0.01]
["B","Despesas Financeiras",6.1999999999999998E-3]
["C","Lucro  ",0.06]
["D","Tributos Federais e Estaduais/Municipais ",{"$f":"SUM(C9:C12)","v":0.13150000000000001}]
["D.1","COFINS",0.03]
["D.2","PIS",6.4999999999999997E-3]
["D.3","CPRB - (com/sem desoneração)",4.4999999999999998E-2]
["D.4","ISSQN",0.05]
["Total ",null,{"$f":"ROUND((1+C2)*(1+C6)*(1+C7)/(1-C8)-1,4)","v":0.28699999999999998}]
[]
[]
["BDI MATERIAIS"]
["A","Custos Indiretos   ",{"$f":"SUM(C18:C20)","v":4.7800000000000002E-2}]
["A.1","Administração Central",3.4500000000000003E-2]
["A.2","Seguros e Garantias Contratuais",4.7999999999999996E-3]
["A.3","Riscos",8.5000000000000006E-3]
["B","Despesas Financeiras",8.5000000000000006E-3]
["C","Lucro  ",5.11E-2]
["D","Tributos Federais e Estaduais/Municipais ",{"$f":"SUM(C24:C27)","v":4.4999999999999998E-2}]
["D.1","COFINS",0]
["D.2","PIS",0]
["D.3","CPRB - (com/sem desoneração)",4.4999999999999998E-2]
["D.4","ISSQN",0]
["Total ",null,{"$f":"ROUND((1+C17)*(1+C21)*(1+C22)/(1-C23)-1,4)","v":0.16300000000000001}]

{"sheet":"MAT","index":12,"n_rows":255,"n_cols":15,"rows_kept":255,"cut":false,"hidden":false,"merged":[[2,0,2,9],[0,4,0,5],[0,8,0,9],[1,4,1,5],[1,8,1,9]]}
[null,null,null,"Obra","Bancos",null,"BDI SINAPI","BDI Proposta","Encargos Sociais",{"$nulls":4},"DESÁGIO s/ BDI","DESÁGIO c/ BDI"]
[null,null,null,"Itens de manutenção","SINAPI - 07/2024 - Distrito Federal\nSBC - 07/2024 - Distrito Federal\nORSE - 06/2024 - Sergipe\nSEINFRA - 028 - Ceará\nSETOP - 04/2024 - Minas Gerais\nCPOS/CDHU - 06/2024 - São Paulo\nFDE - 04/2024 - São Paulo\nAGETOP CIVIL - 04/2024 - Goiás\nSCO - 07/2024 - Rio de Janeiro\n",null,0.16300000000000001,{"$f":"BDI!$C$28","v":0.16300000000000001},"Não Desonerado: embutido nos preços unitário dos insumos de mão de obra, de acordo com as bases.",{"$nulls":4},{"$f":"ROUND((N5-I5)/N5,4)","v":-6.6E-3},{"$f":"ROUND((O5-J5)/O5,4)","v":-6.6E-3}]
["Orçamento Sintético"]
["Item","Código","Banco","Descrição","Und","Quant.","Valor Unit Proposta s/ BDI","Valor Unit  Proposta c/ BDI","Total s/ BDI","Total c/ BDI",null,"Valor Unit Referencia s/ BDI","Valor Unit Referencia c/ BDI","Total s/ BDI","Total c/ BDI"]
["TOTAL",{"$nulls":7},{"$f":"I6+I12+I17+I51+I60+I83+I97+I144+I149+I154+I159+I163+I168+I173+I218+I225+I243","v":575328.22},{"$f":"J6+J12+J17+J51+J60+J83+J97+J144+J149+J154+J159+J163+J168+J173+J218+J225+J243","v":669072.17999999993},null,null,null,{"$f":"N6+N12+N17+N51+N60+N83+N97+N144+N149+N154+N159+N163+N168+N173+N218+N225+N243","v":571572.82000000007},{"$f":"O6+O12+O17+O51+O60+O83+O97+O144+O149+O154+O159+O163+O168+O173+O218+O225+O243","v":664705.17999999993}]
[" 1.1 ",null,null,"Tubo água fria",{"$nulls":4},{"$f":"SUM(I7:I11)","v":2439},{"$f":"SUM(J7:J11)","v":2836.5},null,null,null,{"$f":"SUM(N7:N11)","v":2439},{"$f":"SUM(O7:O11)","v":2836.5}]
[" 1.1.1 "," 00009867 ","SINAPI","TUBO PVC, SOLDAVEL, DE 20 MM, AGUA FRIA (NBR-5648)","M",60,3.43,{"$f":"ROUND(G7*(1+$H$2),2)","v":3.99},{"$f":"ROUND(G7*F7,2)","v":205.8},{"$f":"ROUND(H7*F7,2)","v":239.4},null,3.43,{"$f":"ROUND(L7*(1+$G$2),2)","v":3.99},{"$f":"ROUND(L7*$F7,2)","v":205.8},{"$f":"ROUND(M7*$F7,2)","v":239.4}]
[" 1.1.2 "," 00009868 ","SINAPI","TUBO PVC, SOLDAVEL, DE 25 MM, AGUA FRIA (NBR-5648)","M",60,3.87,{"$f":"ROUND(G8*(1+$H$2),2)","v":4.5},{"$f":"ROUND(G8*F8,2)","v":232.2},{"$f":"ROUND(H8*F8,2)","v":270},null,3.87,{"$f":"ROUND(L8*(1+$G$2),2)","v":4.5},{"$f":"ROUND(L8*$F8,2)","v":232.2},{"$f":"ROUND(M8*$F8,2)","v":270}]
[" 1.1.3 "," 00009874 ","SINAPI","TUBO PVC, SOLDAVEL, DE 40 MM, AGUA FRIA (NBR-5648)","M",30,13.11,15.25,393.3,457.5,null,13.11,15.25,393.3,457.5]
[" 1.1.4 "," 00009875 ","SINAPI","TUBO PVC, SOLDAVEL, DE 50 MM, AGUA FRIA (NBR-5648)","M",30,14.38,16.72,431.4,501.6,null,14.38,16.72,431.4,501.6]
[" 1.1.5 "," 00009871 ","SINAPI","TUBO PVC, SOLDAVEL, DE 75 MM, AGUA FRIA (NBR-5648)","M",30,39.21,45.6,1176.3,1368,null,39.21,45.6,1176.3,1368]
[" 1.2 ",null,null,"Tubo esgoto",{"$nulls":4},{"$f":"SUM(I13:I16)","v":1581},{"$f":"SUM(J13:J16)","v":1838.4},null,null,null,{"$f":"SUM(N13:N16)","v":1581},{"$f":"SUM(O13:O16)","v":1838.4}]
[" 1.2.1 "," 00009835 ","SINAPI","TUBO PVC SERIE NORMAL, DN 40 MM, PARA ESGOTO PREDIAL (NBR 5688)","M",30,5.61,6.52,168.3,195.6,null,5.61,{"$f":"ROUND(L13*(1+$G$2),2)","v":6.52},168.3,{"$f":"ROUND(M13*$F13,2)","v":195.6}]
[" 1.2.2 "," 00009838 ","SINAPI","TUBO PVC SERIE NORMAL, DN 50 MM, PARA ESGOTO PREDIAL (NBR 5688)","M",30,9.26,10.77,277.8,323.10000000000002,null,9.26,10.77,277.8,{"$f":"ROUND(M14*$F14,2)","v":323.10000000000002}]
[" 1.2.3 "," 00009837 ","SINAPI","TUBO PVC SERIE NORMAL, DN 75 MM, PARA ESGOTO PREDIAL (NBR 5688)","M",30,12.15,14.13,364.5,423.9,null,12.15,14.13,364.5,423.9]
[" 1.2.4 "," 00009836 ","SINAPI","TUBO PVC SERIE NORMAL, DN 100 MM, PARA ESGOTO PREDIAL (NBR 5688)","M",60,12.84,14.93,770.4,895.8,null,12.84,14.93,770.4,895.8]
[" 1.3 ",null,null,"Conexões água fria",{"$nulls":4},{"$f":"SUM(I18:I50)","v":6377.4499999999989},{"$f":"SUM(J18:J50)","v":7416.65},null,null,null,{"$f":"SUM(N18:N50)","v":6377.4499999999989},{"$f":"SUM(O18:O50)","v":7416.65}]
[" 1.3.1 "," 005726 ","SBC","PLUG PVC ROSCAVEL 3/4\"","UN",25,1.72,2,43,50,null,1.72,2,43,{"$f":"ROUND(M18*$F18,2)","v":50}]
[" 1.3.2 "," 005725 ","SBC","PLUG PVC ROSCAVEL 1/2\"","UN",25,1.1299999999999999,1.31,28.25,32.75,null,1.1299999999999999,1.31,28.25,{"$f":"ROUND(M19*$F19,2)","v":32.75}]
[" 1.3.3 "," 00003542 ","SINAPI","JOELHO PVC, SOLDAVEL, 90 GRAUS, 20 MM, COR MARROM, PARA AGUA FRIA PREDIAL","UN",30,0.55000000000000004,0.64,16.5,19.2,null,0.55000000000000004,0.64,16.5,19.2]
[" 1.3.4 "," 00003529 ","SINAPI","JOELHO PVC, SOLDAVEL, 90 GRAUS, 25 MM, COR MARROM, PARA AGUA FRIA PREDIAL","UN",30,0.68,0.79,20.399999999999999,23.7,null,0.68,0.79,20.399999999999999,23.7]
[" 1.3.5 "," 00003515 ","SINAPI","JOELHO PVC, SOLDAVEL, COM BUCHA DE LATAO, 90 GRAUS, 20 MM X 1/2\", PARA AGUA FRIA PREDIAL","UN",30,6.07,7.06,182.1,211.8,null,6.07,7.06,182.1,211.8]
[" 1.3.6 "," 00003524 ","SINAPI","JOELHO PVC, SOLDAVEL, COM BUCHA DE LATAO, 90 GRAUS, 25 MM X 3/4\", PARA AGUA FRIA PREDIAL","UN",30,7.51,8.73,225.3,261.89999999999998,null,7.51,8.73,225.3,261.89999999999998]
[" 1.3.7 "," 00001955 ","SINAPI","CURVA DE PVC 90 GRAUS, SOLDAVEL, 20 MM, COR MARROM, PARA AGUA FRIA PREDIAL","UN",10,1.97,2.29,19.7,22.9,null,1.97,2.29,19.7,22.9]
[" 1.3.8 "," 00001956 ","SINAPI","CURVA DE PVC 90 GRAUS, SOLDAVEL, 25 MM, COR MARROM, PARA AGUA FRIA PREDIAL","UN",10,3,3.49,30,34.9,null,3,3.49,30,34.9]
[" 1.3.9 "," 00003499 ","SINAPI","JOELHO, PVC SOLDAVEL, 45 GRAUS, 20 MM, COR MARROM, PARA AGUA FRIA PREDIAL","UN",15,1.05,1.22,15.75,18.3,null,1.05,1.22,15.75,18.3]
[" 1.3.10 "," 00003500 ","SINAPI","JOELHO, PVC SOLDAVEL, 45 GRAUS, 25 MM, COR MARROM, PARA AGUA FRIA PREDIAL","UN",15,1.4,1.63,21,24.45,null,1.4,1.63,21,24.45]
[" 1.3.11 "," 00001926 ","SINAPI","CURVA DE PVC 45 GRAUS, SOLDAVEL, 20 MM, COR MARROM, PARA AGUA FRIA PREDIAL","UN",10,2.04,2.37,20.399999999999999,23.7,null,2.04,2.37,20.399999999999999,23.7]
[" 1.3.12 "," 00001927 ","SINAPI","CURVA DE PVC 45 GRAUS, SOLDAVEL, 25 MM, COR MARROM, PARA AGUA FRIA PREDIAL","UN",10,2.2799999999999998,2.65,22.8,26.5,null,2.2799999999999998,2.65,22.8,26.5]
[" 1.3.13 "," 00003854 ","SINAPI","LUVA DE CORRER PARA TUBO SOLDAVEL, PVC, 20 MM, PARA AGUA FRIA PREDIAL","UN",15,9.8800000000000008,11.49,148.19999999999999,172.35,null,9.8800000000000008,11.49,148.19999999999999,172.35]
[" 1.3.14 "," 00003873 ","SINAPI","LUVA DE CORRER PARA TUBO SOLDAVEL, PVC, 25 MM, PARA AGUA FRIA PREDIAL","UN",10,11.5,13.37,115,133.69999999999999,null,11.5,13.37,115,133.69999999999999]
[" 1.3.15 "," 00043838 ","SINAPI","LUVA DE CORRER PARA TUBO SOLDAVEL, PVC, 40 MM, PARA AGUA FRIA PREDIAL","UN",15,26.39,30.69,395.85,460.35,null,26.39,30.69,395.85,460.35]
[" 1.3.16 "," 00003847 ","SINAPI","LUVA DE CORRER PARA TUBO SOLDAVEL, PVC, 50 MM, PARA AGUA FRIA PREDIAL","UN",5,26.61,30.95,133.05000000000001,154.75,null,26.61,30.95,133.05000000000001,154.75]
[" 1.3.17 "," 00007138 ","SINAPI","TE SOLDAVEL, PVC, 90 GRAUS, 20 MM, PARA AGUA FRIA PREDIAL (NBR 5648)","UN",15,0.99,1.1499999999999999,14.85,17.25,null,0.99,1.1499999999999999,14.85,17.25]
[" 1.3.18 "," 00007139 ","SINAPI","TE SOLDAVEL, PVC, 90 GRAUS, 25 MM, PARA AGUA FRIA PREDIAL (NBR 5648)","UN",15,1.1200000000000001,1.3,16.8,19.5,null,1.1200000000000001,1.3,16.8,19.5]
[" 1.3.19 "," 00007141 ","SINAPI","TE SOLDAVEL, PVC, 90 GRAUS, 40 MM, PARA AGUA FRIA PREDIAL (NBR 5648)","UN",10,8.59,9.99,85.9,99.9,null,8.59,9.99,85.9,99.9]
[" 1.3.20 "," 00007142 ","SINAPI","TE SOLDAVEL, PVC, 90 GRAUS,50 MM, PARA AGUA FRIA PREDIAL (NBR 5648)","UN",10,8.99,10.46,89.9,104.6,null,8.99,10.46,89.9,104.6]
[" 1.3.21 "," 00007121 ","SINAPI","TE PVC, SOLDAVEL, COM BUCHA DE LATAO NA BOLSA CENTRAL, 90 GRAUS, 20 MM X 1/2\", PARA AGUA FRIA PREDIAL","UN",15,8.5399999999999991,9.93,128.1,148.94999999999999,null,8.5399999999999991,9.93,128.1,148.94999999999999]
[" 1.3.22 "," 00007137 ","SINAPI","TE PVC, SOLDAVEL, COM BUCHA DE LATAO NA BOLSA CENTRAL, 90 GRAUS, 25 MM X 1/2\", PARA AGUA FRIA PREDIAL","UN",15,9.32,10.84,139.80000000000001,162.6,null,9.32,10.84,139.80000000000001,162.6]
[" 1.3.23 "," 00007104 ","SINAPI","TE DE REDUCAO, PVC, SOLDAVEL, 90 GRAUS, 25 MM X 20 MM, PARA AGUA FRIA PREDIAL","UN",15,3.57,4.1500000000000004,53.55,62.25,null,3.57,4.1500000000000004,53.55,62.25]
[" 1.3.24 "," 00011763 ","SINAPI","TORNEIRA DE BOIA CONVENCIONAL PARA CAIXA D","UN",5,251.65,292.67,1258.25,1463.35,null,251.65,292.67,1258.25,1463.35]
[" 1.3.25 "," 00007588 ","SINAPI","AUTOMATICO DE BOIA SUPERIOR / INFERIOR, *15* A / 250 V","UN",10,58,67.45,580,674.5,null,58,67.45,580,674.5]
[" 1.3.26 "," 00000821 ","SINAPI","BUCHA DE REDUCAO DE PVC, SOLDAVEL, LONGA, COM 75 X 50 MM, PARA AGUA FRIA PREDIAL","UN",5,17.59,20.46,87.95,102.3,null,17.59,20.46,87.95,102.3]
[" 1.3.27 "," 00038023 ","SINAPI","LUVA DE REDUCAO, SOLDAVEL, PVC, 50 X 25 MM, PARA AGUA FRIA PREDIAL","UN",5,5.8,6.75,29,33.75,null,5.8,6.75,29,33.75]
[" 1.3.28 "," 00003868 ","SINAPI","LUVA DE REDUCAO SOLDAVEL, PVC, 25 MM X 20 MM, PARA AGUA FRIA PREDIAL","UN",10,1.3,1.51,13,15.1,null,1.3,1.51,13,15.1]
[" 1.3.29 "," 00006038 ","SINAPI","REGISTRO DE PRESSAO PVC, ROSCAVEL, VOLANTE SIMPLES, DE 1/2\"","UN",10,10.18,11.84,101.8,118.4,null,10.18,11.84,101.8,118.4]
[" 1.3.30 "," 00011718 ","SINAPI","REGISTRO DE PRESSAO PVC, ROSCAVEL, VOLANTE SIMPLES, DE 3/4\"","UN",10,29.04,33.770000000000003,290.39999999999998,337.7,null,29.04,33.770000000000003,290.39999999999998,337.7]
[" 1.3.31 "," 00000082 ","SINAPI","ADAPTADOR PVC, SOLDAVEL, LONGO, COM FLANGE LIVRE, 75 MM X 2 1/2\", PARA CAIXA D","UN",5,189.33,220.19,946.65,1100.95,null,189.33,220.19,946.65,1100.95]
[" 1.3.32 "," 00000095 ","SINAPI","ADAPTADOR PVC SOLDAVEL, COM FLANGE E ANEL DE VEDACAO, 20 MM X 1/2\", PARA CAIXA D","UN",10,10.55,12.27,105.5,122.7,null,10.55,12.27,105.5,122.7]
["1.3.33",340311,"PAINEL DE PREÇOS","REFIL, MATERIAL: CARVÃO ATIVADO, APLICAÇÃO: FILTRO SOFT BY EVEREST","UN",30,33.29,{"$f":"ROUND(G50*(1+$H$2),2)","v":38.72},{"$f":"ROUND(G50*F50,2)","v":998.7},{"$f":"ROUND(H50*F50,2)","v":1161.5999999999999},null,33.29,{"$f":"ROUND(L50*(1+$G$2),2)","v":38.72},{"$f":"ROUND(L50*$F50,2)","v":998.7},{"$f":"ROUND(M50*$F50,2)","v":1161.5999999999999}]
[" 1.4 ",null,null,"Conexões esgoto",{"$nulls":4},{"$f":"SUM(I52:I59)","v":1920.15},{"$f":"SUM(J52:J59)","v":2233.3000000000002},null,null,null,{"$f":"SUM(N52:N59)","v":1920.15},{"$f":"SUM(O52:O59)","v":2233.3000000000002}]
[" 1.4.1 "," 00003670 ","SINAPI","JUNCAO SIMPLES, PVC, 45 GRAUS, DN 100 X 100 MM, SERIE NORMAL PARA ESGOTO PREDIAL","UN",5,20.69,24.06,103.45,120.3,null,20.69,24.06,{"$f":"ROUND(L52*$F52,2)","v":103.45},{"$f":"ROUND(M52*$F52,2)","v":120.3}]
[" 1.4.2 "," 00010909 ","SINAPI","JUNCAO DE REDUCAO INVERTIDA, PVC SOLDAVEL, 100 X 75 MM, SERIE NORMAL PARA ESGOTO PREDIAL","UN",10,19.12,22.24,191.2,222.4,null,19.12,22.24,191.2,{"$f":"ROUND(M53*$F53,2)","v":222.4}]
[" 1.4.3 "," 00003669 ","SINAPI","JUNCAO DE REDUCAO INVERTIDA, PVC SOLDAVEL, 75 X 50 MM, SERIE NORMAL PARA ESGOTO PREDIAL","UN",5,11.74,13.65,58.7,68.25,null,11.74,13.65,58.7,68.25]
[" 1.4.4 "," 00003659 ","SINAPI","JUNCAO SIMPLES DE REDUCAO, PVC, DN 100 X 50 MM, SERIE NORMAL PARA ESGOTO PREDIAL","UN",10,16.12,18.75,161.19999999999999,187.5,null,16.12,18.75,161.19999999999999,187.5]
[" 1.4.5 "," 00044945 ","SINAPI","SIFAO / TUBO SINFONADO EXTENSIVEL/SANFONADO, UNIVERSAL/ SIMPLES, ENTRE *50 A 70* CM, DE PLASTICO BRANCO","UN",25,9,10.47,225,261.75,null,9,10.47,225,261.75]
[" 1.4.6 "," 00006136 ","SINAPI","SIFAO EM METAL CROMADO PARA PIA OU LAVATORIO, 1 X 1.1/2\"","UN",5,163.44999999999999,190.09,817.25,950.45,null,163.44999999999999,190.09,817.25,950.45]
[" 1.4.7 "," 00011741 ","SINAPI","RALO SIFONADO CILINDRICO, PVC, 100 X 40 MM, COM GRELHA REDONDA BRANCA","UN",15,15.81,18.39,237.15,275.85000000000002,null,15.81,18.39,237.15,275.85000000000002]
[" 1.4.8 "," 00004030 ","SINAPI","VEU DE POLIESTER PARA IMPERMEABILIZACAO","m²",20,6.31,7.34,126.2,146.80000000000001,null,6.31,7.34,126.2,146.80000000000001]
[" 2 ",null,null,"Brocas, parafusos e ferragens",{"$nulls":4},{"$f":"SUM(I61:I82)","v":11227.350000000002},{"$f":"SUM(J61:J82)","v":13062.900000000001},null,null,null,{"$f":"SUM(N61:N82)","v":11227.350000000002},{"$f":"SUM(O61:O82)","v":13062.900000000001}]
[" 2.1 "," 00011950/SINAPI ","ORSE","Bucha de nylon sem aba s6, com parafuso de 4,20 x 40 mm em aco zincado com rosca soberba, cabeca chata e fenda phillips","un",5000,0.12,0.14000000000000001,600,700,null,0.12,0.14000000000000001,{"$f":"ROUND(L61*$F61,2)","v":600},{"$f":"ROUND(M61*$F61,2)","v":700}]
[" 2.2 "," 00007583/SINAPI ","ORSE","Bucha de nylon sem aba s8, com parafuso de 4,80 x 50 mm em aco zincado com rosca soberba, cabeca chata e fenda phillips","un",5000,0.25,0.28999999999999998,1250,1450,null,0.25,0.28999999999999998,1250,{"$f":"ROUND(M62*$F62,2)","v":1450}]
[" 2.3 "," 00007568/SINAPI ","ORSE","Bucha de nylon sem aba s10, com parafuso de 6,10 x 65 mm emaco zincado com rosca soberba, cabeca chata e fenda phillips","un",5000,0.36,0.42,1800,2100,null,0.36,0.42,1800,2100]
[" 2.4 "," 00039442 ","SINAPI","PARAFUSO DRY WALL, EM ACO ZINCADO, CABECA LENTILHA E PONTA AGULHA (LA), LARGURA 4,2 MM, COMPRIMENTO 13 MM","UN",4000,0.18,0.21,720,840,null,0.18,0.21,720,840]
[" 2.5 "," 062033 ","SBC","PARAFUSO ZINCADO AUTOBROCANTE FLANGEADO 4,2x19mm","CENTO",40,10,11.63,400,465.2,null,10,11.63,400,465.2]
[" 2.6 "," 11901 ","ORSE","Parafuso auto-atarraxante em aço inox - 4,2 x 32mm","un",4000,0.62,0.72,2480,2880,null,0.62,0.72,2480,2880]
[" 2.7 "," 00005090 ","SINAPI","CADEADO SIMPLES, CORPO EM LATAO MACICO, COM LARGURA DE 25 MM E ALTURA DE APROX 25 MM, HASTE CEMENTADA (NAO LONGA), EM ACO TEMPERADO COM DIAMETRO DE APROX 5,0 MM, INCLUINDO 2 CHAVES","UN",5,19.899999999999999,23.14,99.5,115.7,null,19.899999999999999,23.14,99.5,115.7]
[" 2.8 "," 00043603 ","SINAPI","CADEADO SIMPLES, CORPO EM LATAO MACICO, COM LARGURA DE 50 MM E ALTURA DE APROX 40 MM, HASTE CEMENTADA EM ACO TEMPERADO COM DIAMETRO DE APROX 8,0 MM, INCLUINDO 2 CHAVES","UN",5,42.32,49.22,211.6,246.1,null,42.32,49.22,211.6,246.1]
[" 2.12 "," 007818 ","SBC","FERRAMENTA - CONJUNTO BROCAS ACO RAPIDO 13 PECAS IRWIN","UN",10,184.95,215.1,1849.5,2151,null,184.95,215.1,1849.5,2151]
[" 2.13 "," MATED-11888 ","SETOP","BARRA ROSCADA DE AÇO (DIÂMETRO DA SEÇÃO: 1/4\"[6MM])","m",50,4.54,5.28,227,264,null,4.54,5.28,227,264]
[" 2.14 "," 00039997 ","SINAPI","PORCA ZINCADA, SEXTAVADA, DIAMETRO 1/4\"","UN",400,0.3,0.35,120,140,null,0.3,0.35,120,140]
[" 2.15 "," MATED-15972 ","SETOP","BARRA ROSCADA DE AÇO (DIÂMETRO DA SEÇÃO: 3/8\"[10MM])","m",50,7.14,8.3000000000000007,357,415,null,7.14,8.3000000000000007,357,415]
[" 2.16 "," 00004342 ","SINAPI","PORCA ZINCADA, SEXTAVADA, DIAMETRO 3/8\"","UN",400,0.22,{"$f":"ROUND(G73*(1+$H$2),2)","v":0.26},{"$f":"ROUND(G73*F73,2)","v":88},{"$f":"ROUND(H73*F73,2)","v":104},null,0.22,0.26,88,104]
[" 2.17 "," 11469 ","ORSE","Broca SDS plus IRWIN 6 x 110mm","un",10,12.57,14.62,125.7,146.19999999999999,null,12.57,14.62,125.7,146.19999999999999]
[" 2.18 "," 7898 ","ORSE","Broca SDS plus 12x260mm","un",10,50.17,58.35,501.7,583.5,null,50.17,58.35,501.7,583.5]
[" 2.19 "," BPF-1 MERC ","Próprio","Broca SDS plus 8 x 100 x 160 MM","un",10,13.79,16.04,137.9,160.4,null,13.79,16.04,137.9,160.4]
[" 2.20 "," BPF-2 MERC ","Próprio","Broca SDS plus 10 x 100 x 160 MM","un",10,15.8,18.38,158,183.8,null,15.8,18.38,158,183.8]
[" 2.21 "," BPF-3 MERC ","Próprio","Broca aço rápido 2 mm","un",5,1.66,1.93,8.3000000000000007,9.65,null,1.66,{"$f":"ROUND(L78*(1+$G$2),2)","v":1.93},8.3000000000000007,9.65]
[" 2.22 "," BPF-4 MERC ","Próprio","Broca aço rápido 2,5 mm","un",5,3.59,4.18,17.95,20.9,null,3.59,4.18,17.95,20.9]
[" 2.23 "," BPF-5 MERC ","Próprio","Broca aço rápido 3 mm","un",5,4,4.6500000000000004,20,23.25,null,4,4.6500000000000004,20,23.25]
[" 2.24 "," BPF-6 MERC ","Próprio","Broca aço rápido 3,5 mm","un",5,5.15,5.99,25.75,29.95,null,5.15,5.99,25.75,29.95]
[" 2.25 "," BPF-7 MERC ","Próprio","Broca aço rápido 4 mm","un",5,5.89,6.85,29.45,34.25,null,5.89,6.85,29.45,34.25]
[" 3 ",null,null,"Metais",{"$nulls":4},{"$f":"SUM(I84:I96)","v":26751.65},{"$f":"SUM(J84:J96)","v":31112.5},null,null,null,{"$f":"SUM(N84:N96)","v":26751.65},{"$f":"SUM(O84:O96)","v":31112.5}]
[" 3.1 "," 008395 ","SBC","DUCHA HIGIENICA FORUSI ABS SMALL 1856-C50","UN",50,120.9,140.61000000000001,6045,7030.5,null,120.9,140.61000000000001,{"$f":"ROUND(L84*$F84,2)","v":6045},{"$f":"ROUND(M84*$F84,2)","v":7030.5}]
[" 3.2 "," 00011781 ","SINAPI","VALVULA DE DESCARGA METALICA, BASE 1 1/4\" E ACABAMENTO METALICO CROMADO","UN",5,302.74,352.09,1513.7,1760.45,null,302.74,352.09,1513.7,{"$f":"ROUND(M85*$F85,2)","v":1760.45}]
[" 3.4 "," 00000377 ","SINAPI","ASSENTO SANITARIO DE PLASTICO, TIPO CONVENCIONAL","UN",30,44.9,52.22,1347,1566.6,null,44.9,52.22,1347,1566.6]
[" 3.5 "," 00037400 ","SINAPI","PAPELEIRA PLASTICA TIPO DISPENSER PARA PAPEL HIGIENICO ROLAO","UN",10,40.46,47.05,404.6,470.5,null,40.46,47.05,404.6,470.5]
[" 3.6 "," 00037401 ","SINAPI","TOALHEIRO PLASTICO TIPO DISPENSER PARA PAPEL TOALHA INTERFOLHADO","UN",10,40.46,47.05,404.6,470.5,null,40.46,47.05,404.6,470.5]
[" 3.7 "," 00011758 ","SINAPI","SABONETEIRA PLASTICA TIPO DISPENSER PARA SABONETE LIQUIDO COM RESERVATORIO 800 A 1500 ML","UN",20,38.869999999999997,45.21,777.4,904.2,null,38.869999999999997,45.21,777.4,904.2]
[" 3.8 "," 00011681 ","SINAPI","ENGATE/RABICHO FLEXIVEL PLASTICO (PVC OU ABS) BRANCO 1/2\" X 40 CM","UN",20,6.86,7.98,137.19999999999999,159.6,null,6.86,7.98,137.19999999999999,159.6]
[" 3.9 "," 00011684 ","SINAPI","ENGATE / RABICHO FLEXIVEL INOX 1/2\" X 40 CM","UN",10,41.02,47.71,410.2,477.1,null,41.02,47.71,410.2,477.1]
[" 3.10 "," 00036796 ","SINAPI","TORNEIRA METALICA CROMADA DE MESA, PARA LAVATORIO, TEMPORIZADA PRESSAO FECHAMENTO AUTOMATICO, BICA BAIXA","UN",20,139.35,162.06,2787,3241.2,null,139.35,162.06,2787,3241.2]
[" 3.11 "," 2248 ","ORSE","Torneira cromada de 1/2\" para jardim/tanque, Standard Deca 1153.C39 ou similar","un",10,55.03,64,550.29999999999995,640,null,55.03,64,550.29999999999995,640]
[" 3.12 "," 00011927 ","SINAPI","ABRACADEIRA, GALVANIZADA/ZINCADA, ROSCA SEM FIM, PARAFUSO INOX, LARGURA FITA *12,6 A *14 MM, D = 2\" A 2 1/2\"","UN",10,7.7,8.9600000000000009,77,89.6,null,7.7,8.9600000000000009,77,89.6]
[" 3.13 "," WC-1 MERC ","Próprio","Válvula de mictório embutida em aço inox escovado. Ref.: Draco Eletrônica Indústria e Comércio Eireli - EPP.","Unidade",5,2234.5300000000002,2598.7600000000002,11172.65,12993.8,null,2234.5300000000002,2598.7600000000002,11172.65,12993.8]
[" 3.14 "," MET-1 MERC ","Próprio","Torneira latão tipo alavanca diam. 1/2\" acabamento cromado para cafeteira industrial","un",15,75,87.23,1125,1308.45,null,75,87.23,1125,1308.45]
[" 4 ",null,null,"Utilitários",{"$nulls":4},{"$f":"SUM(I98:I143)","v":34798.990000000005},{"$f":"SUM(J98:J143)","v":40468.159999999996},null,null,null,{"$f":"SUM(N98:N143)","v":34798.990000000005},{"$f":"SUM(O98:O143)","v":40468.159999999996}]
[" 4.1 "," 00037461 ","SINAPI","MANGUEIRA CRISTAL TRANCADA, PVC COM REFORCO, COM PRESSAO DE TRABALHO (PT) 250 LBS/POL2, DE 3/4\" X *2,8* MM","M",100,17.239999999999998,20.05,1724,2005,null,17.239999999999998,20.05,{"$f":"ROUND(L98*$F98,2)","v":1724},{"$f":"ROUND(M98*$F98,2)","v":2005}]
[" 4.2"," 00000404 ","SINAPI","FITA ISOLANTE DE BORRACHA AUTOFUSAO, USO ATE 69 KV (ALTA TENSAO)","M",500,1.67,1.94,835,970,null,1.67,1.94,835,{"$f":"ROUND(M99*$F99,2)","v":970}]
[" 4.3"," 00004806 ","SINAPI","TESTEIRA ANTIDERRAPANTE PARA PISO VINILICO *5 X 2,5* CM, E = 2 MM","M",30,19.64,22.84,589.20000000000005,685.2,null,19.64,22.84,589.20000000000005,685.2]
[" 4.4"," 042215 ","SBC","FITA 3M COLANTE ANTIDERRAPANTE PARA DEGRAUS ESCADAS","M",100,2.64,3.07,264,307,null,2.64,3.07,264,307]
[" 4.5"," UTL-3 MERC ","Próprio","Disco abrasivo de corte 115mm x 1mm x 22,23mm 4 1/2\" x 3/64\" x 7/8\"","un",50,2.5,2.91,125,145.5,null,2.5,2.91,125,145.5]
[" 4.6"," 037128 ","SBC","DISCO DIAMANTADO STAMACO 105mm FURO 20mm","UN",30,15.49,18.010000000000002,464.7,540.29999999999995,null,15.49,18.010000000000002,464.7,540.29999999999995]
[" 4.7"," 00012815 ","SINAPI","FITA CREPE ROLO DE 25 MM X 50 M","UN",150,9.44,10.98,1416,1647,null,9.44,10.98,1416,1647]
[" 4.8"," 070105 ","SBC","FITA 3M DUPLA FACE VHB 4905 12mmx20m PARA POLICARBONATO","M",500,1.82,2.12,910,1060,null,1.82,2.12,910,1060]
[" 4.9"," 00003148 ","SINAPI","FITA VEDA ROSCA EM ROLOS DE 18 MM X 50 M (L X C)","UN",50,14.38,16.72,719,836,null,14.38,16.72,719,836]
[" 4.10"," 4.95.54 ","FDE","MASSA CALAFETAR COMPOSTA POR BORRACHAS SINTÉTICAS CARGAS MINERAIS E PLASTIFICANTES NÃO SECATIVOS","KG",10,25.66,29.84,256.60000000000002,298.39999999999998,null,25.66,29.84,256.60000000000002,298.39999999999998]
[" 4.11"," MATED-8151 ","SETOP","ADESIVO/SELANTE ELÁSTICO MONOCOMPONENTE (APLICAÇÃO: USO GERAL|BASE: POLIURETANO|EMBALAGEM: 310ML|DENSIDADE*: 1,35G/CM3)*VALORES REFERENCIAIS APROXIMADOS","un",150,36.840000000000003,42.84,5526,6426,null,36.840000000000003,42.84,5526,6426]
[" 4.12"," 00039961 ","SINAPI","SILICONE ACETICO USO GERAL INCOLOR 280 G","UN",50,26.59,30.92,1329.5,1546,null,26.59,30.92,1329.5,1546]
[" 4.13"," 00020080 ","SINAPI","ADESIVO PLASTICO PARA PVC, FRASCO COM 175 GR","UN",50,21.44,24.93,1072,1246.5,null,21.44,24.93,1072,1246.5]
[" 4.14"," 00004791 ","SINAPI","ADESIVO ACRILICO DE BASE AQUOSA / COLA DE CONTATO","KG",5,48.85,56.81,244.25,284.05,null,48.85,56.81,244.25,284.05]
[" 4.15"," 00038123 ","SINAPI","SELANTE TIPO VEDA CALHA PARA METAL E FIBROCIMENTO","KG",5,71.69,83.38,358.45,416.9,null,71.69,83.38,358.45,416.9]
[" 4.16"," 00004823 ","SINAPI","MASSA PLASTICA PARA MARMORE/GRANITO","KG",5,37.520000000000003,43.64,187.6,218.2,null,37.520000000000003,43.64,187.6,218.2]
[" 4.17"," 00003777 ","SINAPI","LONA PLASTICA PESADA PRETA, E = 150 MICRA","m²",400,1.61,1.87,644,748,null,1.61,1.87,644,748]
[" 4.18"," 00000013 ","SINAPI","ESTOPA","KG",5,15.73,18.29,78.650000000000006,91.45,null,15.73,18.29,78.650000000000006,91.45]
[" 4.19"," 00007307 ","SINAPI","FUNDO ANTICORROSIVO PARA METAIS FERROSOS (ZARCAO)","L",18,51.18,59.52,921.24,1071.3599999999999,null,51.18,59.52,921.24,1071.3599999999999]
[" 4.20"," 00000157 ","SINAPI","ADESIVO ESTRUTURAL A BASE DE RESINA EPOXI PARA INJECAO EM TRINCAS, BICOMPONENTE, BAIXA VISCOSIDADE","KG",5,174.64,203.11,873.2,1015.55,null,174.64,203.11,873.2,1015.55]
[" 4.21"," UTL-1 MERC ","Próprio","Adesivo instantâneo Ref.: TekBond","100g",15,31.7,36.869999999999997,475.5,553.04999999999995,null,31.7,36.869999999999997,475.5,553.04999999999995]
[" 4.22"," 00000414 ","SINAPI","ABRACADEIRA DE NYLON PARA AMARRACAO DE CABOS, COMPRIMENTO DE 100 X 2,5 MM","UN",300,0.06,7.0000000000000007E-2,18,21,null,0.06,7.0000000000000007E-2,18,21]
[" 4.23"," 00000410 ","SINAPI","ABRACADEIRA DE NYLON PARA AMARRACAO DE CABOS, COMPRIMENTO DE 150 X *3,6* MM","UN",400,0.15,0.17,60,68,null,0.15,0.17,60,68]
[" 4.24"," 00000411 ","SINAPI","ABRACADEIRA DE NYLON PARA AMARRACAO DE CABOS, COMPRIMENTO DE 200 X *4,6* MM","UN",300,0.2,0.23,60,69,null,0.2,0.23,60,69]
[" 4.25"," 00000408 ","SINAPI","ABRACADEIRA DE NYLON PARA AMARRACAO DE CABOS, COMPRIMENTO DE 390 X *4,6* MM","UN",150,0.99,1.1499999999999999,148.5,172.5,null,0.99,1.1499999999999999,148.5,172.5]
[" 4.26"," 00011560 ","SINAPI","MOLA HIDRAULICA AEREA, PARA PORTAS DE ATE 950 MM E PESO DE ATE 65 KG, COM CORPO EM ALUMINIO E BRACO EM ACO, SEM BRACO DE PARADA","UN",10,177.86,206.85,1778.6,2068.5,null,177.86,206.85,1778.6,2068.5]
[" 4.27"," 002606 ","SBC","LIXA FERRO K246 GRAO 120","UN",45,2.1800000000000002,2.54,98.1,114.3,null,2.1800000000000002,2.54,98.1,114.3]
[" 4.28"," 001256 ","SBC","LIXA FERRO 60","UN",20,2.27,2.64,45.4,52.8,null,2.27,2.64,45.4,52.8]
[" 4.29"," 012844 ","SBC","LIXA D'AGUA 100","UN",30,1.55,1.8,46.5,54,null,1.55,1.8,46.5,54]
[" 4.30"," 012872 ","SBC","LIXA D'AGUA 150","UN",20,1.75,2.04,35,40.799999999999997,null,1.75,2.04,35,40.799999999999997]
[" 4.31"," 00025966 ","SINAPI","REDUTOR TIPO THINNER PARA ACABAMENTO","L",5,16.2,18.84,81,94.2,null,16.2,18.84,81,94.2]
[" 4.32"," 007267 ","SBC","FITA PARA DEMARCACAO DE SOLO 3M 469 AMARELA 50mmx30m","UN",10,43.35,50.42,433.5,504.2,null,43.35,50.42,433.5,504.2]
[" 4.33"," 038004 ","SBC","FITA ZEBRADA PARA SINALIZACAO 7cm x 100m","M",500,0.11,0.13,55,65,null,0.11,0.13,55,65]
[" 4.34"," 00039701 ","SINAPI","FITA ADESIVA ASFALTICA ALUMINIZADA MULTIUSO, L = 10 CM, ROLO DE 10 M","UN",25,86.37,100.45,2159.25,2511.25,null,86.37,100.45,2159.25,2511.25]
[" 4.35"," 00000511 ","SINAPI","PRIMER PARA MANTA ASFALTICA A BASE DE ASFALTO MODIFICADO DILUIDO EM SOLVENTE, APLICACAO A FRIO","L",5,20.14,23.42,100.7,117.1,null,20.14,23.42,100.7,117.1]
[" 4.36"," 00039699 ","SINAPI","MANTA / LENCOL DE BORRACHA, SBR, ANTIRRUIDO, E = 5 MM","m²",30,17.45,20.29,523.5,608.70000000000005,null,17.45,20.29,523.5,608.70000000000005]
[" 4.37"," 00004224 ","SINAPI","QUEROSENE","L",1,12.13,14.11,12.13,14.11,null,12.13,14.11,12.13,14.11]
[" 4.38"," UTL-2 MERC ","Próprio","Desengripante spray lubrificante multiuso","300 ml",5,17.170000000000002,{"$f":"ROUND(G135*(1+$H$2),2)","v":19.97},{"$f":"ROUND(G135*F135,2)","v":85.85},{"$f":"ROUND(H135*F135,2)","v":99.85},null,17.170000000000002,19.97,85.85,99.85]
[" 4.39"," 00014153 ","SINAPI","FITA METALICA PERFURADA, L = *18* MM, ROLO DE 30 M, CARGA RECOMENDADA = *30* KGF","UN",5,60.05,69.84,300.25,349.2,null,60.05,69.84,300.25,349.2]
[" 4.40"," 6.41.12 ","FDE","ELEMENTO FILTRANTE CUNO CARVAO/CELULOSE 360L/H","UN",48,93.18,{"$f":"ROUND(G137*(1+$H$2),2)","v":108.37},{"$f":"ROUND(G137*F137,2)","v":4472.6400000000003},{"$f":"ROUND(H137*F137,2)","v":5201.76},null,93.18,{"$f":"ROUND(L137*(1+$G$2),2)","v":108.37},{"$f":"ROUND(L137*$F137,2)","v":4472.6400000000003},{"$f":"ROUND(M137*$F137,2)","v":5201.76}]
[" 4.41"," 6.41.13 ","FDE","ELEMENTO FILTRANTE CUNO(AQUALAR)CARVAO/CEL 180 L/H","UN",12,68.62,79.81,823.44,957.72,null,68.62,79.81,823.44,957.72]
[" 4.42"," IEQ003150 ","SCO","Cacamba de aco com 5m3, para retirada de entulho, inclusive transporte e descarga, aluguel","un",12,320,372.16,3840,4465.92,null,320,372.16,3840,4465.92]
[" 4.43"," MAT138020 ","SCO","Tinta - Textura acrilica cor branca Coral ou similar","gl",3,46.5,54.08,139.5,162.24,null,46.5,54.08,139.5,162.24]
[" 4.44"," 2215 ","ORSE","Tinta acrílica","L",7.2,13.71,15.94,98.71,114.77,null,13.71,15.94,98.71,114.77]
[" 4.45"," 00007311 ","SINAPI","TINTA ESMALTE SINTETICO PREMIUM ACETINADO","L",7.2,49.01,57,352.87,410.4,null,49.01,57,352.87,410.4]
[" 4.46"," 00005318 ","SINAPI","DILUENTE AGUARRAS","L",0.9,18.510000000000002,21.53,16.66,19.38,null,18.510000000000002,21.53,16.66,19.38]
[5,null,null,"Kit 1 (conjunto condulete para interruptor 1 tecla)",{"$nulls":4},{"$f":"SUM(I145:I148)","v":2445},{"$f":"SUM(J145:J148)","v":2844},null,null,null,{"$f":"SUM(N145:N148)","v":2445},{"$f":"SUM(O145:O148)","v":2844}]
["5.1"," 00039334 ","SINAPI","CONDULETE EM PVC, TIPO \"E\", SEM TAMPA, DE 3/4\"","UN",100,9.67,11.25,{"$f":"ROUND(G145*F145,2)","v":967},{"$f":"ROUND(H145*F145,2)","v":1125},null,9.67,{"$f":"ROUND(L145*(1+$G$2),2)","v":11.25},{"$f":"ROUND(L145*$F145,2)","v":967},{"$f":"ROUND(M145*$F145,2)","v":1125}]
["5.2"," 017929 ","SBC","ADAPTADOR CONDULETE TOP 3/4\"","UN",100,2.2000000000000002,2.56,{"$f":"ROUND(G146*F146,2)","v":220},{"$f":"ROUND(H146*F146,2)","v":256},null,2.2000000000000002,2.56,220,256]
["5.3"," 00038112 ","SINAPI","INTERRUPTOR SIMPLES 10A, 250V (MODULO COM ABAS)","UN",100,8.93,10.39,893,1039,null,8.93,10.39,893,1039]
["5.4"," 00039346 ","SINAPI","TAMPA PARA CONDULETE, EM PVC, PARA 1 INTERRUPTOR","UN",100,3.65,4.24,365,424,null,3.65,4.24,365,424]
[6,null,null,"Kit 2 (conjunto condulete para interruptor 2 teclas)",{"$nulls":4},{"$f":"SUM(I150:I153)","v":3457},{"$f":"SUM(J150:J153)","v":4021},null,null,null,{"$f":"SUM(N150:N153)","v":3457},{"$f":"SUM(O150:O153)","v":4021}]
["6.1"," 00039334 ","SINAPI","CONDULETE EM PVC, TIPO \"E\", SEM TAMPA, DE 3/4\"","UN",100,9.67,11.25,{"$f":"ROUND(G150*F150,2)","v":967},{"$f":"ROUND(H150*F150,2)","v":1125},null,9.67,11.25,967,1125]
["6.2"," 017929 ","SBC","ADAPTADOR CONDULETE TOP 3/4\"","UN",100,2.2000000000000002,2.56,{"$f":"ROUND(G151*F151,2)","v":220},{"$f":"ROUND(H151*F151,2)","v":256},null,2.2000000000000002,2.56,220,256]
["6.3"," 00012129 ","SINAPI","INTERRUPTOR 2 TECLAS SIMPLES (MODULO COM ABAS)","UN",100,9.5,11.05,950,1105,null,9.5,11.05,950,1105]
["6.4"," 018030 ","SBC","TAMPA 2 MODULOS CONDULETE TOP  3/4\"","UN",100,13.2,15.35,1320,1535,null,13.2,15.35,1320,1535]
[7,null,null,"Kit 3 (conjunto condulete para interruptor 3 teclas)",{"$nulls":4},{"$f":"SUM(I155:I158)","v":3882},{"$f":"SUM(J155:J158)","v":4516},null,null,null,{"$f":"SUM(N155:N158)","v":3882},{"$f":"SUM(O155:O158)","v":4516}]
["7.1"," 00039334 ","SINAPI","CONDULETE EM PVC, TIPO \"E\", SEM TAMPA, DE 3/4\"","UN",100,9.67,11.25,{"$f":"ROUND(G155*F155,2)","v":967},{"$f":"ROUND(H155*F155,2)","v":1125},null,9.67,11.25,967,1125]
["7.2"," 017929 ","SBC","ADAPTADOR CONDULETE TOP 3/4\"","UN",100,2.2000000000000002,2.56,{"$f":"ROUND(G156*F156,2)","v":220},{"$f":"ROUND(H156*F156,2)","v":256},null,2.2000000000000002,2.56,220,256]
["7.3"," I1267 ","SEINFRA","INTERRUPTOR 3 TECLAS SIMPLES (MÓDULO COM ABAS)","UN",100,20.71,24.09,2071,2409,null,20.71,24.09,2071,2409]
["7.4"," 018036 ","SBC","TAMPA 3 MODULOS CONDULETE TOP  3/4\"","UN",100,6.24,7.26,624,726,null,6.24,7.26,624,726]
[8,null,null,"Kit 4 (conjunto condulete com placa cega)",{"$nulls":4},{"$f":"SUM(I160:I162)","v":10285},{"$f":"SUM(J160:J162)","v":11965},null,null,null,{"$f":"SUM(N160:N162)","v":10285},{"$f":"SUM(O160:O162)","v":11965}]
["8.1"," 00039334 ","SINAPI","CONDULETE EM PVC, TIPO \"E\", SEM TAMPA, DE 3/4\"","UN",500,9.67,11.25,{"$f":"ROUND(G160*F160,2)","v":4835},{"$f":"ROUND(H160*F160,2)","v":5625},null,9.67,11.25,4835,5625]
["8.2"," 017929 ","SBC","ADAPTADOR CONDULETE TOP 3/4\"","UN",1000,2.2000000000000002,2.56,{"$f":"ROUND(G161*F161,2)","v":2200},{"$f":"ROUND(H161*F161,2)","v":2560},null,2.2000000000000002,2.56,2200,2560]
["8.3"," 018025 ","SBC","TAMPA CEGA CONDULETE 4\"x2\"","UN",500,6.5,7.56,3250,3780,null,6.5,7.56,3250,3780]
[9,null,null,"Kit 5 (conjunto condulete para tomada 10A)",{"$nulls":4},{"$f":"SUM(I164:I167)","v":27890},{"$f":"SUM(J164:J167)","v":32440},null,null,null,{"$f":"SUM(N164:N167)","v":27890},{"$f":"SUM(O164:O167)","v":32440}]
["9.1"," 00039334 ","SINAPI","CONDULETE EM PVC, TIPO \"E\", SEM TAMPA, DE 3/4\"","UN",1000,9.67,11.25,{"$f":"ROUND(G164*F164,2)","v":9670},{"$f":"ROUND(H164*F164,2)","v":11250},null,9.67,11.25,9670,11250]
["9.2"," 017929 ","SBC","ADAPTADOR CONDULETE TOP 3/4\"","UN",2000,2.2000000000000002,2.56,{"$f":"ROUND(G165*F165,2)","v":4400},{"$f":"ROUND(H165*F165,2)","v":5120},null,2.2000000000000002,2.56,4400,5120]
["9.3"," 00038101 ","SINAPI","TOMADA 2P+T 10A, 250V ( MODULO COM ABAS)","UN",1000,10.17,11.83,10170,11830,null,10.17,11.83,10170,11830]
["9.4"," 00039352 ","SINAPI","TAMPA PARA CONDULETE, EM PVC, PARA TOMADA HEXAGONAL","UN",1000,3.65,4.24,3650,4240,null,3.65,4.24,3650,4240]
[10,null,null,"Kit 6 ( conjunto condulete para tomada 20A)",{"$nulls":4},{"$f":"SUM(I169:I172)","v":24584},{"$f":"SUM(J169:J172)","v":28592},null,null,null,{"$f":"SUM(N169:N172)","v":24584},{"$f":"SUM(O169:O172)","v":28592}]
["10.1"," 00039334 ","SINAPI","CONDULETE EM PVC, TIPO \"E\", SEM TAMPA, DE 3/4\"","UN",800,9.67,11.25,{"$f":"ROUND(G169*F169,2)","v":7736},{"$f":"ROUND(H169*F169,2)","v":9000},null,9.67,11.25,7736,9000]
["10.2"," 017929 ","SBC","ADAPTADOR CONDULETE TOP 3/4\"","UN",1600,2.2000000000000002,2.56,{"$f":"ROUND(G170*F170,2)","v":3520},{"$f":"ROUND(H170*F170,2)","v":4096},null,2.2000000000000002,2.56,3520,4096]
["10.3"," 00038102 ","SINAPI","TOMADA 2P+T 20A, 250V ( MODULO COM ABAS)","UN",800,13.01,15.13,10408,12104,null,13.01,15.13,10408,12104]
["10.4"," 00039352 ","SINAPI","TAMPA PARA CONDULETE, EM PVC, PARA TOMADA HEXAGONAL","UN",800,3.65,4.24,2920,3392,null,3.65,4.24,2920,3392]
[11,null,null,"Itens elétricos sem kit",{"$nulls":4},{"$f":"SUM(I174:I217)","v":210382.24},{"$f":"SUM(J174:J217)","v":244631.91999999998},null,null,null,{"$f":"SUM(N174:N217)","v":210382.24},{"$f":"SUM(O174:O217)","v":244631.91999999998}]
["11.1"," 001253 ","SBC","CABO PP CORDPLAST 2 CONDUTORES 450/750V 2,50mm2","M",1000,6.05,7.04,{"$f":"ROUND(G174*F174,2)","v":6050},{"$f":"ROUND(H174*F174,2)","v":7040},null,6.05,7.04,6050,7040]
["11.2"," 004989 ","SBC","FIO SUPERASTIC FLEX 450/750V 2,5mm2 CORES DIVERSAS","M",10000,2.48,2.88,{"$f":"ROUND(G175*F175,2)","v":24800},{"$f":"ROUND(H175*F175,2)","v":28800},null,2.48,2.88,24800,28800]
["11.3"," 003580 ","SBC","FIO SUPERASTIC FLEX 450/750V 4,0mm2 CORES DIVERSAS","M",1000,4.01,4.66,4010,4660,null,4.01,4.66,4010,4660]
["11.4"," 00043973 ","SINAPI","CABO DE REDE, PAR TRANCADO U/UTP, 4 PARES, CATEGORIA 6 (CAT 6), ISOLAMENTO PVC (CM)","M",5000,3.65,4.24,18250,21200,null,3.65,4.24,18250,21200]
["11.5"," 036462 ","SBC","ADAPTADOR PARA TOMADA NOVO PADRAO NBR14.136 690661 PIAL","UN",100,21.6,25.12,2160,2512,null,21.6,25.12,2160,2512]
["11.6"," 00020111 ","SINAPI","FITA ISOLANTE ADESIVA ANTICHAMA, USO ATE 750 V, EM ROLO DE 19 MM X 20 M","UN",250,12.25,14.25,3062.5,3562.5,null,12.25,14.25,3062.5,3562.5]
["11.7"," 004500 ","SBC","INTERRUPTOR SIMPLES EMBUTIR 10A-250V COM PLACA PIAL","UN",30,23.99,27.9,719.7,837,null,23.99,27.9,719.7,837]
["11.8"," 00039390 ","SINAPI","LUMINARIA LED REFLETOR RETANGULAR BIVOLT, LUZ BRANCA, 30 W","UN",100,26.13,30.39,2613,3039,null,26.13,30.39,2613,3039]
["11.9"," 004771 ","SBC","LAMPADA LED SOLLAR BULBO 7W BRANCA BIVOLT","UN",100,19.899999999999999,23.14,1990,2314,null,19.899999999999999,23.14,1990,2314]
["11.10"," 00039387 ","SINAPI","LAMPADA LED TUBULAR BIVOLT 18/20 W, BASE G13","UN",100,9.58,11.14,958,1114,null,9.58,11.14,958,1114]
["11.11"," 7° SR - 14 ","Próprio","Luz emergência led, 30 un, 3W, bivolt, autonomia minima 12hrs","UN",50,18.91,21.99,945.5,1099.5,null,18.91,21.99,945.5,1099.5]
["11.12"," 00039386 ","SINAPI","LAMPADA LED TUBULAR BIVOLT 9/10 W, BASE G13","UN",500,6.68,7.77,3340,3885,null,6.68,7.77,3340,3885]
["11.13"," 7° SR - 15 ","Próprio","Refletor, alumínio injetado, tipo led, 100W, 220V, IP65","UN",20,57.02,66.31,1140.4000000000001,1326.2,null,57.02,66.31,1140.4000000000001,1326.2]
["11.14"," 7° SR - 16 ","Próprio","Refletor, alumínio, 4 unidades, tipo led, 200W, 220V, IP67","UN",20,75.900000000000006,88.27,1518,1765.4,null,75.900000000000006,88.27,1518,1765.4]
["11.15"," 064446 ","SBC","SUPORTE/SOQUETE PLASTICO ANTIVIBRATORIO PARA LAMPADA FLUORESCENTE","UN",200,2.5,2.91,500,582,null,2.5,2.91,500,582]
["11.16"," 7° SR - 17 ","Próprio","Filtro de Linha, 110/220V, para 6 tomadas, 60Hz","UN",100,43.65,50.76,4365,5076,null,43.65,50.76,4365,5076]
["11.17"," 00039253 ","SINAPI","ELETRODUTO/CONDULETE DE PVC RIGIDO, LISO, COR CINZA, DE 3/4\", PARA INSTALACOES APARENTES (NBR 5410)","M",1500,16.95,19.71,25425,29565,null,16.95,19.71,25425,29565]
["11.18"," 00039255 ","SINAPI","ELETRODUTO/CONDULETE DE PVC RIGIDO, LISO, COR CINZA, DE 1\", PARA INSTALACOES APARENTES (NBR 5410)","M",150,24.6,28.61,3690,4291.5,null,24.6,28.61,3690,4291.5]
["11.19"," 002025 ","SBC","BOX ALUMINIO RETO PARA ELETRODUTO 3/4\" TRAMONTINA","UN",500,4.41,5.13,2205,2565,null,4.41,5.13,2205,2565]
["11.20"," 006895 ","SBC","BOX ALUMINIO RETO PARA ELETRODUTO 1\" TRAMONTINA","UN",150,5.82,6.77,873,1015.5,null,5.82,6.77,873,1015.5]
["11.21"," 003577 ","SBC","INTERRUPTOR BIPOLAR 10A-250V LIZ TRAMONTINA","UN",200,19.3,22.45,3860,4490,null,19.3,22.45,3860,4490]
["11.22"," 000032 ","SBC","INTERRUPTOR 3 TECLAS SIMPLES COM PLACA SERIE MODULARE FAME","UN",50,22.9,26.63,1145,1331.5,null,22.9,26.63,1145,1331.5]
["11.23"," 00010569 ","SINAPI","CAIXA DE PASSAGEM / DERIVACAO / LUZ, OCTOGONAL 4 X4, EM ACO ESMALTADA, COM FUNDO MOVEL SIMPLES (FMS)","UN",50,2.69,3.13,134.5,156.5,null,2.69,3.13,134.5,156.5]
["11.24"," 00038096 ","SINAPI","ESPELHO / PLACA DE 2 POSTOS 4\" X 4\", PARA INSTALACAO DE TOMADAS E INTERRUPTORES","UN",50,7.18,8.35,359,417.5,null,7.18,8.35,359,417.5]
["11.25"," 00038101 ","SINAPI","TOMADA 2P+T 10A, 250V (APENAS MODULO)","UN",100,10.17,{"$f":"ROUND(G198*(1+$H$2),2)","v":11.83},1017,1183,null,10.17,11.83,1017,1183]
["11.26"," 00038092 ","SINAPI","ESPELHO / PLACA DE 1 POSTO 4\" X 2\", PARA INSTALACAO DE TOMADAS E INTERRUPTORES","UN",100,2.99,3.48,299,348,null,2.99,3.48,299,348]
["11.27"," 00038099 ","SINAPI","SUPORTE DE FIXACAO PARA ESPELHO / PLACA 4\" X 2\", PARA 1 MODULO, PARA INSTALACAO DE TOMADAS E INTERRUPTORES (SOMENTE SUPORTE)","UN",100,1.96,2.2799999999999998,196,228,null,1.96,2.2799999999999998,196,228]
["11.28"," 009714 ","SBC","ABRACADEIRA PVC 3/4\" CINZA ESCURO CEMAR","UN",2000,2.44,2.84,4880,5680,null,2.44,2.84,4880,5680]
["11.29"," 066469 ","SBC","ABRACADEIRA PVC 1\" CINZA CLARO CEMAR","UN",100,3.03,3.52,303,352,null,3.03,3.52,303,352]
["11.30"," 7° SR - 18 ","Próprio","Chuveiro Elétrico, material: termoplástico, 7700W, 220V","UN",6,108.44,126.12,650.64,756.72,null,108.44,126.12,650.64,756.72]
["11.31"," 7° SR - 19 ","Próprio","Interruptor bipolar simples  2 seções, conjugado completo, 220V, 20A, material : termoplástico auto-extinguível","UN",20,15.9,18.489999999999998,318,369.8,null,15.9,{"$f":"ROUND(L204*(1+$G$2),2)","v":18.489999999999998},318,369.8]
["11.32"," 7° SR - 20 ","Próprio","Interruptor, embutir, 3 seções, conjugado com placa 4\"x2\", Cor: Branco Pratis, 250V, 15A","UN",20,22.9,26.63,458,532.6,null,22.9,26.63,458,532.6]
["11.33"," 7° SR - 21 ","Próprio","Interruptor bipolar simples , 1 seção, conjugado com placa 4\"x2\", embutir, 250V, 10A, material: termoplástico auto-extinguível","UN",50,12.5,14.54,625,727,null,12.5,14.54,625,727]
["11.34"," 7° SR - 22 ","Próprio","Limpador contato elétrico/eletrônico, limpeza de microcomputador (spray)","UN",10,13.9,16.170000000000002,139,161.69999999999999,null,13.9,16.170000000000002,139,161.69999999999999]
["11.35"," 012456 ","SBC","CABO PP CORDPLAST 4 CONDUTORES 450/750V 1,50mm2","M",1000,6.08,7.07,6080,7070,null,6.08,7.07,{"$f":"ROUND(L208*$F208,2)","v":6080},{"$f":"ROUND(M208*$F208,2)","v":7070}]
["11.36"," 001249 ","SBC","CABO PP CORDPLAST 2 CONDUTORES 450/750V 1,50mm2","M",1000,4.99,5.8,4990,5800,null,4.99,5.8,4990,5800]
["11.37"," 012824 ","SBC","CABO PP CORDPLAST 3 CONDUTORES 450/750V 1,50mm2","M",1000,5.14,5.98,5140,5980,null,5.14,5.98,5140,5980]
["11.38"," 002706 ","SBC","CABO PP CORDPLAST 3 CONDUTORES 450/750V 2,50mm2","M",1000,7.1,8.26,7100,8260,null,7.1,8.26,7100,8260]
["11.39"," 001293 ","SBC","CABO PP CORDPLAST 3 CONDUTORES 450/750V 4,0mm2","M",2000,10.6,12.33,21200,24660,null,10.6,12.33,21200,24660]
["11.40"," 7° SR - 24 ","Próprio","Plugue macho para tomada preto 2P+T 10A 250V","UN",500,4.8899999999999997,5.69,2445,2845,null,4.8899999999999997,5.69,2445,2845]
["11.41"," 7° SR - 25 ","Próprio","Plugue macho para tomada preta 2P+T 20A 250V","UN",100,6.89,8.01,689,801,null,6.89,8.01,689,801]
["11.42"," 7° SR - 26 ","Próprio","Plugue fêmea para tomada preta 2P+T 20A 250V","UN",100,5.69,6.62,569,662,null,5.69,6.62,569,662]
["11.43"," 00039601 ","SINAPI","CONECTOR / TOMADA FEMEA RJ 45, CATEGORIA 6 (CAT 6) PARA CABOS","UN",1000,29.69,34.53,29690,34530,null,29.69,34.53,29690,34530]
["11.44"," 00039603 ","SINAPI","CONECTOR MACHO RJ 45, CATEGORIA 6 (CAT 6) PARA CABOS","UN",3000,3.16,3.68,9480,11040,null,3.16,3.68,9480,11040]
[12,null,null,"Materiais manutenção ar condicionado",{"$nulls":4},{"$f":"SUM(I219:I224)","v":8815.56},{"$f":"SUM(J219:J224)","v":10252.35},null,null,null,{"$f":"SUM(N219:N224)","v":8815.56},{"$f":"SUM(O219:O224)","v":10252.35}]
["12.1"," 004819 ","SBC","GAS REFRIGERANTE R 22","KG",81.599999999999994,40.58,{"$f":"ROUND(G219*(1+$H$2),2)","v":47.19},{"$f":"ROUND(G219*F219,2)","v":3311.33},{"$f":"ROUND(H219*F219,2)","v":3850.7},null,40.58,{"$f":"ROUND(L219*(1+$H$2),2)","v":47.19},{"$f":"ROUND(L219*$F219,2)","v":3311.33},{"$f":"ROUND(M219*$F219,2)","v":3850.7}]
["12.2"," 004817 ","SBC","GAS REFRIGERANTE R 410","KG",54.4,42.38,{"$f":"ROUND(G220*(1+$H$2),2)","v":49.29},{"$f":"ROUND(G220*F220,2)","v":2305.4699999999998},{"$f":"ROUND(H220*F220,2)","v":2681.38},null,42.38,49.29,{"$f":"ROUND(L220*$F220,2)","v":2305.4699999999998},{"$f":"ROUND(M220*$F220,2)","v":2681.38}]
["12.3"," 203068 ","SBC","GAS REFRIGERANTE R-141 B","KG",27.2,107.09,124.55,2912.85,3387.76,null,107.09,124.55,2912.85,3387.76]
["12.4"," MatMan.01 ","Próprio","Desinfetante Bactericida 5L ( lavanda )","Un",1,71.010000000000005,82.58,71.010000000000005,82.58,null,71.010000000000005,82.58,71.010000000000005,82.58]
["12.5"," MatMan.02 ","Próprio","Limpador desengraxante estilo thilex 1.4 5L","Un",1,165,191.9,165,191.9,null,165,191.9,165,191.9]
["12.6"," MatMan.03 ","Próprio","Limpador desengraxante estilo F4000 5L","Un",1,49.9,58.03,49.9,58.03,null,49.9,58.03,49.9,58.03]
[13,null,null,"Ferramentas manutenção ar condicionado",{"$nulls":4},{"$f":"SUM(I226:I242)","v":9834.83},{"$f":"SUM(J226:J242)","v":11437.900000000001},null,null,null,{"$f":"SUM(N226:N242)","v":9834.83},{"$f":"SUM(O226:O242)","v":11437.900000000001}]
["13.1"," FerMan.01 ","Próprio","Kit Flangeador de Tubos 45° Kit 1/8 X 3/4 com Alargador Cortador","Un",1,227.05,{"$f":"ROUND(G226*(1+$H$2),2)","v":264.06},{"$f":"ROUND(G226*F226,2)","v":227.05},{"$f":"ROUND(H226*F226,2)","v":264.06},null,227.05,{"$f":"ROUND(L226*(1+$H$2),2)","v":264.06},{"$f":"ROUND(L226*$F226,2)","v":227.05},{"$f":"ROUND(M226*$F226,2)","v":264.06}]
["13.2"," FerMan.02 ","Próprio","Bomba de Limpeza de Pressão EOS para Ar Condicionado Split EOS PCW-4S 220V","Un",1,812,{"$f":"ROUND(G227*(1+$H$2),2)","v":944.36},{"$f":"ROUND(G227*F227,2)","v":812},{"$f":"ROUND(H227*F227,2)","v":944.36},null,812,944.36,{"$f":"ROUND(L227*$F227,2)","v":812},{"$f":"ROUND(M227*$F227,2)","v":944.36}]
["13.3"," FerMan.03 ","Próprio","Kit de Manifold Profissional EOS com Mangueira de 1,2m","Un",1,305.97000000000003,355.84,305.97000000000003,355.84,null,305.97000000000003,355.84,305.97000000000003,355.84]
["13.4"," FerMan.04 ","Próprio","Bomba de Vácuo Profissional EOS 8Cfm Duplo Estágio Bivolt","Un",1,1049.29,1220.32,1049.29,1220.32,null,1049.29,1220.32,1049.29,1220.32]
["13.5"," FerMan.05 ","Próprio","Soprador Térmico Profissional EOS 2000W  220V","Un",1,118.8,138.16,118.8,138.16,null,118.8,138.16,118.8,138.16]
["13.6"," FerMan.08 ","Próprio","Maçarico Manual Automático Portátil","Un",1,87.3,101.53,87.3,101.53,null,87.3,101.53,87.3,101.53]
["13.7"," FerMan.09 ","Próprio","Martelete Perfurador e Rompedor SDS Plus Profissional","Un",1,360.05,418.74,360.05,418.74,null,360.05,418.74,360.05,418.74]
["13.8"," FerMan.10 ","Próprio","Recolhedora de Gás Refrigerante 1HP ","Un",1,4789,5569.61,4789,5569.61,null,4789,5569.61,4789,5569.61]
["13.9"," FerMan.11 ","Próprio","Kit de Limpeza para Ar Condicionados Split High Wall 18000 a 30000 BTUs - Bomba de Limpeza e Bolsa Coletora 220V","Un",1,1043.0999999999999,1213.1300000000001,1043.0999999999999,1213.1300000000001,null,1043.0999999999999,1213.1300000000001,1043.0999999999999,1213.1300000000001]
["13.10"," FerMan.12 ","Próprio","Alicate Lacradora de Tubos de cobre e alumínio","Un",1,38,44.19,38,44.19,null,38,44.19,38,44.19]
["13.11"," FerMan.13 ","Próprio","Termômetro digital profissional com mira laser","Un",1,219.6,255.39,219.6,255.39,null,219.6,255.39,219.6,255.39]
["13.12"," FerMan.14 ","Próprio","Jogo de Chaves Allen Longas e Curtas","Un",1,63.98,74.41,63.98,74.41,null,63.98,74.41,63.98,74.41]
["13.13"," FerMan.15 ","Próprio","Maleta Soquetes Estriados e Acessórios Encaixe ½  8 a 32mm, 22 Peças","Un",1,170.99,198.86,170.99,198.86,null,170.99,198.86,170.99,198.86]
["13.14"," FerMan.16 ","Próprio","Jogo De Chave Combinada Cromo Fosco De 6 X 22 Mm 12 Peças","Un",1,65.3,75.94,65.3,75.94,null,65.3,75.94,65.3,75.94]
["13.15"," FerMan.17 ","Próprio","Furadeira de Impacto Variável e Reversível de 1/2 Pol. (13mm) 800W 3.000 RPM 220V","Un",1,349,405.89,349,405.89,null,349,405.89,349,405.89]
["13.16"," FerMan.18 ","Próprio","chave inglesa 6,8, 10 e 12”","Un",1,118.75,138.11000000000001,118.75,138.11000000000001,null,118.75,138.11000000000001,118.75,138.11000000000001]
["13.17"," FerMan.19 ","Próprio","Borrifador profissional 1L","Un",1,16.649999999999999,19.36,16.649999999999999,19.36,null,16.649999999999999,19.36,16.649999999999999,19.36]
[14,null,null,"Serviços unitários sob demanda",{"$nulls":4},{"$f":"SUM(I244:I267)","v":188657},{"$f":"SUM(J244:J267)","v":219403.6},null,null,null,{"$f":"SUM(N244:N267)","v":184901.6},{"$f":"SUM(O244:O267)","v":215036.6}]
["14.1","88251","SINAPI","AUXILIAR DE SERRALHEIRO COM ENCARGOS COMPLEMENTARES","H",220,22.1,{"$f":"ROUND(G244*(1+$H$2),2)","v":25.7},{"$f":"ROUND(G244*F244,2)","v":4862},{"$f":"ROUND(H244*F244,2)","v":5654},null,22.1,{"$f":"ROUND(L244*(1+$H$2),2)","v":25.7},{"$f":"ROUND(L244*$F244,2)","v":4862},{"$f":"ROUND(M244*$F244,2)","v":5654}]
["14.2","88315","SINAPI","SERRALHEIRO COM ENCARGOS COMPLEMENTARES","H",220,27.84,32.380000000000003,6124.8,7123.6,null,27.84,32.380000000000003,6124.8,7123.6]
["14.3","88325","SINAPI","VIDRACEIRO COM ENCARGOS COMPLEMENTARES","H",220,25.96,30.19,5711.2,6641.8,null,25.96,30.19,5711.2,6641.8]
["14.4","88310","SINAPI","PINTOR COM ENCARGOS COMPLEMENTARES","H",220,29.55,{"$f":"ROUND(G247*(1+$H$2),2)","v":34.369999999999997},{"$f":"ROUND(G247*F247,2)","v":6501},{"$f":"ROUND(H247*F247,2)","v":7561.4},null,29.55,{"$f":"ROUND(L247*(1+$H$2),2)","v":34.369999999999997},{"$f":"ROUND(L247*$F247,2)","v":6501},{"$f":"ROUND(M247*$F247,2)","v":7561.4}]
["14.5","88309","SINAPI","PEDREIRO COM ENCARGOS COMPLEMENTARES","H",220,28.05,32.619999999999997,6171,7176.4,null,28.05,32.619999999999997,6171,7176.4]
["14.6","88242","SINAPI","AJUDANTE DE PEDREIRO COM ENCARGOS COMPLEMENTARES","H",220,22.15,25.76,4873,5667.2,null,22.15,25.76,4873,5667.2]
["14.7","90768","SINAPI","ARQUITETO DE OBRA JUNIOR COM ENCARGOS COMPLEMENTARES","H",220,101.6,118.16,22352,25995.200000000001,null,101.6,118.16,22352,25995.200000000001]
["14.8","88251","SINAPI","CHAVEIRO COM ENCARGOS COMPLEMENTARES","H",220,22.1,25.7,4862,5654,null,5.03,5.85,1106.5999999999999,1287]
["14.9",4365,"SBC","PROJETO DE ARQUITETURA","M²",3000,9.1999999999999993,10.7,27600,32100,null,9.1999999999999993,10.7,27600,32100]
["14.10",38071,"SBC","PROJETO DE INSTALAÇÕES ELÉTRICAS","M²",3000,8.9499999999999993,10.41,26850,31230,null,8.9499999999999993,10.41,26850,31230]
["14.11",38070,"SBC","PROJETO DE INSTALAÇÕES HIDRÁULICAS","M²",3000,7.25,{"$f":"ROUND(G254*(1+$H$2),2)","v":8.43},{"$f":"ROUND(G254*F254,2)","v":21750},{"$f":"ROUND(H254*F254,2)","v":25290},null,7.25,{"$f":"ROUND(L254*(1+$H$2),2)","v":8.43},{"$f":"ROUND(L254*$F254,2)","v":21750},{"$f":"ROUND(M254*$F254,2)","v":25290}]
["14.12",8809,"SBC","PROJETO INSTALAÇÃO AR CONDICIONADO","M²",3000,17,{"$f":"ROUND(G255*(1+$H$2),2)","v":19.77},{"$f":"ROUND(G255*F255,2)","v":51000},{"$f":"ROUND(H255*F255,2)","v":59310},null,17,{"$f":"ROUND(L255*(1+$H$2),2)","v":19.77},{"$f":"ROUND(L255*$F255,2)","v":51000},{"$f":"ROUND(M255*$F255,2)","v":59310}]

{"sheet":"EPI","index":13,"n_rows":67,"n_cols":13,"rows_kept":67,"cut":false,"hidden":false,"merged":[]}
["Item","Profissional","EPI","Referência","Custo Unitário (R$)","Vida útil (dias)","Vida útil (horas)","Coefíciente de utilização","Custo Horario (R$)","Custo Mensal (R$)",null,"Soma","Custo Mensal"]
["1.1","Carpinteiro","Uniforme comum","SINAPI",277.38,180,1131.43,1,{"$f":"ROUND(E2/G2*H2,4)","v":0.2452},{"$f":"ROUND(I2*30/7*44,2)","v":46.24},null,"Carpinteiro",{"$f":"SUMIF(EPI[Profissional],L2,EPI[Custo Mensal (R$)])","v":176.04000000000002}]
["1.2","Carpinteiro","Capacete","SINAPI",16.309999999999999,360,2262.86,1,7.1999999999999998E-3,1.36,null,"Eletricista",{"$f":"SUMIF(EPI[Profissional],L3,EPI[Custo Mensal (R$)])","v":192.29000000000002}]
["1.3","Carpinteiro","Botas de couro cano curto","SINAPI",78.27,90,565.71,1,0.1384,26.1,null,"Encanador",{"$f":"SUMIF(EPI[Profissional],L4,EPI[Custo Mensal (R$)])","v":120.20000000000002}]
["1.4","Carpinteiro","Luvas de raspa cano curto","SINAPI",14.67,10,73.33,1,0.2001,37.729999999999997,null,"Engenheiro",{"$f":"SUMIF(EPI[Profissional],L5,EPI[Custo Mensal (R$)])","v":76.22}]
["1.5","Carpinteiro","Óculos contra impacto","SINAPI",6.33,60,377.14,1,1.6799999999999999E-2,3.17,null,"Encarregado",{"$f":"SUMIF(EPI[Profissional],L6,EPI[Custo Mensal (R$)])","v":142.20999999999998}]
["1.6","Carpinteiro","Protetor auricular","SINAPI",2.44,20,146.66999999999999,0.6,0.01,1.89,null,"Pintor",{"$f":"SUMIF(EPI[Profissional],L7,EPI[Custo Mensal (R$)])","v":246.49999999999997}]
["1.7","Carpinteiro","Abafador de ruídos","SINAPI",33.42,90,565.71,0.5,2.9499999999999998E-2,5.56,null,"Servente",{"$f":"SUMIF(EPI[Profissional],L8,EPI[Custo Mensal (R$)])","v":171.21}]
["1.8","Carpinteiro","Respirador descartável sem vávula","SINAPI",1.82,1,7.33,0.4,9.9299999999999999E-2,18.73]
["1.9","Carpinteiro","Protetor facial de acrílico","SINAPI",44.2,60,377.14,0.5,5.8599999999999999E-2,11.05]
["1.10","Carpinteiro","Avental de raspa","SINAPI",48.43,30,188.57,0.5,0.12839999999999999,24.21]
["2.1","Eletricista","Uniforme comum (2 unidades)","SINAPI",277.38,180,1131.43,1,0.2452,46.24]
["2.2","Eletricista","Capacete ","SINAPI",16.309999999999999,360,2262.86,1,7.1999999999999998E-3,1.36]
["2.3","Eletricista","Botas de couro cano curto ","SINAPI",78.27,90,565.71,1,0.1384,26.1]
["2.4","Eletricista","Luvas de borracha - látex - cano curto","SINAPI",4.99,2,14.67,0.3,0.10199999999999999,19.23]
["2.5","Eletricista","Luvas de raspa cano curto ","SINAPI",14.67,10,73.33,0.7,0.14000000000000001,26.4]
["2.6","Eletricista","Óculos contra impacto ","SINAPI",6.33,60,377.14,1,1.6799999999999999E-2,3.17]
["2.7","Eletricista","Protetor auricular ","SINAPI",2.44,20,146.66999999999999,0.6,0.01,1.89]
["2.8","Eletricista","Cinto de segurança tipo paraquedista","SINAPI",78.27,180,1131.43,0.2,1.38E-2,2.6]
["2.9","Eletricista","Trava quedas ","SINAPI",191.6,90,565.71,0.2,6.7699999999999996E-2,12.77]
["2.10","Eletricista","Talabarte ","SINAPI",218.09,90,565.71,0.2,7.7100000000000002E-2,14.54]
["2.11","Eletricista","Protetor facial de acrílico","SINAPI",44.2,60,377.14,0.5,5.8599999999999999E-2,11.05]
["2.12","Eletricista","Respirador descartável sem válvula ","SINAPI",1.82,1,7.33,0.2,4.9700000000000001E-2,9.3699999999999992]
["2.13","Eletricista","Luva de Alta Tensão ","SINAPI",421.95,360,2262.86,0.5,9.3200000000000005E-2,17.57]
[1,"Encanador","Uniforme comum (2 unidades)","SINAPI",277.38,180,1131.43,1,0.2452,46.24]
[2,"Encanador","Capacete","SINAPI",16.309999999999999,360,2262.86,1,7.1999999999999998E-3,1.36]
[3,"Encanador","Botas de couro cano curto","SINAPI",78.27,90,565.71,0.6,{"$f":"ROUND(E27/G27*H27,4)","v":8.3000000000000004E-2},15.65]
[4,"Encanador","Botas de PVC cano médio","SINAPI",46.96,90,565.71,0.4,3.32E-2,6.26]
[5,"Encanador","Luvas de borracha - látex - cano curto","SINAPI",4.99,2,14.67,0.3,0.10199999999999999,19.23]
[6,"Encanador","Luvas de raspa cano curto","SINAPI",14.67,10,73.33,0.7,0.14000000000000001,26.4]
[7,"Encanador","Óculos contra impacto","SINAPI",6.33,60,377.14,1,1.6799999999999999E-2,3.17]
[8,"Encanador","Protetor auricular","SINAPI",2.44,20,146.66999999999999,0.6,0.01,1.89]
[1,"Engenheiro","Uniforme comum (2 unidades)","SINAPI",277.38,180,1131.43,1,0.2452,46.24]
[2,"Engenheiro","Capacete ","SINAPI",16.309999999999999,360,2262.86,1,7.1999999999999998E-3,1.36]
[3,"Engenheiro","Botas de couro cano curto ","SINAPI",78.27,90,565.71,1,0.1384,26.1]
[4,"Engenheiro","Protetor auricular ","SINAPI",2.44,20,146.66999999999999,0.3,5.0000000000000001E-3,0.94]
[5,"Engenheiro","Óculos contra impacto ","SINAPI",6.33,60,377.14,0.5,8.3999999999999995E-3,1.58]
[1,"Encarregado","Uniforme comum (2 unidades)","SINAPI",277.38,180,1131.43,1,0.2452,46.24]
[2,"Encarregado","Capacete ","SINAPI",16.309999999999999,360,2262.86,1,7.1999999999999998E-3,1.36]
[3,"Encarregado","Botas de couro cano curto ","SINAPI",78.27,90,565.71,0.7,9.6799999999999997E-2,18.25]
[4,"Encarregado","Botas de PVC cano médio ","SINAPI",46.96,90,565.71,0.3,2.4899999999999999E-2,4.7]
[5,"Encarregado","Luvas de PVC cano médio forradas","SINAPI",19.989999999999998,5,36.67,0.3,0.16350000000000001,{"$f":"ROUND(I42*30/7*44,2)","v":30.83}]
[6,"Encarregado","Luvas de raspa cano curto ","SINAPI",14.67,10,73.33,0.7,0.14000000000000001,26.4]
[7,"Encarregado","Óculos contra impacto ","SINAPI",6.33,60,377.14,1,1.6799999999999999E-2,3.17]
[8,"Encarregado","Protetor auricular ","SINAPI",2.44,20,146.66999999999999,0.6,0.01,1.89]
[14,"Encarregado","Respirador descartável sem válvula ","SINAPI",1.82,1,7.33,0.2,{"$f":"ROUND(E46/G46*H46,4)","v":4.9700000000000001E-2},9.3699999999999992]
[1,"Pintor","Uniforme comum (2 unidades)","SINAPI",277.38,180,1131.43,1,0.2452,46.24]
[2,"Pintor","Capacete ","SINAPI",16.309999999999999,360,2262.86,1,7.1999999999999998E-3,1.36]
[3,"Pintor","Botas de couro cano curto ","SINAPI",78.27,90,565.71,1,0.1384,26.1]
[4,"Pintor","Luvas de borracha - látex - cano curto","SINAPI",4.99,2,14.67,1,0.34010000000000001,64.13]
[5,"Pintor","Avental de PVC","SINAPI",27.9,15,110,1,0.25359999999999999,47.82]
[6,"Pintor","Óculos contra impacto ","SINAPI",6.33,60,377.14,1,1.6799999999999999E-2,3.17]
[7,"Pintor","Respirador descartável sem válvula ","SINAPI",1.82,1,7.33,0.5,0.1241,23.4]
[8,"Pintor","Máscara semifacial com 1 filtro","SINAPI",33.9,120,754.29,0.5,2.2499999999999999E-2,4.24]
[9,"Pintor","Filtro para máscara semifacial","SINAPI",21.9,10,73.33,0.5,0.14929999999999999,28.15]
[10,"Pintor","Protetor auricular ","SINAPI",2.44,20,146.66999999999999,0.6,0.01,1.89]
[1,"Servente","Uniforme comum (2 unidades)","SINAPI",277.38,180,1131.43,1,0.2452,46.24]
[2,"Servente","Capacete ","SINAPI",16.309999999999999,360,2262.86,1,7.1999999999999998E-3,1.36]
[3,"Servente","Botas de couro cano curto ","SINAPI",78.27,90,565.71,0.7,9.6799999999999997E-2,18.25]
[4,"Servente","Botas de PVC cano médio ","SINAPI",46.96,90,565.71,0.3,2.4899999999999999E-2,4.7]
[5,"Servente","Luvas de PVC cano médio forradas","SINAPI",19.989999999999998,5,36.67,0.3,0.16350000000000001,30.83]
[6,"Servente","Luvas de borracha - látex - cano curto","SINAPI",4.99,2,14.67,0.2,6.8000000000000005E-2,12.82]
[7,"Servente","Luvas de raspa cano curto ","SINAPI",14.67,10,73.33,0.5,0.1,18.86]
[8,"Servente","Óculos contra impacto ","SINAPI",6.33,60,377.14,0.7,1.17E-2,2.21]
[9,"Servente","Respirador descartável sem válvula ","SINAPI",1.82,1,7.33,0.7,0.17380000000000001,32.770000000000003]
[10,"Servente","Protetor auricular ","SINAPI",2.44,20,146.66999999999999,0.3,5.0000000000000001E-3,0.94]
[11,"Servente","Abafador de ruídos","SINAPI",33.42,90,565.71,0.2,1.18E-2,2.23]

{"sheet":"FER","index":14,"n_rows":105,"n_cols":13,"rows_kept":105,"cut":false,"hidden":false,"merged":[]}
["Item","Profissional","Ferramentas","Referência","Custo Unitário (R$)","Vida útil (dias)","Vida útil (horas)","Coefíciente de utilização","Custo Horario (R$)","Custo Mensal (R$)",null,"Soma","Custo Mensal"]
["1.1","Carpinteiro","Furadeira de impacto 1/2\" - 600W ","SINAPI",398.99,720,4525.71,0.5,{"$f":"ROUND(E2/G2*H2,4)","v":4.41E-2},{"$f":"ROUND(I2*30/7*44,2)","v":8.32},null,"Carpinteiro",{"$f":"SUMIF(FER[Profissional],L2,FER[Custo Mensal (R$)])","v":92.28}]
["1.2","Carpinteiro","Grampo de aperto rápido 18\"","SINAPI",111.77,360,2262.86,0.3,1.4800000000000001E-2,2.79,null,"Eletricista",{"$f":"SUMIF(FER[Profissional],L3,FER[Custo Mensal (R$)])","v":159.70999999999998}]
["1.3","Carpinteiro","Trena","SINAPI",19.89,360,2262.86,0.8,7.0000000000000001E-3,1.32,null,"Encanador",{"$f":"SUMIF(FER[Profissional],L4,FER[Custo Mensal (R$)])","v":59.27}]
["1.4","Carpinteiro","Martelo de pedreiro - 1 corte - cabo 20 cm - 1/2 kg","SINAPI",60.43,90,565.71,0.7,7.4800000000000005E-2,14.11,null,"Engenheiro",{"$f":"SUMIF(FER[Profissional],L5,FER[Custo Mensal (R$)])","v":2.2999999999999998}]
["1.5","Carpinteiro","Martelo de borracha ","SINAPI",21.9,180,1131.43,0.5,9.7000000000000003E-3,1.83,null,"Encarregado",{"$f":"SUMIF(FER[Profissional],L6,FER[Custo Mensal (R$)])","v":18.740000000000002}]
["1.6","Carpinteiro","Nível de bolha - alumínio - 35 cm","SINAPI",39.9,90,565.71,0.5,3.5299999999999998E-2,6.66,null,"Pintor",{"$f":"SUMIF(FER[Profissional],L7,FER[Custo Mensal (R$)])","v":269.81}]
["1.7","Carpinteiro","Serrote 20","SINAPI",59.9,90,565.71,0.3,3.1800000000000002E-2,6,null,"Servente",{"$f":"SUMIF(FER[Profissional],L8,FER[Custo Mensal (R$)])","v":114.69000000000001}]
["1.8","Carpinteiro","Alicate diagonal para corte rente 6\" ","SINAPI",43.31,180,1131.43,0.2,7.7000000000000002E-3,1.45]
["1.9","Carpinteiro","Kit Chave de Fenda e Phillips","SINAPI",113.91,360,2262.86,0.4,2.01E-2,3.79]
["1.10","Carpinteiro","Lápis de carpinteiro","SINAPI",2.85,2,14.67,0.8,0.15540000000000001,29.3]
["1.11","Carpinteiro","Estilete 18 mm ","SINAPI",21.51,30,188.57,0.5,5.7000000000000002E-2,10.75]
["1.12","Carpinteiro","Régua de Alumínio - 2m","SINAPI",60.63,360,2262.86,0.3,8.0000000000000002E-3,1.51]
["1.13","Carpinteiro","Esquadro 90° x 30 cm (12\") ","SINAPI",35.83,360,2262.86,0.5,7.9000000000000008E-3,1.49]
["1.14","Carpinteiro","Riscador com ponta de videa","SINAPI",22.9,360,2262.86,0.5,5.1000000000000004E-3,0.96]
["1.15","Carpinteiro","Formão chanfrado 1\"","SINAPI",29.9,180,1131.43,0.4,1.06E-2,2]
["2.1","Eletricista","Bolsa de lona para ferramentas 40 x 30 x 20 cm ","SINAPI",278.55,180,1131.43,1,0.2462,46.43]
["2.2","Eletricista","Alicate Profissional 8''","SINAPI",38.159999999999997,180,1131.43,0.3,1.01E-2,1.9]
["2.3","Eletricista","Alicate de Bico Longo de 6\"","SINAPI",29.18,180,1131.43,0.3,7.7000000000000002E-3,1.45]
["2.4","Eletricista","Alicate diagonal para corte rente 6\" ","SINAPI",43.31,180,1131.43,0.3,1.15E-2,2.17]
["2.5","Eletricista","Arco de serra","SINAPI",30.82,90,565.71,0.2,1.09E-2,2.06]
["2.6","Eletricista","Alicate Climpador ","SINAPI",48.9,180,1131.43,0.3,1.2999999999999999E-2,2.4500000000000002]
["2.7","Eletricista","Kit Chave de Fenda e Phillips","SINAPI",113.91,360,2262.86,0.4,2.01E-2,3.79]
["2.8","Eletricista","Decapador de fio","SINAPI",84.93,180,1131.43,0.3,2.2499999999999999E-2,4.24]
["2.9","Eletricista","Alicate de pressão 11\" ","SINAPI",71.5,180,1131.43,0.3,1.9E-2,3.58]
["2.10","Eletricista","Chave inglesa 6''","SINAPI",36.96,180,1131.43,0.3,9.7999999999999997E-3,1.85]
["2.11","Eletricista","Jogo de chave allen estrela ou hexagonal","SINAPI",25.62,180,1131.43,0.3,6.7999999999999996E-3,1.28]
["2.12","Eletricista","Detector de tensao ","SINAPI",42.9,360,2262.86,0.2,3.8E-3,0.72]
["2.13","Eletricista","Alicate amperímetro","SINAPI",81.900000000000006,360,2262.86,0.2,7.1999999999999998E-3,1.36]
["2.14","Eletricista","Lima redonda 8","SINAPI",28.9,180,1131.43,0.3,7.7000000000000002E-3,1.45]
["2.15","Eletricista","Ferro de solda","SINAPI",46.59,180,1131.43,0.2,8.2000000000000007E-3,1.55]
["2.16","Eletricista","Furadeira de impacto 1/2\" - 600W ","SINAPI",398.99,720,4525.71,0.2,1.7600000000000001E-2,3.32]
["2.17","Eletricista","Trena","SINAPI",19.89,360,2262.86,0.5,4.4000000000000003E-3,0.83]
["2.18","Eletricista","Lixadeira elétrica angular ","SINAPI",965.02,360,2262.86,0.3,0.12790000000000001,24.12]
["2.19","Eletricista","Estilete 18 mm ","SINAPI",21.51,30,188.57,0.3,3.4200000000000001E-2,6.45]
["2.20","Eletricista","Jogo de serra copo","SINAPI",33.9,180,1131.43,0.2,6.0000000000000001E-3,1.1299999999999999]
["2.21","Eletricista","Martelo de borracha ","SINAPI",21.9,180,1131.43,0.2,3.8999999999999998E-3,0.74]
["2.22","Eletricista","Ponteiro aço liso 3/4\" x 10\"","SINAPI",23.9,30,188.57,0.2,2.53E-2,4.7699999999999996]
["2.23","Eletricista","Escada de abrir ","SINAPI",419.69,180,1131.43,0.5,0.1855,34.979999999999997]
["2.24","Eletricista","Talhadeira aço chato 10\"","SINAPI",24.9,30,188.57,0.2,2.64E-2,4.9800000000000004]
["2.25","Eletricista","Lima quadrada 8\"","SINAPI",42.38,180,1131.43,0.3,1.12E-2,2.11]
["3.1","Encanador","Corta-tubos com capacidade de 6 - 42 mm","SINAPI",46.9,360,2262.86,0.3,6.1999999999999998E-3,1.17]
["3.2","Encanador","Arco de serra","SINAPI",30.82,90,565.71,0.3,1.6299999999999999E-2,3.07]
["3.3","Encanador","Chave de grifo de 24\"","SINAPI",95.42,180,1131.43,0.3,2.53E-2,4.7699999999999996]
["3.4","Encanador","Chave fixa 19 X 22","SINAPI",20.9,180,1131.43,0.2,3.7000000000000002E-3,0.7]
["3.5","Encanador","Chave inglesa 15\"","SINAPI",100.61,180,1131.43,0.2,1.78E-2,3.36]
["3.6","Encanador","Chave inglesa 10''","SINAPI",56.87,180,1131.43,0.2,1.01E-2,1.9]
["3.7","Encanador","Furadeira de impacto 1/2\" - 600W ","SINAPI",398.99,720,4525.71,0.2,1.7600000000000001E-2,3.32]
["3.8","Encanador","Maçarico de Solda ","SINAPI",135.86000000000001,360,2262.86,0.2,1.2E-2,2.2599999999999998]
["3.9","Encanador","Trena","SINAPI",19.89,360,2262.86,0.5,4.4000000000000003E-3,0.83]
["3.10","Encanador","Nível de bolha - alumínio - 35 cm","SINAPI",39.9,90,565.71,0.5,3.5299999999999998E-2,6.66]
["3.11","Encanador","Marreta 1/2 kg ","SINAPI",34.32,90,565.71,0.2,1.21E-2,2.2799999999999998]
["3.12","Encanador","Lixadeira elétrica angular 7\" - 2.200 W ","SINAPI",965.02,720,4525.71,0.3,6.4000000000000001E-2,12.07]
["3.13","Encanador","Linha de Pedreiro 100m ","SINAPI",12.35,7,51.33,0.2,4.8099999999999997E-2,9.07]
["3.14","Encanador","Régua de Alumínio - 2m ","SINAPI",60.63,360,2262.86,0.3,8.0000000000000002E-3,1.51]
["3.15","Encanador","Talhadeira aço chato 10\"","SINAPI",24.9,30,188.57,0.2,2.64E-2,4.9800000000000004]
["3.16","Encanador","Torno/morsa de bancada número 4","SINAPI",159,720,4525.71,0.2,7.0000000000000001E-3,1.32]
["4.1","Engenheiro","Trena","SINAPI",19.89,360,2262.86,0.5,4.4000000000000003E-3,0.83]
["4.2","Engenheiro","Esquadro 90° x 30 cm (12\") ","SINAPI",35.83,360,2262.86,0.2,3.2000000000000002E-3,0.6]
["4.3","Engenheiro","Prumo de Parede ","SINAPI",51.67,360,2262.86,0.2,4.5999999999999999E-3,0.87]
["4.4","Encarregado","Trena","SINAPI",19.89,360,2262.86,0.8,7.0000000000000001E-3,1.32]
["4.5","Encarregado","Martelo de borracha preto 450 g","SINAPI",21.9,180,1131.43,0.2,3.8999999999999998E-3,0.74]
["4.6","Encarregado","Nível de bolha - alumínio - 35 cm","SINAPI",39.9,90,565.71,0.2,{"$f":"ROUND(E63/G63*H63,4)","v":1.41E-2},{"$f":"ROUND(I63*30/7*44,2)","v":2.66}]
["4.7","Encarregado","Prumo de Parede ","SINAPI",51.67,360,2262.86,0.3,6.8999999999999999E-3,1.3]
["4.8","Encarregado","Prumo de Centro","SINAPI",45.32,360,2262.86,0.3,6.0000000000000001E-3,1.1299999999999999]
["4.9","Encarregado","Esquadro 90° x 30 cm (12\") ","SINAPI",35.83,360,2262.86,0.2,3.2000000000000002E-3,0.6]
["4.10","Encarregado","Lápis de carpinteiro","SINAPI",2.85,2,14.67,0.3,5.8299999999999998E-2,10.99]
["5.1","Pintor","Escada de abrir, com 2 x 8 degraus (2,40m)","SINAPI",419.69,180,1131.43,0.3,0.1113,20.99]
["5.2","Pintor","Escada de marinheiro em duralumínio, extensível","SINAPI",1188.58,360,2262.86,0.3,0.15759999999999999,29.72]
["5.3","Pintor","Espátula de aço inox 10 cm cabo de madeira ","SINAPI",22.55,30,188.57,0.4,4.7800000000000002E-2,9.01]
["5.4","Pintor","Espátula PVC lisa (tamanho médio) ","SINAPI",8.3000000000000007,30,188.57,0.2,8.8000000000000005E-3,1.66]
["5.5","Pintor","Desempenadeira Aço Dentada ","SINAPI",22.56,30,188.57,0.2,2.3900000000000001E-2,4.51]
["5.6","Pintor","Desempenadeira Aço Lisa ","SINAPI",22.56,30,188.57,0.4,4.7899999999999998E-2,9.0299999999999994]
["5.7","Pintor","Desempenadeira para Lixa ","SINAPI",26.12,30,188.57,0.3,4.1599999999999998E-2,7.84]
["5.8","Pintor","Desempenadeira PVC (tamanho médio) ","SINAPI",21.34,30,188.57,0.2,2.2599999999999999E-2,4.26]
["5.9","Pintor","Furadeira de impacto 1/2\" - 600W ","SINAPI",398.99,360,2262.86,0.2,3.5299999999999998E-2,6.66]
["5.10","Pintor","Lixadeira elétrica angular 7\" - 2.200 W - 5.000 RPM - 220 V ","SINAPI",965.02,360,2262.86,0.3,0.12790000000000001,24.12]
["5.11","Pintor","Escova de aço, com cabo, 4x15 fileiras de cerdas ","SINAPI",12.56,60,377.14,0.2,6.7000000000000002E-3,1.26]
["5.12","Pintor","Fita adesiva (crepe) 25 mm x 50 m Ref. 3M ou similar ","SINAPI",9.4700000000000006,3,22,0.2,8.6099999999999996E-2,16.239999999999998]
["5.13","Pintor","Estilete 18 mm ","SINAPI",21.51,30,188.57,0.2,2.2800000000000001E-2,4.3]
["5.14","Pintor","Lona plástica preta - 4 x 100 m - 12 kg ","SINAPI",1.6,240,1508.57,0.5,5.0000000000000001E-4,0.09]
["5.15","Pintor","Estopa ","SINAPI",19.34,30,188.57,0.5,5.1299999999999998E-2,9.67]
["5.16","Pintor","Balde 10 L ","SINAPI",12.84,30,188.57,1,6.8099999999999994E-2,12.84]
["5.17","Pintor","Bandeja de pintura","SINAPI",10.54,30,188.57,0.35,1.9599999999999999E-2,3.7]
["5.18","Pintor","Misturador de tinta 100 mm x 60 cm ","SINAPI",50.62,60,377.14,0.35,4.7E-2,8.86]
["5.19","Pintor","Pincel chato 1\" cerdas sintéticas pretas","SINAPI",4.3899999999999997,6,44,0.35,3.49E-2,6.58]
["5.20","Pintor","Trincha 2\" cerdas sintéticas pretas","SINAPI",7.87,6,44,0.35,6.2600000000000003E-2,11.8]
["5.21","Pintor","Rolo de lã de carneiro 23 cm c/ cabo ","SINAPI",37.22,6,44,0.2,0.16919999999999999,31.91]
["5.22","Pintor","Rolo de espuma poliéster 15 cm c/ cabo ","SINAPI",16.78,6,44,0.2,7.6300000000000007E-2,14.39]
["5.23","Pintor","Rolo de espuma poliéster 9 cm c/ cabo","SINAPI",5.9,6,44,0.2,2.6800000000000001E-2,5.05]
["5.24","Pintor","Extensor de cabo de rolo 2 m","SINAPI",52.55,30,188.57,0.2,5.57E-2,10.5]
["5.25","Pintor","Compressor de ar profissional 10 pés - 110 L ","SINAPI",2899,720,4525.71,0.1,6.4100000000000004E-2,12.09]
["5.26","Pintor","Kit para compressor de ar com 5 peças","SINAPI",163.75,180,1131.43,0.1,1.4500000000000001E-2,2.73]
["6.1","Servente","Ponteiro aço liso 3/4\" x 10\"","SINAPI",23.9,30,188.57,0.3,3.7999999999999999E-2,7.17]
["6.2","Servente","Talhadeira aço chato 10\"","SINAPI",24.9,30,188.57,0.3,3.9600000000000003E-2,7.47]
["6.3","Servente","Marreta 1/2 kg - cabo de madeira","SINAPI",34.32,90,565.71,0.3,1.8200000000000001E-2,3.43]
["6.4","Servente","Pá quadrada com cabo de madeira em Y - 71 cm","SINAPI",39.9,120,754.29,0.8,4.2299999999999997E-2,7.98]
["6.5","Servente","Carrinho de Mão ","SINAPI",225.42,180,1131.43,0.4,7.9699999999999993E-2,15.03]
["6.6","Servente","Carrinho Plataforma em madeira 1500 x 800 mm Cap: 600kg","SINAPI",1448.99,360,2262.86,0.4,0.25609999999999999,48.29]
["6.7","Servente","Balde 10 L ","SINAPI",12.84,30,188.57,1,6.8099999999999994E-2,12.84]
["6.8","Servente","Alicate Profissional 8''","SINAPI",38.159999999999997,180,1131.43,0.2,6.7000000000000002E-3,1.26]
["6.9","Servente","Serrote 20","SINAPI",59.9,90,565.71,0.2,2.12E-2,4]
["6.10","Servente","Arco de serra","SINAPI",30.82,90,565.71,0.2,1.09E-2,2.06]
["6.11","Servente","Martelo de borracha preto 450 g","SINAPI",21.9,180,1131.43,0.4,7.7000000000000002E-3,1.45]
["6.12","Servente","Enxada Estreita","SINAPI",55.84,180,1131.43,0.4,1.9699999999999999E-2,3.71]

{"sheet":"PMO","index":15,"n_rows":353,"n_cols":14,"rows_kept":353,"cut":false,"hidden":false,"merged":[[335,1,335,7],[246,0,246,7],[257,0,257,7],[267,0,267,7],[269,0,269,7],[272,1,272,7],[273,0,273,7],[283,0,283,7],[291,0,291,7],[297,0,297,7],[299,1,299,7],[308,1,308,7],[244,0,244,7],[100,1,100,7],[116,1,116,7],[132,1,132,7],[147,1,147,7],[178,1,178,7],[179,0,179,7],[198,0,198,7],[206,0,206,7],[211,0,211,7],[221,0,221,7],[233,0,233,7],[69,1,69,7],[0,0,0,7],[2,1,2,7],[22,1,22,7],[35,1,35,7],[41,1,41,7]]}
["PLANO DE MANUTENÇÃO OPERAÇÃO E CONTROLE – FREQUENCIA DAS ATIVIDADES"]
["Item","Descrição do item","Diário ","Semanal","Quinzenal","Mensal","Semestral","Anual"]
[1,"HIDROSSANITÁRIOS"]
["1.1","controlar  a  pressão  e  vazão  de  água  nas  torneira  e  louças,  e  verificação  com  ajustes  dos\nfuncionamentos das torneiras","x"]
["1.2","inspeção (e desobstrução quando necessário)  as redes (tubulação, válvulas, registros e todas\nas conexões) hidráulica/esgoto/águas pluviais","x",{"$nulls":10}," "]
["1.3","inspeção do estado de conservação dos assentos sanitários","x"]
["1.4","inspeção (e desobstrução quando necessário) das condições dos ralos de escoamento","x"]
["1.5","inspeção do funcionamento das válvulas de descarga","x"]
["1.6","inspeção (e desobstrução quando necessário) para verificar obstrução e vazamentos nas pias,\nvasos, drenos, torneiras, duchas higiênicas","x"]
["1.7","controle do gotejamento de água pelas gaxetas",null,"x"]
["1.8","limpeza  das  caixas  de  gordura  e  proceder  à  remoção  do  material  ali  existente  (proceder  ao\nrecolhimento de pó de café nas caixas de decantação)",null,"x"]
["1.9","verificar e sanar possíveis vazamentos nas caixas de incêndio",null,"x"]
["1.10","inspeção do funcionamento das chaves bóias de regulagem de água superiores e inferiores",null,"x"]
["1.11","verificar  e corrigir o nível de água da reserva técnica de emergência no reservatório de água",null,null,"x"]
["1.12","verificação do estado geral e vazamentos nos hidrômetros",null,"x"]
["1.13","inspeção dos filtros de água para possíveis vazamentos",null,"x"]
["1.14","verificar  o  estado  de  conservação  dos  hidrantes  de  passeio  quanto  ao  acesso:   abertura  da\ntampa, ferrugem, funcionamento do registro etc",null,null,"x"]
["1.15","inspecionar e ajustar os registros de controle dos sprinklers",null,null,"x"]
["1.16","executar remoção e desvio de tubulações de água, esgoto ou incêndio",null,null,null,"x"]
["1.17","verificar  o  sistema  de  escoamento  das  coberturas  e  telhados,  com  revisão  e  limpeza  dos\ntelhados, dos sistemas de escoamento, das lajes e calhas",null,null,null,"x"]
["1.18","limpeza das caixas de passagem, de areia e drenos de águas pluviais",null,null,null,"x"]
["1.19","realizar limpeza geral e desinfecção dos reservatórios de água",{"$nulls":4},"x"]
[2,"MEDIDAS PREVENTIVAS   (comunicar quando houver a necessiadade de reparo, substiuição ou conserto de forma imediata)"]
["2.1","inspecionar  os vidros e espelhos trincados e/ou quebrados existentes nos banheiros que possam causar acidentes  ","x"]
["2.2","verificar a abertura e fechamento das caixas de incêndio ",null,"x"]
["2.3","inspecionar  os puxadores, parafusos, trancas, trincos e dobradiças de portas e janelas   (incluindo toda sua estrutura) com esquadrias/estrutura de ferro ou material similar",null,"x"]
["2.4","verificar a situação de calçadas, rampas, escadas e demais elementos de acesso",null,null,null,"x"]
["2.5","verificar os elementos táteis e fitas antiderrapantes",null,null,"x"]
["2.6","verificar as placas de sinalização verticais e horizontais",null,null,"x"]
["2.7","verificar  o estado e funcionamento das  portas de  acesso  aos  edifícios  e  de áreas comuns internas (hall de elevadores, entrada de gabinetes e corredores) (principalmente porta corta-fogo)",null,null,"x"]
["2.8","verificar  o estado e funcionamento das  cancelas de acesso  à garagem e o estado das pinturas (piso, placas e paredes)",null,null,"x"]
["2.9","verificar    o    estado    das    impermeabilizações    e    proteção    mecânica    das    coberturas    e\nestacionamentos",null,null,null,"x"]
["2.10","inspecionar as tampas dos reservatórios (estado e vedação)",null,null,null,"x"]
["2.11","inspeção  portões,  alambrados,  grades,  suportes  de  condensadoras,  e  demais elementos metálicos",null,null,null,"x"]
["2.12","realizar testes nas áreas impermeabilizadas",{"$nulls":4},"x"]
[3,"ELEMENTOS DE MADEIRA E SIMILARES "]
["3.1","verificar e realizar ajustes em molas aéreas de portas de madeira","x"]
["3.2","verificar  e ajustar as  portas  e  esquadrias  de  madeira  das  edificações,  inclusos  seus\nbatentes, alavancas de fechamento, guarnições de borracha e baguetes","x"]
["3.3","verificar e fixar os rodapés soltos","x"]
["3.4","inspeção e reapertos de acessórios, fechos, trincos, fechaduras e lubrificações em móveis","x"]
["3.5","verificar e ajustar todo o sistema de divisórias quanto aos fechamentos e alinhamento, inclusos portas, incluindo os clipes de fixação e proceder os ajustes necessários",null,"x"]
[4,"QUADROS DE DISTRIBUIÇÃO"]
["4.1","Inspecionar Funcionamento dos disjuntores",null,null,null,"x"]
["4.2","Verificar ocorrências de sobreaquecimento",null,null,null,"x"]
["4.3","Checar lâmpadas de sinalização",null,"x"]
["4.4","Verificar ajuste zero dos medidores",null,null,null,"x"]
["4.5","Buscar ruídos e vibrações anormais",null,"x"]
["4.6","Checar transformadores de medição de painel",null,null,null,"x"]
["4.7","Inspecionar conexões dos cabos",null,"x"]
["4.8","Verificar aberturas e fechamentos dos armários",null,null,null,"x"]
["4.9","Medir e registrar correntes de fase do alimentador geral e circuitos derivados",null,"x"]
["4.10","Controlar os desbalanceamentos de correntes entre fases",null,null,"x"]
["4.11","Medir e registrar voltagens de linha e do neutro dos circuitos principais e derivados",null,"x"]
["4.12","Ajustar dispositivos de comando dos disjuntores",{"$nulls":4},"x"]
["4.13","Lubrificar articulações dos disjuntores",{"$nulls":4},"x"]
["4.14","Lubrificar dobradiças das portas",null,null,"x"]
["4.15","Efetuar limpeza do quadro com estopa embebida em solvente orgânico.",null,null,"x"]
["4.16","Inspecionar câmaras de extinção dos disjuntores",{"$nulls":5},"x"]
["4.17","Polir contatos dos terminais",{"$nulls":5},"x"]
["4.18","Reapertar terminais de ligação",{"$nulls":4},"x"]
["4.19","Analisar calibração dos relês de proteção",{"$nulls":5},"x"]
["4.20","Medir e registrar resistência de aterramento",{"$nulls":4},"x"]
["4.21","Aferir instrumentos de medição de painel",{"$nulls":5},"x"]
["4.22","Desfazer todas as conexões, poli-las e reconectá-las",{"$nulls":5},"x"]
["4.23","Efetuar reaperto geral",{"$nulls":5},"x"]
["4.24","Medir e registrar resistência de isolamento dos cabos",{"$nulls":5},"x"]
["4.25","Limpar barramentos",{"$nulls":4},"x"]
["4.26","Efetuar limpeza geral com jato de ar comprimido",{"$nulls":5},"x"]
["4.27","Combater corrosão e retocar pintura do gabinete",{"$nulls":5},"x"]
[5,"QUADROS DE TRANSFERÊNCIA AUTOMÁTICA"]
["5.1","Inspecionar funcionamento de disjuntores, chaves, relês, etc.",null,"x"]
["5.2","Verificar ocorrência de sobreaquecimento",null,null,null,"x"]
["5.3","Buscar lâmpadas sinalizadoras com defeito",null,"x"]
["5.4","Verificar ajuste zero de medidores",null,null,null,"x"]
["5.5","Checar funcionamento de sistema de alarmes",null,"x"]
["5.6","Buscar ruídos e vibrações anormais",null,null,null,"x"]
["5.7","Inspecionar transformadores de medição",null,null,null,"x"]
["5.8","Verificar conexão de cabos e fios",null,"x"]
["5.9","Checar pressões nos contatos dos disjuntores e chaves",null,null,null,"x"]
["5.10","Checar potenciômetros de ajuste de tensão",null,null,null,"x"]
["5.11","Inspecionar regulador automático de tensão",null,null,null,"x"]
["5.12","Verificar leituras do Amperímetro, voltímetro, frequencímetro, homerímetros, etc.","x"]
["5.13","Testar chaves reversora, de partida, comutadora etc.",null,null,null,"x"]
["5.14","Lubrificar articulações de disjuntores e chaves",{"$nulls":4},"x"]
["5.15","Lubrificar dobradiças dos armários",{"$nulls":4},"x"]
["5.16","Efetuar limpeza do quadro com estopa embebida em solvente orgânico",{"$nulls":4},"x"]
["5.17","Inspecionar câmaras de extinção de disjuntores e chaves",{"$nulls":4},"x"]
["5.18","Polir contato dos disjuntores e chaves",{"$nulls":4},"x"]
["5.19","Reapertar terminais de ligação dos disjuntores, chaves e demais componentes",{"$nulls":4},"x"]
["5.20","Verificar excesso de arco por ocasião de manobras",{"$nulls":4},"x"]
["5.21","Checar operações dos relês de tempo, sobrecarga, falta de fase, e sensor de tensão",{"$nulls":4},"x"]
["5.22","Medir e registrar aterramento do painel e grupo, testando continuidade",null,null,null,"x"]
["5.23","Aferir instrumentos de painel",{"$nulls":4},"x"]
["5.24","Desfazer todas as conexões, poli-las e reconectá-las",{"$nulls":4},"x"]
["5.25","Efetuar reaperto geral",null,null,null,"x"]
["5.26","Medir e registrar resistência de isolamento dos cabos e disjuntores",null,null,null,"x"]
["5.27","Limpar barramentos",{"$nulls":4},"x"]
["5.28","Efetuar limpeza geral com sopro de ar comprimido",{"$nulls":4},"x"]
["5.29","Fazer aplicações de produto químico.",{"$nulls":4},"x"]
["5.30","Combater corrosão e retocar pintura do quadro",{"$nulls":4},"x"]
[6,"ILUMINAÇÃO E TOMADAS"]
["6.1","Vistoriar todas as dependências para constatar se há lâmpadas apagadas, brilho arroxeado ou extremidade enegrecida, necessitando de substituição","x"]
["6.2","Antes de substituir qualquer lâmpada, inspecionar: contatos internos, fixação, soquetes, reator etc","x"]
["6.3","Inspecionar lâmpadas, refletores, luz de emergência etc., bem como interruptores, substituído as queimadas","x"]
["6.4","Corrigir fixação das tampas de caixas de passagem, tomadas e interruptores",null,"x"]
["6.5","Medir e registrar nível de iluminação nos pavimentos",null,null,"x"]
["6.6","Efetuar inspeção na rede de tomadas de piso",null,null,null,"x"]
["6.7","Reapertar carcaças das tomadas",null,null,null,"x"]
["6.8","Efetuar limpeza geral das lâmpadas e luminárias",{"$nulls":4},"x"]
["6.9","Reapertar parafusos de sustentação",null,null,null,"x"]
["6.10","Inspecionar reatores e reapertá-los",null,"x"]
["6.11","Inspecionar reatores bases e soquetes",null,"x"]
["6.12","Verificar aterramento das calhas",null,null,null,"x"]
["6.13","Vistoriar estado geral da fiação quanto ao aquecimento, isolamento, etc",null,null,null,"x"]
["6.14","Inspecionar caixas de interruptores das lâmpadas","x"]
["6.15","Inspecionar rede de tomadas verificando base e soquetes, fiação, sobre aquecimento e curtos circuitos","x"]
[7,"QUADROS GERAIS DE DISTRIBUIÇÃO"]
["7.1","Verificar Funcionamento dos disjuntores",null,null,null,"x"]
["7.2","Buscar ocorrências de sobreaquecimento",null,null,null,"x"]
["7.3","Inspecionar lâmpadas de sinalização",null,null,"x"]
["7.4","Buscar ruídos e vibrações anormais",null,null,"x"]
["7.5","Checar transformadores de medição de painel",null,null,null,"x"]
["7.6","Verificar conexões dos cabos",null,null,null,"x"]
["7.7","Checar aberturas e fechamentos dos armários",null,null,null,"x"]
["7.8","Medir e registrar correntes de fase do alimentador geral e circuitos derivados",null,null,null,"x"]
["7.9","Controlar os desbalanços de correntes entre fases",null,null,null,"x"]
["7.10","Medir e registrar voltagens de linha e do neutro dos circuitos principais e derivados",null,null,null,"x"]
["7.11","Ajustar dispositivos de comando dos disjuntores",{"$nulls":4},"x"]
["7.12","Lubrificar articulações dos disjuntores",{"$nulls":4},"x"]
["7.13","Lubrificar dobradiças das portas",{"$nulls":4},"x"]
["7.14","Efetuar limpeza do quadro com estopa embebida em solvente orgânico.",{"$nulls":4},"x"]
["7.15","Inspecionar câmaras de extinção dos disjuntores",null,null,null,"x"]
[8,"PORTÕES  "]
["8.1","Verificar o funcionamento dos controles sem fio atentando para o funcionamento dos botões",null,null,null,"x"]
["8.2","Verificar o funcionamento da central do comando dos equipamentos",null,null,null,"x"]
["8.3","Verificar o funcionamento e a integridade dos imãs de curso de portões",null,null,null,"x"]
["8.4","Verificar o estado dos trilhos e engrenagens atentando-se para ruídos anormais",null,null,null,"x"]
["8.5","Verificar limpeza dos componentes eletrônicos com jatos de ar comprimido",null,null,null,"x"]
["8.6","Conferir tempo de curso dos portões",null,null,null,"x"]
["8.7","Verificar a corrente consumida pelo motor em funcionamento, registrar e analisar.",null,null,null,"x"]
["8.8","Verificar o estado de conservação dos condutores elétricos de alimentação do motor",null,null,null,"x"]
["8.9","Realizar reapertos nas interligações dos condutores elétricos de alimentação dos motores",null,null,null,"x"]
["8.10","Verificar curso do portão em busca de movimentos anormais",null,null,null,"x"]
["8.11","Realizar limpeza geral dos componentes internos e externos",{"$nulls":4},"x"]
["8.12","Remover lubrificantes antigos e aplicar nova lubrificação às engrenagens",{"$nulls":4},"x"]
["8.13","Verificar integridade da mola buscando por pontos de corrosão e outros danos superficiais",{"$nulls":4},"x"]
["8.14","Revisar o equipamento promovendo desmontagem e inspeção de todos os componentes",{"$nulls":4},"x"]
[9,"EQUIPAMENTO UPS/NOBREAKS"]
["9.1","Limpeza geral interna e externa",{"$nulls":4},"x"]
["9.2","Verificação de danos físicos (estrutura e pintura)",null,"x"]
["9.3","Reaperto de parafusos, bornes de fixação e conexões elétricas",null,null,null,"x"]
["9.4","Verificação geral, verificação do painel, versão de firmware, controle e display",null,"x"]
["9.5","Ajuste de tensão, potência e frequência",{"$nulls":4},"x"]
["9.6","Verificação e aferição dos dados medidos com os informados pelo sistema de monitoramento dos equipamentos e display",{"$nulls":4},"x"]
["9.7","Verificação dos parâmetros essenciais, Inversor, placas em geral, placa controle, placa do carregador",null,"x"]
["9.8","Testes funcionais e simulações de falta de energia",{"$nulls":4},"x"]
["9.9","Medições de tensão, resistência interna, flutuação, recarga e teste de descarga do bancos das baterias, reaperto das conexões, medição por elemento, limpeza e testes em geral",{"$nulls":4},"x"]
["9.10","Checagem das tensões e correntes de entrada e saída",{"$nulls":4},"x"]
["9.11","Testes de falta de rede, transferência manual / automática de carga do inversor para rede e vice-versa",{"$nulls":4},"x"]
["9.12","Anotação das tensões dos elementos em uma tabela de histórico das baterias",{"$nulls":4},"x"]
["9.13","Verificação da temperatura dos elementos",null,"x"]
["9.14","Verificação da oxidação dos polos das conexões",null,"x"]
["9.15","Teste de alarmes sonoros e display digital",null,"x"]
["9.16","Verificação geral do painel dos Nobreaks",null,"x"]
["9.17","Verificação geral da corrente do filtro do inversor",null,null,null,"x"]
["9.18","Verificação do Hardware",null,"x"]
["9.19","Teste de chave estática",{"$nulls":4},"x"]
["9.20","Teste de sincronismo",{"$nulls":4},"x"]
["9.21","Observação da forma de onda de saída",{"$nulls":4},"x"]
["9.22","Observação de funcionamento dos ventiladores",null,"x"]
["9.23","Verificação das condições de aterramento e equipotencialização dos equipamentos",null,null,null,"x"]
["9.24","Extração do Log de eventos  para registro histórico e análise;",null,null,null,"x"]
["9.25","Verificar funcionamento das portas comunicação e monitoramento;",null,null,null,"x"]
["9.26","Elaborar e emitir relatório contendo os resultados de verificações e testes realizados na manutenção preventiva;",null,null,null,"x"]
["9.27","Elaborar e emitir relatório de problemas encontrados e medidas necessárias para adequação.",null,null,null,"x"]
["9.28","Realizar substituição de bateria (caso tenha mais de três anos)",{"$nulls":4},"x"]
["9.29","Realizar a substituição de ventiladores (conforme instrução do fabricante)",{"$nulls":4},"x"]
["9.30","Realizar a substituição de capacitores CC e CA (conforme instrução do fabricante)",{"$nulls":4},"x"]
[10,"GRUPO MOTOR-GERADOR"]
["SISTEMA DE ARREFECIMENTO"]
["10.1","Verificar e corrigir o nível do líquido de arrefecimento","x"]
["10.2","Verificar vestígios de vazamentos",null,null,"x"]
["10.3","Verificar a colmeia do radiador (obstrução e vazamentos)",null,null,"x"]
["10.4","Verificar o ventilador (trincas, rebites, cubo, pás soltas)",null,null,"x"]
["10.5","Verificar estado e tensão das correias",null,null,"x"]
["10.6","Verificar mangueiras e abraçadeiras do sistema",null,null,"x"]
["10.7","Registrar a temperatura do líquido de arrefecimento",null,"x"]
["10.8","Verificar vazamentos na bomba d´água",null,null,"x"]
["10.9","Controlar e regular a necessidade da troca d´água e anticorrosivo",null,null,null,"x"]
["10.10","Verificar integridade da ventoinha do radiador",null,null,null,"x"]
["10.11","Verificar/limpar filtro de ar",null,null,null,"x"]
["10.12","Verificar/limpar pré-filtro de ar",null,null,null,"x"]
["10.13","Verificar/limpar gamela de retenção de pó",null,null,null,"x"]
["10.14","Verificar no filtro de ar: tubos, mangueiras, abraçadeiras e limpar elemento do filtro",null,null,null,"x"]
["10.15","Troca do filtro de ar (primário e secundário)",{"$nulls":4},"x"]
["10.16","Substituir o líquido de arrefecimento e aditivo. Caso seja utilizado só água, a substituição deverá ser feita a cada três meses",{"$nulls":4},"x"]
["10.17","Substituir mangueiras",{"$nulls":5},"x"]
["10.18","Inspecionar cubo do ventilador",{"$nulls":5},"x"]
["SISTEMA DE LUBRIFICAÇÃO"]
["10.19","Verificar e corrigir o nível do óleo lubrificante",null,null,null,"x"]
["10.20","Verificar as mangueiras e abraçadeiras do sistema",null,null,null,"x"]
["10.21","Verificar vestígios de vazamento de óleo lubrificante",null,null,null,"x"]
["10.22","Realizar limpeza do respiro do cárter",null,null,null,"x"]
["10.23","Verificar pressão do óleo lubrificante",null,null,null,"x"]
["10.24","Troca do óleo lubrificante",{"$nulls":4},"x"]
["10.25","Substituir mangueiras",{"$nulls":5},"x"]
["SISTEMA DE COMBUSTÍVEL"]
["10.26","Verificar e testar indicador de restrição do filtro",null,null,null,"x"]
["10.27","Verificar e limpar filtro de  (se necessário indicar substituição)",null,null,null,"x"]
["10.28","Realizar a expurga de água no filtro",{"$nulls":5},"x"]
["10.29","Substituir mangueiras",{"$nulls":5},"x"]
["AUTOMAÇÃO (sensores e periféricos)"]
["10.30","Verificar o circuito e funcionamento do pré-aquecimento",null,null,null,"x"]
["10.31","Verificar as conexões elétricas do motor",null,null,null,"x"]
["10.32","Verificar e registrar a temperatura",null,null,null,"x"]
["10.33","Simular atuação do sensor de pressão",{"$nulls":4},"x"]
["10.34","Simular atuação do sensor de temperatura",{"$nulls":4},"x"]
["10.35","Simular atuação do sensor de sobrevelocidade",{"$nulls":4},"x"]
["10.36","Simular atuação do sensor de nível d´água",{"$nulls":4},"x"]
["10.37","Registrar sinal do sensor pick-up no livro",{"$nulls":4},"x"]
["10.38","Realizar limpeza do pick up magnético",{"$nulls":4},"x"]
["GERAL"]
["10.39","Verificar os amortecedores de vibrações",null,null,null,"x"]
["10.40","Verificar obstrução de passagens de ar internas e externas (sala)",null,null,null,"x"]
["10.41","Verificar segmento elástico e condições do escapamento",null,null,null,"x"]
["10.42","Verificar limpeza geral da sala e realizar limpeza do GMG",null,null,null,"x"]
["10.43","Avaliar ruídos anormais do motor / gerador",null,null,null,"x"]
["10.44","Verificar emissão excessiva de fumaça do GMG",null,null,null,"x"]
["10.45","Verificar chave de partida e contatos elétricos",null,null,null,"x"]
["10.46","Verificar folga em porcas e parafusos de todo sistema mecânico",null,null,null,"x"]
["10.47","Limpar motor",null,null,null,"x"]
["10.48","Verificar e deixar gerador sempre em modo automático",null,null,null,"x"]
["10.49","Realizar teste de funcionamento automático sob carga",{"$nulls":4},"x"]
["BATERIA"]
["10.50","Verificar conexão dos cabos da bateria e fazer reaperto de bornes",null,null,null,"x"]
["10.51","Limpar e aplicar vaselina nos terminais da bateria",null,null,null,"x"]
["10.52","Registrar a mínima tensão da bateria na partida do motor",null,null,null,"x"]
["10.53","Registrar a tensão do alternador de baterias",null,null,null,"x"]
["10.54","Registrar tensão do carregador de baterias",null,null,null,"x"]
["10.55","Verificar o sistema de carga",null,null,null,"x"]
["10.56","Registrar a corrente do flutuador em carga",{"$nulls":4},"x"]
["10.57","Verificarregulador de tensão do alternador",{"$nulls":4},"x"]
["10.58","Reaperto de parafusos de fixação em geral",{"$nulls":4},"x"]
["10.59","Trocar todas baterias do Grupo Motor Gerador e quadros. Observação: Caso a bateria fornecida seja selada e com garantia de 18 meses ou mais, a mesma poderá ser substituída 1 mês antes do término da garantia",{"$nulls":5},"x"]
["REGISTRO DE ALARMES/EVENTOS DO MÓDULO"]
["10.60","Registrar os últimos 5 alarmes",null,null,null,"x"]
["GERADOR / ALTERNADOR"]
["10.61","Verificar as conexões elétricas do gerador",null,null,null,"x"]
["10.62","Registrar a tensão das fases AN, BN, CN, AB, BC, CA do gerador",null,null,null,"x"]
["10.63","Registrar a frequência da tensão gerada",null,null,null,"x"]
["10.64","Verificar motor de partida",null,null,null,"x"]
["10.65","Verificar conexões elétricas do motor de partida",null,null,null,"x"]
["10.66","Registrar temperatura dos cabos de potência nas QTAs",{"$nulls":4},"x"]
["10.67","Verificar aperto dos cabos de força na bazeta",{"$nulls":4},"x"]
["10.68","Verificar partes internas do gerador / diodos / placa de diodos",{"$nulls":4},"x"]
["10.69","Registrar a corrente do gerador",{"$nulls":4},"x"]
["10.70","Teste da isolação do enrolamento de campo com tensão",{"$nulls":5},"x"]
["QUADRO DE FORÇA E CONTROLE"]
["10.71","Verificar as conexões elétricas do gerador",null,null,null,"x"]
["10.72","Registrar a tensão das fases AN, BN, CN, AB, BC, CA do gerador",null,null,null,"x"]
["10.73","Registrar a frequência da tensão gerada",null,null,null,"x"]
["10.74","Fazer inspeção com câmeras térmicas dos disjuntores e contatores",{"$nulls":4},"x"]
["10.75","Lubrificação das dobradiças",{"$nulls":5},"x"]
["10.76","Lubrificação das articulações dos contatores",{"$nulls":5},"x"]
["10.77","Reaperto das conexões elétricas",{"$nulls":4},"x"]
["10.78","Ajuste zero dos medidores",{"$nulls":5},"x"]
["10.79","Limpeza geral do quadro",{"$nulls":5},"x"]
["PAINEL DE INSTRUMENTO DO GERADOR"]
["10.80","Partida manual na chave do motor – realizar teste sem carga",null,null,null,"x"]
["SISTEMA DE ADMISSÃO"]
["10.81","Verificar vazamentos no sistema de admissão",null,null,null,"x"]
["10.82","Verificar folga dos turbocompressores",null,null,null,"x"]
[11,"SISTEMAS DE SEGURANÇA CONTRA INCÊNDIO"]
["REDE DE HIDRANTES"]
["11.1","Inspecionar a parte hidráulica de todo o sistema de combate a incêndio (hidrantes e sprinklers): verificar e corrigir vazamentos na rede, nos registros, barriletes, verificar e corrigir problemas no acesso a hidrantes e registros, verificar se os esguichos e requintes estão em condições de uso",null,null,null,"x"]
["11.2","Verificar a estanqueidade dos registros e válvulas",null,null,null,"x"]
["11.3","Verificar o nível dos reservatórios",null,null,null,"x"]
["11.4","Inspecionar as ligações e conexões, observando a existência de vazamentos e oxidação",null,null,null,"x"]
["11.5","Verificar e corrigir, se necessário, os controladores de nível dos reservatórios",null,null,null,"x"]
["11.6","Testar o sistema, verificando as condições dos registros, acoplamentos, mangueiras e demais componentes",null,null,null,"x"]
["11.7","Acionar as bombas, verificando o funcionamento dos controles manuais e automáticos, do equipamento e dos sinalizadores",null,null,"x"]
["11.8","Limpar e lubrificar o motor e a bomba, inibindo os focos de corrosão e efetuando os retoques de pintura necessárias",null,null,"x"]
["11.9","Limpar as caixas e compartimentos dos sistemas, lubrificando as partes móveis",{"$nulls":5},"x"]
["REDE DE SPRINKLER"]
["11.10","Verificar se os chuveiros automáticos estão em boas condições, limpos e sem vazamentos.",null,null,"x"]
["11.11","Acionar as bombas, verificando o funcionamento dos controles manuais e automáticos, do equipamento e dos sinalizadores",null,"x"]
["11.12","Inspecionar as ligações e conexões, observando a existência de vazamentos e oxidação",null,null,null,"x"]
["11.13","Verificar a existência de vazamentos e/ou outros defeitos nas tubulações",null,"x"]
["11.14","Verificar a estanqueidade dos registros e válvulas",null,"x"]
["11.15","Verificar se as pressões dos manômetros estão normais",null,"x"]
["11.16","realizar teste com rompimento de uma ampola, escolhida pela fiscalização",{"$nulls":5},"x"]
["DETECÇÃO E ALARME DE INCÊNDIO e ILUMINAÇÃO DE EMERGÊNCIA"]
["11.17","Testar a operação dos alarmes sonoros e visuais",null,null,null,"x"]
["11.18","Inspecionar as chaves de fluxo, cabos de acionamento, acionadores manuais, alarmes sonoros, detetores, condutores elétricos. ",null,null,"x"]
["11.19","Verificar acúmulo de sujeira ou corpos estranhos, vestígios de corrosão, eventuais danos mecânicos.",null,null,"x"]
["11.20","Efetuar teste de funcionamento dos sistemas de iluminação conforme instruções do fornecedor",null,null,"x"]
["11.21","Verificar se os fusíveis estão bem fixados ou queimados e, se necessário, efetuar reparos. Verificar led das baterias.",{"$nulls":4},"x"]
["EXTINTORES"]
["11.22","Verificar  a data de  vencimento  de  nova  recarga  de  cilindros  de  extintores.  E  quando\nnecessário, recolher os extintores que irão para recarga",null,null,null,"x"]
[12,"CENTRAL DE GÁS GLP"]
["12.1","Inspecionar e, se necessário providenciar o reparo  das válvulas, mangueiras, manômetros e conexões.",null,"x"]
["12.2","Inspeção dos cilindros.",{"$nulls":5},"x"]
["12.3","Inspeção da ventilação do recinto do ambiente.",null,null,null,"x"]
["12.4","Inspecionar vazamento e corrosão, realizando laudo de estaqueidade na periodicidade estabelecida na legislação vigente.",{"$nulls":5},"x"]
["12.5","Promover reparos de trechos e de fixações;",null,null,null,"x"]
["12.6"," Inspecionar as uniões dos tubos e conexões;",null,null,"x"]
["12.7","Providenciar pintura contra corrosão.",{"$nulls":5},"x"]
["12.8","Inspecionar o funcionamento das válvulas reguladoras de pressão.",{"$nulls":4},"x"]
[13,"SISTEMA DE BOMBEAMENTO"]
["13.1","Verificar eventuais desgastes das escovas e anéis coletores","x"]
["13.2","Inspecionar o sistema de ventilação quanto ao correto fluxo de ar","x"]
["13.3","Inspecionar todos os acessórios, proteções e conexões do motor e assegurar seu correto funcionamento","x"]
["13.4","Manter o motor e os equipamentos associados limpos.",null,"x"]
["13.5","Verificar desgastes, lubrificação e vida útil dos mancais.",null,null,"x"]
["13.6","Efetuar reaperto de todos os parafusos",null,null,null,"x"]
["13.7","Verificar se as tubulações de sucção ou de recalque estão exercendo esforços indevidos em alguma das bombas",{"$nulls":4},"x"]
["13.8","Realizar revisão geral no conjunto girante, no rotor e no interior da carcaça abrindo e remontando os conjuntos.",null,null,null,"x"]
["13.9","Medir, registrar e analisar a folga do acoplamento",null,null,"x"]
["13.10","Verificar e corrigir ruídos e vibrações anormais",null,null,null,"x"]
["13.11","Verificar e reapertar abraçadeiras e mangotes","x"]
["13.12","Verificar acoplamentos/rolamentos.",null,null,null,"x"]
["13.13","Verificar e ajustar gaxetas (60 a 90 gotas p/m), caso existam",null,null,null,"x"]
["13.14","Verificar e limpar dreno",null,null,null,"x"]
["13.15","Trocar o óleo da bomba",{"$nulls":5},"x"]
["13.16","Eliminar focos de oxidação e retocar a pintura",null,null,null,"x"]
["13.17","Testar e regular o relê térmico do motor",null,null,null,"x"]
["13.18","Verificar e limpar filtros de sucção",{"$nulls":4},"x"]
["13.19","Verificar e registrar e analisar diferencial de pressão de trabalho utilizando os manômetros da instalação","x"]
["13.20","Efetuar limpeza dos manômetros",{"$nulls":4},"x"]
["13.21","Verificar a presença de desgastes nos eixos do motor, determinar a causa e realizar ajustes necessários",{"$nulls":5},"x"]
["13.22","Inspecionar amortecedores de vibração",null,null,null,"x"]
["13.23","Limpar filtros de sucção",null,null,null,"x"]
["13.24","Realizar limpeza externa dos dispositivos",null,null,null,"x"]
["13.25","Verificar danos aos elementos filtrantes",null,null,null,"x"]
["13.26","Verificar a atuação das válvulas de retenção",null,"x"]
[14,"CLIMATIZAÇÃO E REFRIGERAÇÃO"]
["14.1","Limpeza do filtro de poeira",null,"x"]
["14.2","Limpeza da mangueira de drenagem",null,null,null,"x"]
["14.3","Limpeza da bandeja de drenagem",null,null,null,"x"]
["14.4","Verificação do encaixe das aletas",null,null,null,"x"]
["14.5","Limpeza da serpentina",{"$nulls":4},"x"]
["14.6","Ajuste dos contatos dos cabos elétricos no borne",{"$nulls":4},"x"]
["14.7","Limpeza do sistema de drenagem (caso exista)",{"$nulls":4},"x"]
["14.8","Revisão dos contatos dos cabos elétricos no compressor",{"$nulls":4},"x"]
["14.9","Revisão do sensor de temperatura (caso exista)",{"$nulls":4},"x"]
["14.10","Ajuste dos parafusos do gabinete",{"$nulls":4},"x"]
["14.11","Verificação dos capacitores",{"$nulls":4},"x"]
["14.12","Verificação dos calços",{"$nulls":4},"x"]
["14.13","Ajuste da hélice e motor",{"$nulls":4},"x"]
["14.14","Verificação sobre necessidade de substituição do fluido",{"$nulls":4},"x"]
["14.15","Substituição das pilhas do controle remoto",{"$nulls":5},"x"]
["14.16","Verificação do isolamento da tubulação existente entre as unidades",{"$nulls":5},"x"]
["14.17","Verificação do travamento da tubulação",{"$nulls":5},"x"]

{"sheet":"IMR","index":16,"n_rows":90,"n_cols":3,"rows_kept":90,"cut":false,"hidden":false,"merged":[]}
["Instrumento de Medição de Resultados - IMR"]
["Número do Contrato:"]
["Contratada:"]
["CNPJ:"]
["Mês/ano de Referência:"]
["Ocorrências 1 - Mão-de-Obra","(pts):"]
["Ocorrências 2 - Materiais","(pts):"]
["Desconto 1 - Mão de Obra","(%):"]
["Desconto 2 - Materiais","(%):"]
["Valor da medição","(R$):"]
["Valor do desconto","(R$):"]
["Valor da medição descontado","(R$):"]
[]
["INDICADOR 1: MÃO DE OBRA RESIDENTE"]
["Item","Descrição do Item"]
["Finalidade","Fornecer postos necessários à execução dos serviços essenciais ao funcionamento do edifício"]
["Meta a cumprir","Disponibilizar postos de trabalho qualificados, responsáveis pela execução das rotinas apresentadas no PMO"]
["Instrumento de Medição","Posto de trabalho"]
["Forma de acompanhamento","Conferência das folhas de ponto e fiscalização técnica periodica"]
["Periodicidade","Diária"]
["Mecanismo de Cálculo","Todas as ocorrências serão registradas pelo fiscal do contrato, que notificará a Contratada, atribuindo pontos que serão acumulados"]
["Início da vigência","Inicio do contrato"]
["Faixas de ajuste no pagamento","Porcentagem de glosa por pontuação acumulada conforme somatória dos pontos do indicador"]
["Sanções","Advertência e/ou glosa da fatura mensal."]
["Observações","Caso da Contratada somar 35 (trinta e cinco) pontos ficará facultada à Contratante a rescisão unilateral sem ônus financeiro do contrato"]
[]
["Indicador 1 - Pontuação por Ocorrência"]
["Ocorrência","Aferição","Pontuação"]
["Deixar de fornecer cobertura para posto de trabalho (gloza na fatura correspondente)","O fiscal formalizará o chamado através de correspondência eletrônica ao endereço fornecido pela empresa.","5/dia\n/profissional"]
["Deixar de efetuar o fornecimento de uniformes ou ferramentas","O fiscal formalizará o chamado através de correspondência eletrônica ao endereço fornecido pela empresa.","1/dia\n/profissional"]
["Deixar de fornecer EPI","O fiscal formalizará o chamado através de correspondência eletrônica ao endereço fornecido pela empresa.","3/dia\n/profissional"]
["Deixar de fornecer ferramentas e equipamentos","O fiscal formalizará o chamado através de correspondência eletrônica ao endereço fornecido pela empresa.","2/dia\n/profissional"]
["Deixar de executar a demanda encaminhada através da Ordem de Serviços","O fiscal formalizará o chamado através de correspondência eletrônica ao endereço fornecido pela empresa.","3/dia"]
["Atraso acima de 3 dias na execução da OS, sem justificativa formal apresentada","O fiscal formalizará o chamado através de correspondência eletrônica ao endereço fornecido pela empresa.","7/dia"]
["Atraso acima de 3 dias na execução da OS, com justificativa formal apresentada","O fiscal formalizará o chamado através de correspondência eletrônica ao endereço fornecido pela empresa.","1/dia"]
["Executar os serviços com materiais que não estejam em conformidade com o solicitado","O fiscal formalizará o chamado através de correspondência eletrônica ao endereço fornecido pela empresa.",1]
["Deixar de prestar esclarecimentos solicitados pela Contratante no prazo de 2 horas referente aos engenheiros e encarregados","Os registros das solicitações de esclarecimentos serão individuais, formalizados através de correspondência eletrônica pelo fiscal ao endereço fornecido pela empresa. Cada fato ocorrido corresponderá uma ocorrência, podendo ocorrer o registro de várias ocorrências na mesma data.","5/hora\n(após o atraso)"]
["Deixar de responder ao fiscal dentro do prazo máximo de 15 minutos, por qualquer meio (referente aos engenheiros e encarregados)","O fiscal registrará a ocorrência acompanhada de informações sobre o fato ocorrido e poderá requerer a substituição do empregado.","2/15min\n(após o atraso)"]
["Não atendimento à solicitação de susbtituição dos empregados alocados.","Os registros das ocorrências serão individuais, ou seja, a cada fato ocorrido corresponderá uma ocorrência, podendo ocorrer o registro de várias ocorrências na mesma data.","1/dia\n/profissional"]
["Falta de cordialidade no trato com os servidores, colaboradores e contribuintes.","O fiscal registrará a ocorrência acompanhada de informações sobre o fato ocorrido e poderá requerer a substituição do empregado.","0,5/dia\n/posto"]
["Não atendimento a qualquer outra obrigação prevista no edital e seus anexos não especificada nesta tabela.","Os registros das ocorrências serão individuais, ou seja, a cada fato ocorrido corresponderá uma ocorrência, podendo ocorrer o registro de várias ocorrências na mesma data.",1.5]
["Pontuação Total Registrada"]
[]
["Indicador 1 - Porcentagem de Glosa por Pontuação Acumulada"]
["Pontuação Acumulada","Glosa (%)","Valor da glosa (%)"]
[5,"Não há glosa, apenas advertência"]
[10,"Glosa correspondente a 1% do valor faturado do mês de apuração da pontuação"]
[15,"Glosa correspondente a 2% do valor faturado do mês de apuração da pontuação"]
[20,"Glosa correspondente a 3% do valor faturado do mês de apuração da pontuação"]
[25,"Glosa correspondente a 4% do valor faturado do mês de apuração da pontuação."]
[30,"Glosa correspondente a 7% do valor faturado do mês de apuração da pontuação"]
[35,"Glosa correspondente a 10% do valor faturado do mês de apuração da pontuação, acrescido de 1% para cada ponto extra"]
["Total Registrado"]
[]
["INDICADOR 2: MATERIAIS E SERVIÇOS SUBCONTRATADOS"]
["Item","Descrição do Item"]
["Finalidade","Ações técnicas consideradas essenciais para a conservação e funcionamento do edifício."]
["Meta a cumprir","São materiais utilizados em serviços que englobam manutenção preventiva, corretiva e preditiva verificada vistorias diárias, semanais, quinzenais, mensais, semestrais e anuais nos prédios."]
["Instrumento de Medição","Verificação in loco do fiscal do contrato e relatos escritos de usuários, via correio eletrônico"]
["Forma de acompanhamento","Vistoria, relatórios e reuniões com o fiscal de contrato"]
["Periodicidade","Diária, semanal, quinzenal, mensal, semestral e anual, conform PMOC"]
["Mecanismo de Cálculo","Todas as ocorrências serão registradas pelo fiscal do contrato, que notificará a Contratada, atribuindo pontos que serão acumulados"]
["Início da vigência","Inicio do contrato"]
["Faixas de ajuste no pagamento","Porcentagem de glosa por pontuação acumulada conforme somatória dos pontos do indicador"]
["Sanções","Advertência e/ou glosa da fatura mensal."]
["Observações","Caso da Contratada somar 35 (trinta e cinco) pontos ficará facultada à Contratante a rescisão unilateral sem ônus financeiro do contrato"]
[]
["Indicador 2 - Pontuação por Ocorrência"]
["Ocorrência","Aferição","Pontuação"]
["Não fornecer o material dentro do prazo especificado em ordem de serviço.","Os registros das ocorrências pelo fiscal serão individuais, ou seja, a cada fato ocorrido corresponderá uma ocorrência, podendo ocorrer o registro de várias ocorrências na mesma data","4 para cada dia de atraso"]
["Entregar material fora das especificações apresentadas na assinatura do contrato","Os registros das ocorrências pelo fiscal serão individuais, ou seja, a cada fato ocorrido corresponderá uma ocorrência, podendo ocorrer o registro de várias ocorrências na mesma data","3 para cada tipo de material"]
["Não atender ao fiscal quanto à solicitação de remoção de material estocado dentro do prédio","Os registros das ocorrências pelo fiscal serão individuais, ou seja, a cada fato ocorrido corresponderá uma ocorrência, podendo ocorrer o registro de várias ocorrências na mesma data","4 para cada tipo de material"]
["Estocar material em área do edifício que não seja a autorizada pelo fiscal","Os registros das ocorrências pelo fiscal serão individuais, ou seja, a cada fato ocorrido corresponderá uma ocorrência, podendo ocorrer o registro de várias ocorrências na mesma data","1 para cada hora"]
["Deixar de apresentar os relatórios comprovando a utilização do material","Os registros das ocorrências pelo fiscal serão individuais, ou seja, a cada fato ocorrido corresponderá uma ocorrência, podendo ocorrer o registro de várias ocorrências na mesma data","2 para cada item não comprovado"]
["Deixar de de prestar esclarecimentos solicitados comprovando o descarte correto de entulho","Os registros das ocorrências pelo fiscal serão individuais, ou seja, a cada fato ocorrido corresponderá uma ocorrência, podendo ocorrer o registro de várias ocorrências na mesma data","5 para cada dia não respondido"]
["Deixar de prestar esclarecimentos solicitados no prazo de 2 horas","Os registros das ocorrências pelo fiscal serão individuais, ou seja, a cada fato ocorrido corresponderá uma ocorrência, podendo ocorrer o registro de várias ocorrências na mesma data",1]
["Não atender às Normas de Sustentabilidade quanto ao descarte de material","Os registros das ocorrências pelo fiscal serão individuais, ou seja, a cada fato ocorrido corresponderá uma ocorrência, podendo ocorrer o registro de várias ocorrências na mesma data","7,5 para cada dia"]
["Não atendimento a qualquer outra obrigação prevista no edital e seus anexos não especificada nesta tabela","Os registros das ocorrências pelo fiscal serão individuais, ou seja, a cada fato ocorrido corresponderá uma ocorrência, podendo ocorrer o registro de várias ocorrências na mesma data","0,5 para cada ocorrência"]
["Pontuação Total Registrada"]
[]
["Indicador 2 - Porcentagem de Glosa por Pontuação Acumulada"]
["Pontuação Acumulada","Glosa (%)","Valor da glosa (%)"]
[5,"Não há glosa, apenas advertência"]
[10,"Glosa correspondente a 1% do valor faturado do mês de apuração da pontuação"]
[15,"Glosa correspondente a 2% do valor faturado do mês de apuração da pontuação"]
[20,"Glosa correspondente a 3% do valor faturado do mês de apuração da pontuação"]
[25,"Glosa correspondente a 4% do valor faturado do mês de apuração da pontuação."]
[30,"Glosa correspondente a 5% do valor faturado do mês de apuração da pontuação"]
[35,"Glosa correspondente a 5% do valor faturado do mês de apuração da pontuação, acrescido de 1% para cada ponto extra"]
["Total Registrado"]

{"sheet":"OS","index":17,"n_rows":33,"n_cols":10,"rows_kept":33,"cut":false,"hidden":false,"merged":[[1,8,1,9],[1,0,1,7],[30,1,30,8],[31,0,31,9],[9,0,10,0],[28,1,28,8],[29,1,29,5],[25,1,25,5],[26,1,26,5],[27,1,27,5],[9,8,9,9],[9,1,10,5],[9,6,10,6],[9,7,10,7],[20,1,20,5],[22,1,22,5],[7,0,7,9],[24,1,24,5],[15,1,15,5],[16,1,16,5],[17,1,17,5],[18,1,18,5],[19,1,19,5],[0,0,0,9],[2,6,2,7],[2,0,2,5],[32,0,32,9],[11,1,11,5],[12,1,12,5],[13,1,13,5],[14,1,14,5],[3,0,3,6],[5,0,5,9],[6,0,6,9],[8,0,8,9],[3,7,3,9],[4,0,4,9],[21,1,21,5],[23,1,23,5]]}
["CODEVASF"]
["ORDEM DE SERVIÇO/FORNECIMENTO DE PEÇAS E MATERIAIS/OS  ",{"$nulls":7},"Nº xx/xxxx"]
["Contrato nº 00/0000",{"$nulls":5},"MÊS: xxxxxxxxx"]
["PROCESSO Nº",{"$nulls":6},"Empresa: xxxxxxxxxx CNPJ: xxxxxxxxxxx"]
["Procedência: "]
["Solicitante:"]
["Local do serviço: "]
[]
["Descrição do serviço:"]
["Item","Insumo/Material",{"$nulls":4},"Unid","Quant. ","Custo  (R$) "]
[{"$nulls":8},"Unitário","Total"]
[1]
[2]
["."]
["."]
["."]
{"$rows_empty":12}
[null,"Soma Parcial"]
[null,"BDI Insunos/Materiais",{"$nulls":4},"%"]
[null,"Soma Total (Soma Parcial + BDI)"]
["Elaboração/Emissão : "]
["Aprovação: "]