{"text_format":"2","workbook":"xlsx","n_sheets":9,"sheets":["Resumo","Orçamento","Composição Telhado","Composição SPDA","Cotação SGF Cobertura","Cotação SGF Estacionamento","BDI","Encargos Sociais","Cronograma"],"not_rendered":{"charts":0,"images":2,"macros":0,"external_links":0,"defined_names":10,"comments":2,"pivot_tables":0},"unopened":[],"bounds":{"document_bytes":16777216,"sheet_cells":100000,"run_cost":"one","rows_first":2000,"rows_last":500,"rows_between":2000,"halvings":0,"cell_chars":16384,"cell_head_chars":4096},"cells_cut":0,"cells_raw":0,"read":"whole","date_system":"1900"}

{"sheet":"Resumo","index":0,"n_rows":19,"n_cols":7,"rows_kept":19,"cut":false,"hidden":false,"merged":[[7,0,7,4],[0,1,0,5],[1,0,1,5]]}
[null,"Ministério da Integração e do Desenvolvimento Regional – MIDR\nCompanhia de Desenvolvimento dos Vales do São Francisco e do Parnaíba"]
["Fornecimento, a instalação, o comissionamento, a aprovação junto à concessionária de energia local e a operação assistida e manutenção por período de 12 meses de Sistema de Geração Fotovoltaica on-grid para o Edifício Sede da Codevasf, localizado em Brasília/DF"]
["ITEM","DESCRIÇÃO / ESPECIFICAÇÃO","UNIDADE DE MEDIDA","QUANTIDADE","Preço Unitário","Preço Total"]
[1,{"$f":"Orçamento!C7","v":"Adequação do telhado localizado na cobertura do Edifício Sede"},{"$f":"Orçamento!D7","v":"und. "},{"$f":"Orçamento!E7","v":1},{"$f":"Orçamento!I7","v":221514.98320915207},{"$f":"D4*E4","v":221514.98320915207}]
[2,{"$f":"Orçamento!C11","v":"Adequação do SPDA do Edifício Sede"},{"$f":"Orçamento!D11","v":"und."},{"$f":"Orçamento!E11","v":1},{"$f":"Orçamento!I11","v":154441.11674097981},{"$f":"D5*E5","v":154441.11674097981}]
[3,{"$f":"Orçamento!C15","v":"Projeto executivo, fornecimento, instalação, comissionamento e aprovação junto à concessionaria de energia local de Sistema de Geração Fotovoltaica on-grid de 424 kWp na cobertura do Edifício Sede da Codevasf, conforme condições estabelecidas neste edital e seus Anexos"},{"$f":"Orçamento!D15","v":"kWp"},{"$f":"Orçamento!E15","v":424},{"$f":"Orçamento!F15","v":2568.0260556163771},1088843.0475813439]
[4,{"$f":"Orçamento!C16","v":"Projeto Executivo, fornecimento, instalação, comissionamento e aprovação junto à concessionaria de energia local de Sistema de Geração Fotovoltaica on-grid em estrutura carport de 177 kWp no estacionamento do Edifício Sede da Codevasf, conforme condições estabelecidas neste edital e seus Anexos."},{"$f":"Orçamento!D16","v":"kWp"},{"$f":"Orçamento!E16","v":177},{"$f":"Orçamento!F16","v":3688},652776,{"$f":"F7+F6","v":1741619.0475813439}]
["VALOR TOTAL :",{"$nulls":4},{"$f":"SUM(F4:F7)","v":2117575.1475314759}]
[{"$nulls":6},{"$f":"G7/F8","v":0.82245914607167736}]
{"$rows_empty":9}
[null,null,{"$f":"(G7*100%)/F8","v":0.82245914607167736}]

{"sheet":"Orçamento","index":1,"n_rows":16,"n_cols":9,"rows_kept":16,"cut":false,"hidden":false,"merged":[[4,6,5,6],[4,7,5,7],[4,8,5,8],[4,0,5,0],[4,1,5,1],[4,2,5,2],[4,3,5,3],[4,4,5,4],[4,5,5,5],[0,0,1,1],[2,0,3,2],[0,2,0,8],[1,2,1,8],[2,6,2,8],[3,7,3,8],[2,3,3,3],[2,4,3,4],[2,5,3,5]]}
[null,null,"Ministério da Integração e do Desenvolvimento Regional – MIDR"]
[null,null,"Companhia de Desenvolvimento dos Vales do São Francisco e do Parnaíba"]
["Fornecimento, a instalação, o comissionamento, a aprovação junto à concessionária de energia local e a operação assistida e manutenção por período de 12 meses de Sistema de Geração Fotovoltaica on-grid para o Edifício Sede da Codevasf, localizado em Brasília/DF",null,null,"Base de preço","SINAPI","2024-09-01","Sem desoneração"]
[{"$nulls":6},"BDI Serviço",{"$f":"BDI!C24","v":0.20796173004820551}]
["ITEM ","Fonte","DESCRIÇÃO","UND.","QNT.","Custo direto ","BDI","Custo com BDI","TOTAL"]
[]
[1,"Composição Própria","Adequação do telhado localizado na cobertura do Edifício Sede","und. ",1,null,null,null,{"$f":"SUM(I8:I10)","v":221514.98320915207}]
["1.1",null,{"$f":"'Composição Telhado'!D3","v":"Remoção das telhas de fibrocimento"},{"$f":"'Composição Telhado'!E3","v":"m²"},{"$f":"'Composição Telhado'!F3","v":2163},{"$f":"'Composição Telhado'!G3","v":4.9000000000000004},{"$f":"$H$4","v":0.20796173004820551},{"$f":"F8*(1+G8)","v":5.9190124772362074},{"$f":"H8*E8","v":12802.823988261916}]
["1.2",null,{"$f":"'Composição Telhado'!D4","v":"Renovação da trama de madeira"},{"$f":"'Composição Telhado'!E4","v":"m²"},{"$f":"'Composição Telhado'!F4","v":1081.5},{"$f":"'Composição Telhado'!G4","v":23.82},{"$f":"$H$4","v":0.20796173004820551},{"$f":"F9*(1+G9)","v":28.773648409748255},{"$f":"H9*E9","v":31118.700755142738}]
["1.3",null,{"$f":"'Composição Telhado'!D5","v":"Telhamento"},{"$f":"'Composição Telhado'!E5","v":"m²"},{"$f":"'Composição Telhado'!F5","v":2163},{"$f":"'Composição Telhado'!G5","v":67.97},0.20796173004820551,82.105158791376525,177593.45846574742]
[2,"Composição Própria","Adequação do SPDA do Edifício Sede","und.",1,null,null,null,{"$f":"SUM(I12:I14)","v":154441.11674097981}]
["2.1",null,{"$f":"'Composição SPDA'!D3","v":"Sistema de Aterramento"},{"$f":"'Composição SPDA'!G3","v":"und."},{"$f":"'Composição SPDA'!H3","v":1},{"$f":"'Composição SPDA'!J3","v":4039.37},0.20796173004820551,{"$f":"F12*(1+G12)","v":4879.4043735048199},{"$f":"H12*E12","v":4879.4043735048199}]
["2.2",null,{"$f":"'Composição SPDA'!D8","v":"Sistema de Captação"},{"$f":"'Composição SPDA'!G8","v":"und."},{"$f":"'Composição SPDA'!H8","v":1},{"$f":"'Composição SPDA'!J8","v":1823.02},0.20796173004820551,{"$f":"F13*(1+G13)","v":2202.1383931124797},{"$f":"H13*E13","v":2202.1383931124797}]
["2.3",null,{"$f":"'Composição SPDA'!D13","v":"Condutores de proteção"},{"$f":"'Composição SPDA'!G13","v":"und."},{"$f":"'Composição SPDA'!H13","v":1},{"$f":"'Composição SPDA'!J13","v":121990.26699999999},0.20796173004820551,147359.57397436252,147359.57397436252]
[3,"Cotação","Projeto executivo, fornecimento, instalação, comissionamento e aprovação junto à concessionaria de energia local de Sistema de Geração Fotovoltaica on-grid de 424 kWp na cobertura do Edifício Sede da Codevasf, conforme condições estabelecidas neste edital e seus Anexos","kWp",{"$f":"'Cotação SGF Cobertura'!I6","v":424},{"$f":"'Cotação SGF Cobertura'!I32","v":2568.0260556163771},null,null,{"$f":"E15*F15","v":1088843.0475813439}]
[4,"Cotação","Projeto Executivo, fornecimento, instalação, comissionamento e aprovação junto à concessionaria de energia local de Sistema de Geração Fotovoltaica on-grid em estrutura carport de 177 kWp no estacionamento do Edifício Sede da Codevasf, conforme condições estabelecidas neste edital e seus Anexos.","kWp",{"$f":"'Cotação SGF Estacionamento'!I6","v":177},{"$f":"'Cotação SGF Estacionamento'!I34","v":3688},null,null,{"$f":"E16*F16","v":652776}]

{"sheet":"Composição Telhado","index":2,"n_rows":6,"n_cols":8,"rows_kept":6,"cut":false,"hidden":false,"merged":[[0,0,0,3],[0,4,0,7],[5,0,5,6]]}
["Adequação do telhado localizado na cobertura do Edifício Sede",null,null,null,"SINAPI 09/2024"]
["Item","Fonte","Código","Descrição","Und.","Qnt.","Custo Direto","Custo Total"]
["1.1","SINAPI",97649,"Remoção das telhas de fibrocimento","m²",2163,4.9000000000000004,{"$f":"F3*G3","v":10598.7}]
["1.2","SINAPI",92543,"Renovação da trama de madeira","m²",1081.5,23.82,{"$f":"F4*G4","v":25761.33}]
["1.3","SINAPI",94213,"Telhamento","m²",2163,67.97,147019.10999999999]
["TOTAL",{"$nulls":6},{"$f":"SUM(H3:H5)","v":183379.13999999998}]

{"sheet":"Composição SPDA","index":3,"n_rows":17,"n_cols":10,"rows_kept":17,"cut":false,"hidden":false,"merged":[[16,2,16,8],[0,2,0,5],[0,6,0,9],[2,3,2,5],[7,3,7,5],[12,3,12,5]]}
[null,null,"Adequação do SPDA do Edifício Sede",null,null,null,"SINAPI 09/2024"]
["Item","Fonte","Item","Fonte","Código","Descrição","Und.","Qnt.","Custo Direto","Custo Total"]
[null,null,"2.1","Sistema de Aterramento",null,null,"und.",1,null,{"$f":"SUM(J4:J7)","v":4039.37}]
[null,null,"2.1.1","SINAPI",96985,"HASTE DE ATERRAMENTO, DIÂMETRO 5/8\",COM 3 METROS-FORNECIMENTO E INSTALAÇÃO .AF_08/2023","UN",24,70.63,{"$f":"H4*I4","v":1695.12}]
[null,null,"2.1.2","SINAPI",98111,"CAIXA DE INSPEÇÃO PARA ATERRAMENTO, CIRCULAR, EM POLIETILENO, DIÂMETRO INTERNO = 0,3 M. AF_12/2020","UN",24,67.22,{"$f":"H5*I5","v":1613.28}]
[1,"SINAPI","2.1.3","SINAPI",104750,"CONECTOR GRAMPO METÁLICO TIPO OLHAL, PARASPDA, PARAHASTE DE ATERRAMENTODE 5/8'' E CABOS DE 10 A 50 MM2- FORNECIMENTO E INSTALAÇÃO .AF_08/2023","UN",24,15.83,379.92]
[2,"SINAPI","2.1.4","SINAPI",101875,"QUADRO DE DISTRIBUIÇÃO DE ENERGIA EM CHAPA DE AÇO GALVANIZADO, DE EMBUTIR, COM BARRAMENTO TRIFÁSICO, PARA 12 DISJUNTORES DIN 100A - FORNECIMENTO E INSTALAÇÃO. AF_10/2020","UN",1,351.05,351.05]
[3,"SINAPI","2.2","Sistema de Captação",null,null,"und.",1,null,{"$f":"SUM(J9:J12)","v":1823.02}]
[4,"SINAPI","2.2.1","SINAPI",96989,"CAPTOR TIPO FRANKLIN PARA SPDA - FORNECIMENTO E INSTALAÇÃO. AF_08/2023","UN",2,113.62,{"$f":"H9*I9","v":227.24}]
[5,"SINAPI","2.2.2","SINAPI",96988,"MASTRO 1½\" , COM 3 METROS, PARA SPDA - FORNECIMENTO E INSTALAÇÃO. AF_08/2023","UN",2,135.82,{"$f":"H10*I10","v":271.64}]
[6,"SINAPI","2.2.3","SINAPI",96987,"BASE METÁLICA PARA MASTRO 1½\" PARA SPDA - FORNECIMENTO E INSTALAÇÃO.AF_08/2023","UN",2,119.22,238.44]
[7,"SINAPI","2.2.4","SINAPI",104746,"MINI CAPTOR PARA SPDA - FORNECIMENTO E INSTALAÇÃO. AF_08/2023","UN",42,25.85,1085.7]
[8,"SINAPI","2.3","Condutores de proteção",null,null,"und.",1,null,{"$f":"SUM(J14:J16)","v":121990.26699999999}]
[9,"SINAPI","2.3.1","SINAPI",96977,"CORDOALHA DE COBRE NU 50 MM², ENTERRADA - FORNECIMENTO E INSTALAÇÃO. AF_08/2023","UN",408.1,71.97,{"$f":"H14*I14","v":29370.957000000002}]
[10,"SINAPI","2.3.2","SINAPI",96973,"CORDOALHA DE COBRE NU 35 MM², NÃO ENTERRADA, COM ISOLADOR - FORNECIMENTO E INSTALAÇÃO. AF_08/2023","UN",1134,80.59,{"$f":"H15*I15","v":91389.06}]
[11,"SINAPI","2.3.3","SINAPI",96984,"ELETRODUTO PVC RÍGIDO, DIÂMETRO 40MM, COM 3 METROS, PARA SPDA - FORNECIMENTO E INSTALAÇÃO. AF_08/2023","UN",19,64.75,1230.25]
[null,null,"TOTAL",{"$nulls":6},{"$f":"J3+J8+J13","v":127852.65699999999}]

{"sheet":"Cotação SGF Cobertura","index":4,"n_rows":32,"n_cols":9,"rows_kept":32,"cut":false,"hidden":false,"merged":[[17,0,17,5],[5,1,5,4],[6,0,6,8],[16,0,16,8],[31,0,31,7],[18,0,18,5],[19,0,19,5],[20,0,20,5],[21,0,21,5],[22,0,22,5],[23,0,23,5],[24,0,24,5],[25,0,25,5],[26,0,26,5],[27,0,27,5],[28,0,30,6]]}
["Processo","59500.002874/2024-99"]
["Responsável","Zênia Macêdo"]
["Órgão","AG/GCT/UTR"]
["Data da pesquisa","outubro de 2024"]
[]
["ITEM:",{"$f":"Resumo!B6","v":"Projeto executivo, fornecimento, instalação, comissionamento e aprovação junto à concessionaria de energia local de Sistema de Geração Fotovoltaica on-grid de 424 kWp na cobertura do Edifício Sede da Codevasf, conforme condições estabelecidas neste edital e seus Anexos"},null,null,null,"UNIDADE DE MEDIDA:","kWp","QUANTIDADE:",424]
["LICITAÇÕES ANTERIORES"]
["Órgão","Edital/Ano - Nº do Lote / Item","Quantidade (Kwp)","Valor Unitário R$/Kwp","Data","índice de atualização (nome)","Variação acumulada do índice (%)","Valor unitário aualizado","Utilizar?  (Sim/Não)"]
["Município de Céu Azul","Pregão Eletrônico nº. 25/2024",65,1928.83,"2024-06-28",null,null,{"$f":"D9","v":1928.83},"sim"]
["SEBRAE/MG","Pregão Eletrônico – Nº 12/2023",104.18,3209.73,"2023-04-14",null,null,{"$f":"D10","v":3209.73},{"$f":"IF(ISNUMBER(H10),IF(OR(H10<_xlfn.QUARTILE.INC(H9:H28,3)-1.5*(_xlfn.QUARTILE.INC(H9:H28,3)-_xlfn.QUARTILE.INC(H9:H28,1)),H10>_xlfn.QUARTILE.INC(H9:H28,3)+1.5*(_xlfn.QUARTILE.INC(H9:H28,3)-_xlfn.QUARTILE.INC(H9:H28,1))),\"Não\",\"Sim\"),\"\")","v":"Sim"}]
["TJ/AC","Pregão Eletrônico nº. 26/2023",169,3508.88,"2023-05-30",null,null,3508.88,{"$f":"IF(ISNUMBER(H11),IF(OR(H11<_xlfn.QUARTILE.INC(H9:H28,3)-1.5*(_xlfn.QUARTILE.INC(H9:H28,3)-_xlfn.QUARTILE.INC(H9:H28,1)),H11>_xlfn.QUARTILE.INC(H9:H28,3)+1.5*(_xlfn.QUARTILE.INC(H9:H28,3)-_xlfn.QUARTILE.INC(H9:H28,1))),\"Não\",\"Sim\"),\"\")","v":"Sim"}]
["Prefeitura de Matrinchã","Concorrência presencial n° 005/2024",633.36,{"$f":"870000/C12","v":1373.6263736263736},"2024-04-10",null,null,1373.6263736263736,"sim"]
["Subseção Judiciária e Juizado Especial Federal de Dourados/MS","Pregão 018/2023",99,{"$f":"278600/C13","v":2814.1414141414143},"2023-10-30",null,null,2814.1414141414143,"sim"]
["CREA_GO ","Pregão 00048/2023",218.35,{"$f":"595621.51/C14","v":2727.8292191435771},null,null,null,2727.8292191435771,"sim"]
["CISPARA","Pregão Eletrônico nº. 5/2024",21583.33,5414.97,"2024-06-06",null,null,5414.97,"não"]
[]
["COTAÇÕES DE MERCADO"]
["Empresa",{"$nulls":5},"Data","Valor Unitário","Utilizar? (Sim/Não)"]
["mTEC",{"$nulls":6},{"$f":"1289828.74/423.36","v":3046.6476284958426},"sim"]
["Energia Solar",{"$nulls":6},{"$f":"819000/423.36","v":1934.5238095238094},"sim"]
[]
[]
[]
[{"$nulls":8},{"$f":"IF(ISNUMBER(H24),IF(OR(H24<_xlfn.QUARTILE.INC(H9:H28,3)-1.5*(_xlfn.QUARTILE.INC(H9:H28,3)-_xlfn.QUARTILE.INC(H9:H28,1)),H24>_xlfn.QUARTILE.INC(H9:H28,3)+1.5*(_xlfn.QUARTILE.INC(H9:H28,3)-_xlfn.QUARTILE.INC(H9:H28,1))),\"Não\",\"Sim\"),\"\")","v":""}]
[{"$nulls":8},{"$f":"IF(ISNUMBER(H25),IF(OR(H25<_xlfn.QUARTILE.INC(H9:H28,3)-1.5*(_xlfn.QUARTILE.INC(H9:H28,3)-_xlfn.QUARTILE.INC(H9:H28,1)),H25>_xlfn.QUARTILE.INC(H9:H28,3)+1.5*(_xlfn.QUARTILE.INC(H9:H28,3)-_xlfn.QUARTILE.INC(H9:H28,1))),\"Não\",\"Sim\"),\"\")","v":""}]
[{"$nulls":8},{"$f":"IF(ISNUMBER(H26),IF(OR(H26<_xlfn.QUARTILE.INC(H9:H28,3)-1.5*(_xlfn.QUARTILE.INC(H9:H28,3)-_xlfn.QUARTILE.INC(H9:H28,1)),H26>_xlfn.QUARTILE.INC(H9:H28,3)+1.5*(_xlfn.QUARTILE.INC(H9:H28,3)-_xlfn.QUARTILE.INC(H9:H28,1))),\"Não\",\"Sim\"),\"\")","v":""}]
[{"$nulls":8},{"$f":"IF(ISNUMBER(H27),IF(OR(H27<_xlfn.QUARTILE.INC(H9:H28,3)-1.5*(_xlfn.QUARTILE.INC(H9:H28,3)-_xlfn.QUARTILE.INC(H9:H28,1)),H27>_xlfn.QUARTILE.INC(H9:H28,3)+1.5*(_xlfn.QUARTILE.INC(H9:H28,3)-_xlfn.QUARTILE.INC(H9:H28,1))),\"Não\",\"Sim\"),\"\")","v":""}]
[{"$nulls":8},{"$f":"IF(ISNUMBER(H28),IF(OR(H28<_xlfn.QUARTILE.INC(H9:H28,3)-1.5*(_xlfn.QUARTILE.INC(H9:H28,3)-_xlfn.QUARTILE.INC(H9:H28,1)),H28>_xlfn.QUARTILE.INC(H9:H28,3)+1.5*(_xlfn.QUARTILE.INC(H9:H28,3)-_xlfn.QUARTILE.INC(H9:H28,1))),\"Não\",\"Sim\"),\"\")","v":""}]
["Observações:",{"$nulls":6},"CV:",{"$f":"IF(COUNTIF(I9:I28,\"Sim\")<3,\"N/D (são necessários pelo menos 3 preços)\",_xlfn.STDEV.S(IF(I9:I28=\"Sim\",H9:H28))/AVERAGE(IF(I9:I28=\"Sim\",H9:H28)))","v":0.28873980289905943}]
[{"$nulls":7},"Média:",{"$f":"AVERAGE(IF(I9:I28=\"Sim\",H9:H28))","v":2568.0260556163771}]
[{"$nulls":7},"Mediana:",{"$f":"MEDIAN(IF(I9:I28=\"Sim\",H9:H28))","v":2770.9853166424955}]
["VALOR UNITÁRIO ESTIMADO:",{"$nulls":7},{"$f":"SMALL(I30:I31,1)","v":2568.0260556163771}]

{"sheet":"Cotação SGF Estacionamento","index":5,"n_rows":34,"n_cols":20,"rows_kept":34,"cut":false,"hidden":false,"merged":[[33,0,33,7],[20,0,20,5],[21,0,21,5],[22,0,22,5],[23,0,23,5],[24,0,24,5],[25,0,25,5],[26,0,26,5],[27,0,27,5],[28,0,28,5],[29,0,29,5],[30,0,32,6],[13,1,16,1],[13,4,16,4],[19,0,19,5],[5,1,5,4],[6,0,6,8],[18,0,18,8],[10,0,12,0],[10,1,12,1],[10,4,12,4],[13,0,16,0]]}
["Processo","59500.002874/2024-99"]
["Responsável","Zênia Macêdo"]
["Órgão","AG/GCT/UTR"]
["Data da pesquisa","outubro de 2024"]
[]
["ITEM:",{"$f":"Resumo!B7","v":"Projeto Executivo, fornecimento, instalação, comissionamento e aprovação junto à concessionaria de energia local de Sistema de Geração Fotovoltaica on-grid em estrutura carport de 177 kWp no estacionamento do Edifício Sede da Codevasf, conforme condições estabelecidas neste edital e seus Anexos."},null,null,null,"UNIDADE DE MEDIDA:","kWp","QUANTIDADE:",177]
["LICITAÇÕES ANTERIORES"]
["Órgão","Edital/Ano - Nº do Lote / Item","Quantidade (Kwp)","Valor Unitário R$/Kwp","Data","índice de atualização (nome)","Variação acumulada do índice (%)","Valor unitário aualizado","Utilizar?  (Sim/Não)"]
["Município de Céu Azul","Pregão Eletrônico nº. 25/2024",65,{"$f":"153626.2/65","v":2363.48},"2024-05-27",null,null,{"$f":"D9","v":2363.48},"sim"]
["MT Participações e Projetos S.A.","Licitação 016-2024 MTPAR - https://www.mtpar.mt.gov.br/licitacoes-016-2024",1760.9,{"$f":"6610000/C10","v":3753.7622806519394},"2024-06-24",null,null,{"$f":"D10","v":3753.7622806519394},"sim",{"$nulls":9},{"$f":"97.35*3707.88","v":360962.11800000002},{"$f":"S10+117799.96+117799.96","v":596562.03800000006}]
["TRT 23ª Região","Concorrência Eletrônica n.º 03/2023",97.35,{"$f":"447000/C11","v":4591.6795069337441},"2023-08-07",null,null,{"$f":"D11","v":4591.6795069337441},"sim",{"$nulls":9},{"$f":"S10+117799.96+127990.26","v":606752.33799999999}]
[null,null,158.4,{"$f":"626000/158.4","v":3952.0202020202019},null,null,null,3952.0202020202019,"sim"]
[null,null,63.48,{"$f":"227000/63.48","v":3575.9294265910526},null,null,null,3575.9294265910526,"sim"]
["Justiça Federal 1ª Instância","Pregão Eletrônico n.º 90009/2024-JF/RN",46,3688,"2024-09-05",null,null,3688,"sim"]
[null,null,63,3688,null,null,null,3688,"sim"]
[null,null,54,3688,null,null,null,3688,"sim"]
[null,null,61,3674,null,null,null,3674,"sim"]
[]
["COTAÇÕES DE MERCADO"]
["Empresa",{"$nulls":5},"Data","Valor Unitário","Utilizar? (Sim/Não)"]
["mtec",{"$nulls":6},{"$f":"783993.29/177.1","v":4426.8395821569738},"sim"]
[]
[]
[]
[]
[{"$nulls":8},{"$f":"IF(ISNUMBER(H26),IF(OR(H26<_xlfn.QUARTILE.INC(H9:H30,3)-1.5*(_xlfn.QUARTILE.INC(H9:H30,3)-_xlfn.QUARTILE.INC(H9:H30,1)),H26>_xlfn.QUARTILE.INC(H9:H30,3)+1.5*(_xlfn.QUARTILE.INC(H9:H30,3)-_xlfn.QUARTILE.INC(H9:H30,1))),\"Não\",\"Sim\"),\"\")","v":""}]
[{"$nulls":8},{"$f":"IF(ISNUMBER(H27),IF(OR(H27<_xlfn.QUARTILE.INC(H9:H30,3)-1.5*(_xlfn.QUARTILE.INC(H9:H30,3)-_xlfn.QUARTILE.INC(H9:H30,1)),H27>_xlfn.QUARTILE.INC(H9:H30,3)+1.5*(_xlfn.QUARTILE.INC(H9:H30,3)-_xlfn.QUARTILE.INC(H9:H30,1))),\"Não\",\"Sim\"),\"\")","v":""}]
[{"$nulls":8},{"$f":"IF(ISNUMBER(H28),IF(OR(H28<_xlfn.QUARTILE.INC(H9:H30,3)-1.5*(_xlfn.QUARTILE.INC(H9:H30,3)-_xlfn.QUARTILE.INC(H9:H30,1)),H28>_xlfn.QUARTILE.INC(H9:H30,3)+1.5*(_xlfn.QUARTILE.INC(H9:H30,3)-_xlfn.QUARTILE.INC(H9:H30,1))),\"Não\",\"Sim\"),\"\")","v":""}]
[{"$nulls":8},{"$f":"IF(ISNUMBER(H29),IF(OR(H29<_xlfn.QUARTILE.INC(H9:H30,3)-1.5*(_xlfn.QUARTILE.INC(H9:H30,3)-_xlfn.QUARTILE.INC(H9:H30,1)),H29>_xlfn.QUARTILE.INC(H9:H30,3)+1.5*(_xlfn.QUARTILE.INC(H9:H30,3)-_xlfn.QUARTILE.INC(H9:H30,1))),\"Não\",\"Sim\"),\"\")","v":""}]
[{"$nulls":8},{"$f":"IF(ISNUMBER(H30),IF(OR(H30<_xlfn.QUARTILE.INC(H9:H30,3)-1.5*(_xlfn.QUARTILE.INC(H9:H30,3)-_xlfn.QUARTILE.INC(H9:H30,1)),H30>_xlfn.QUARTILE.INC(H9:H30,3)+1.5*(_xlfn.QUARTILE.INC(H9:H30,3)-_xlfn.QUARTILE.INC(H9:H30,1))),\"Não\",\"Sim\"),\"\")","v":""}]
["Observações:",{"$nulls":6},"CV:",{"$f":"IF(COUNTIF(I9:I30,\"Sim\")<3,\"N/D (são necessários pelo menos 3 preços)\",_xlfn.STDEV.S(IF(I9:I30=\"Sim\",H9:H30))/AVERAGE(IF(I9:I30=\"Sim\",H9:H30)))","v":0.15883923620333668}]
[{"$nulls":7},"Média:",{"$f":"AVERAGE(IF(I9:I30=\"Sim\",H9:H30))","v":3740.171099835391}]
[{"$nulls":7},"Mediana:",{"$f":"MEDIAN(IF(I9:I30=\"Sim\",H9:H30))","v":3688}]
["VALOR UNITÁRIO ESTIMADO:",{"$nulls":7},{"$f":"SMALL(I32:I33,1)","v":3688}]

{"sheet":"BDI","index":6,"n_rows":24,"n_cols":3,"rows_kept":24,"cut":false,"hidden":false,"merged":[[23,0,24,1],[23,2,24,2],[15,1,15,2],[20,0,20,2],[0,0,1,2],[4,0,5,0],[4,1,5,1],[4,2,5,2],[6,1,6,2],[2,0,3,2],[11,0,11,1],[12,1,12,2],[14,0,14,1],[19,0,19,1],[21,0,22,2]]}
["SEM DESONERAÇÃO"]
[]
["MEMÓRIA DE CALCULO DO BDI DE SERVIÇOS"]
[]
["ITEM","DISCRIMINAÇÃO","PERC.    (%)"]
[]
["1.00","Despesas Indiretas"]
["A1","Seguro e Garantia",8.0000000000000002E-3]
["A2","Riscos e Imprevistos",0.01]
["A3","Despesas Financeiras",6.4999999999999997E-3]
["A4","Administração Central",3.2000000000000001E-2]
["Total do Grupo A =",null,{"$f":"SUM(C8:C11)","v":5.6500000000000002E-2}]
["2.00","Benefício"]
["B-1","LUCRO",6.7000000000000004E-2]
["Total do Grupo B =",null,{"$f":"C14","v":6.7000000000000004E-2}]
["3.00","Impostos"]
["C-1","PIS / PASEP",6.4999999999999997E-3]
["C-2","COFINS",0.03]
["C-3","ISS",0.03]
["Total do Grupo C =",null,6.6500000000000004E-2]
["Fórmula Para Cálculo do B.D.I"]
["BDI =(((1+A4+A1+A2)*(1+A3)*(1+B))/(1-C))-1"]
[]
["Bonificação Sobre Despesas indiretas (B.D.I) =",null,{"$f":"(((1+C11+C8+C9)*(1+C10)*(1+C15))/(1-C20))-1","v":0.20796173004820551}]

{"sheet":"Encargos Sociais","index":7,"n_rows":40,"n_cols":6,"rows_kept":40,"cut":false,"hidden":false,"merged":[[39,1,39,3],[33,1,33,3],[34,1,34,3],[35,1,35,3],[36,1,36,3],[37,1,37,3],[38,1,38,3],[32,1,32,3],[21,1,21,3],[22,1,22,3],[23,1,23,3],[24,1,24,3],[25,1,25,3],[26,1,26,3],[27,1,27,3],[28,1,28,3],[29,1,29,3],[30,1,30,3],[31,1,31,3],[20,1,20,3],[9,1,9,3],[10,1,10,3],[11,1,11,3],[12,1,12,3],[13,1,13,3],[14,1,14,3],[15,1,15,3],[16,1,16,3],[17,1,17,3],[18,1,18,3],[19,1,19,3],[7,0,8,3],[7,4,7,5],[0,0,1,5],[2,0,3,5],[4,0,4,3],[4,4,4,5],[6,0,6,5]]}
["SEM DESONERAÇÃO"]
[]
["DETALHAMENTO DOS ENCARGOS SOCIAIS"]
[]
["Encargos Sociais - Distrito Federal ",null,null,null,"Vigência a partir de 12/2023 - SINAPI "]
["ENCARGOS SOCIAIS SOBRE MÃO DE OBRA "]
[]
["DISCRIMINAÇÃO",null,null,null,"SEM DESONERAÇÃO "]
[{"$nulls":4},"HORISTA %","MENSALISTA %"]
["A","ENCARGOS SOCIAIS BÁSICOS",null,null,{"$f":"SUM(E11:E19)","v":0.37800000000000006},{"$f":"SUM(F11:F19)","v":0.37800000000000006}]
["A1","INSS ",null,null,0.2,0.2]
["A2","SESI",null,null,1.4999999999999999E-2,1.4999999999999999E-2]
["A3","SENAI ",null,null,0.01,0.01]
["A4","INCRA",null,null,2E-3,2E-3]
["A5","SEBRAE",null,null,6.0000000000000001E-3,6.0000000000000001E-3]
["A6","Saário Educação ",null,null,2.5000000000000001E-2,2.5000000000000001E-2]
["A7","Seguro Contra Acidentes de Trabalho ",null,null,0.03,0.03]
["A8","FGTS",null,null,0.08,0.08]
["A9","SECONCI",null,null,0.01,0.01]
["B"," ENCARGOS SOCIAIS QUE RECEBEM INCIDÊNCIA DE \"A\"",null,null,{"$f":"SUM(E21:E30)","v":0.433},{"$f":"SUM(F21:F30)","v":0.16239999999999999}]
["B1","Repouso Semanal Remunerado ",null,null,0.17749999999999999,"Não incide"]
["B2","Feriados ",null,null,3.4099999999999998E-2,"Não incide"]
["B3","Axílio - Enfermidade ",null,null,8.5000000000000006E-3,6.4000000000000003E-3]
["B4","13º Salário ",null,null,0.1072,8.3299999999999999E-2]
["B5","Licença Paternidade ",null,null,5.9999999999999995E-4,4.0000000000000002E-4]
["B6","Faltas Justificadas ",null,null,7.1000000000000004E-3,5.5999999999999999E-3]
["B7","Dias de chuva ",null,null,1.32E-2,"Não incide"]
["B8","Auxílio Acidente de Trabalho ",null,null,1E-3,8.0000000000000004E-4]
["B9","Férias Gozadas ",null,null,8.3400000000000002E-2,6.5600000000000006E-2]
["B10","Salário Maternidade",null,null,4.0000000000000002E-4,2.9999999999999997E-4]
["C"," ENCARGOS SOCIAIS QUE NÃO RECEBEM INCIDÊNCIA DE \"A\"",null,null,{"$f":"SUM(E32:E36)","v":0.123},{"$f":"SUM(F32:F36)","v":9.5699999999999993E-2}]
["C1","Aviso Prévio Indenizado",null,null,4.1599999999999998E-2,3.2399999999999998E-2]
["C2","Aviso Prévio Trabalhado",null,null,1E-3,8.0000000000000004E-4]
["C3","Férias Indenizadas",null,null,4.6100000000000002E-2,3.5900000000000001E-2]
["C4","Depósito Rescisão Sem Justa Causa",null,null,3.0800000000000001E-2,2.3900000000000001E-2]
["C5","Indenização Adicional",null,null,3.5000000000000001E-3,2.7000000000000001E-3]
["D"," REINCIDÊNCIAS",null,null,{"$f":"SUM(E38:E39)","v":0.16740000000000002},{"$f":"SUM(F38:F39)","v":6.4299999999999996E-2}]
["D1","Reincidência de \"A\" sobre \"B\"",null,null,0.16370000000000001,6.1400000000000003E-2]
["D2","Reincidência de \"A\" sobre Aviso Prévio Trabalhado e reincidência do FGTS sobre Aviso Prévio Indenizado",null,null,3.7000000000000002E-3,2.8999999999999998E-3]
[null,"ENCARGOS SOCIAIS",null,null,{"$f":"SUM(E37,E31,E20,E10)","v":1.1014000000000002},{"$f":"SUM(F37,F31,F20,F10)","v":0.70040000000000002}]

{"sheet":"Cronograma","index":8,"n_rows":16,"n_cols":23,"rows_kept":16,"cut":false,"hidden":false,"merged":[[0,2,0,22],[1,0,1,22],[2,0,2,22]]}
[null,null,"Ministério da Integração e do Desenvolvimento Regional – MIDR\nCompanhia de Desenvolvimento dos Vales do São Francisco e do Parnaíba"]
["Fornecimento, a instalação, o comissionamento, a aprovação junto à concessionária de energia local e a operação assistida e manutenção por período de 12 meses de Sistema de Geração Fotovoltaica on-grid para o Edifício Sede da Codevasf, localizado em Brasília/DF"]
["Cronograma Físico e Financeiro "]
[null,"Descrição","Total Por Etapa","30 DIAS","60 DIAS","90 DIAS","120 DIAS","150 DIAS","180 DIAS","210 DIAS","240 DIAS","270 DIAS","300 DIAS","330 DIAS","360 DIAS","390 DIAS","410 DIAS ","440 DIAS","470 DIAS","510 DIAS","540 DIAS","570 DIAS","695 DIAS"]
[1,"Mobilização de pessoal e equipamentos",{"$f":"SUM(D5:W5)","v":1},1]
[2,"Fornecimento e instalação da placa de obra",1,1]
[3,"Implantação e manutenção do canteiro de obras;",1,0.125,0.125,0.125,0.125,0.125,0.125,0.125,0.125]
[4,"Elaboração do Projeto Executivo",1,1]
[5,"Adequação do Telhado",1,0.5,0.5]
[6,"Adequação do SPDA",1,0.5,0.5]
[7,"SGF da Cobertura",1,null,null,0.1,0.18,0.18,0.18,0.18,0.18]
[8,"SGF do Estacionamento",1,null,null,null,0.2,0.2,0.2,0.2,0.2]
[9,"Comissionamento",1,{"$nulls":7},1]
[10,"Desmobilização de pessoal e equipamentos",1,{"$nulls":7},1]
[11,"Homologação do sistema",1,{"$nulls":7},1]
[12,"Serviço de Operação Assistida e Manutenção ",{"$f":"SUM(D16:W16)","v":0.99960000000000016},{"$nulls":8},8.3299999999999999E-2,8.3299999999999999E-2,8.3299999999999999E-2,8.3299999999999999E-2,8.3299999999999999E-2,8.3299999999999999E-2,8.3299999999999999E-2,8.3299999999999999E-2,8.3299999999999999E-2,8.3299999999999999E-2,8.3299999999999999E-2,8.3299999999999999E-2]