{"text_format":"2","workbook":"xlsx","n_sheets":14,"sheets":["PFP","PFP1.1_ECA","PFP2.1_FatorKa","PFP2.2_FatorKb","PFP2.3_FatorKc","PFP3_FatorKd","CRO-1","CRO2_Ins-Mes","Cotacoes-Equip","Diárias","Cotacoes-PassagensAereas","Servicos-de-Fotogrametria","Servicos-de-Pedologia","Planilhadecustos"],"not_rendered":{"charts":0,"images":0,"macros":0,"external_links":49,"defined_names":8385,"comments":5,"pivot_tables":0},"unopened":[],"bounds":{"document_bytes":16777216,"sheet_cells":100000,"run_cost":"one","rows_first":2000,"rows_last":500,"rows_between":2000,"halvings":0,"cell_chars":16384,"cell_head_chars":4096},"cells_cut":0,"cells_raw":0,"read":"whole","date_system":"1900"}

{"sheet":"PFP","index":0,"n_rows":62,"n_cols":18,"rows_kept":62,"cut":false,"hidden":false,"merged":[[27,0,27,9],[31,0,31,9],[34,0,34,9],[39,0,39,9],[40,10,40,17],[6,6,6,8],[6,12,6,14],[6,15,6,17],[26,0,26,9],[26,10,26,17],[27,10,27,17],[29,0,29,9],[29,10,29,17],[30,0,30,9],[30,10,30,17],[40,0,41,1],[40,8,41,9],[40,3,40,7],[41,10,41,17],[41,3,41,7],[44,0,44,17],[50,0,50,17],[45,0,45,17],[46,0,46,17],[49,0,49,17],[51,0,51,17],[52,0,52,17],[53,0,53,17],[54,0,54,17],[47,0,47,17],[48,0,48,17],[5,12,5,13],[4,12,4,13],[4,0,4,7],[0,0,1,13],[61,0,61,17],[55,0,55,17],[56,0,56,17],[58,0,58,17],[5,14,5,17],[5,8,5,11],[28,0,28,9],[28,10,28,17],[5,0,5,5],[25,0,25,9],[25,10,25,17],[31,10,31,17],[4,8,4,11],[0,14,0,17],[1,14,1,17],[4,14,4,17],[2,0,2,17],[3,0,3,17],[43,0,43,17],[32,0,32,9],[32,10,32,17],[33,0,33,9],[33,10,33,17],[35,0,35,9],[36,0,36,9],[35,10,35,17],[36,10,36,17],[37,0,37,9],[38,0,38,9],[37,10,37,17],[38,10,38,17],[34,10,34,17],[42,0,42,17],[39,10,39,17]]}
["PROPOSTA FINANCEIRA DO PROJETO",{"$nulls":13},"CODIGO:"]
[{"$nulls":14},"PFP"]
["NOME DA EMPRESA:"]
[]
["PROJETO:",{"$nulls":7},"CONTRATANTE:",null,null,null,"DATA-BASE",null,"Total"]
["SELEÇÃO DE ÁREAS PRIORITÁRIAS E ELABORAÇÃO DE DIAGNÓSTICO E PROJETO BÁSICO DE ENGENHARIA PARA RECUPERAÇÃO HIDROAMBIENTAL NA ÁREA DE ATUAÇÃO DA CODEVASF.",{"$nulls":7},"CODEVASF (SEDE)",null,null,null,"2024-10-01",null,"SINAPI/DF: Junho/2024 \nTabela Consultiva da Codevasf: Fevereiro/2019 atualizado para Setembro/2024\nSICRO/NA: Julho/2024                                                                                                                                                                                                                                                                                                                                                                                                                                                                                                                                           EMBASA:Janeiro/2024                                                                               Tabela de Diárias da Codevasf: Maio/2024"]
["Base","Cod2","Cod3","Código","Categoria / Insumo","Uni","Qde",null,null,"CUD","PU","FatorK","CT",null,null,"PT"]
[{"$nulls":6},"Item 1","Item 2","Total",null,null,null,"Item 1","Item 2","Total","Item 1","Item 2","Total"]
["SICRO","MO2","P2","P8066","Engenheiro pleno (P8066)","mês",{"$f":"'CRO-1'!H5","v":3},{"$f":"'CRO-1'!I5","v":5},{"$f":"'CRO-1'!D5","v":8},12629.6,{"$f":"ROUND(L9*J9,2)","v":19289.189999999999},{"$f":"'PFP2.2_FatorKb'!E36","v":1.5273000000000001},{"$f":"G9*J9","v":37888.800000000003},{"$f":"H9*J9","v":63148},{"$f":"ROUND(I9*J9,2)","v":101036.8},{"$f":"G9*K9","v":57867.569999999992},{"$f":"H9*K9","v":96445.95},{"$f":"ROUND(I9*K9,2)","v":154313.51999999999}]
["SICRO","MO1","P3","P8065","Engenheiro júnior (P8065)","mês",{"$f":"'CRO-1'!H6","v":3},{"$f":"'CRO-1'!I6","v":5},{"$f":"'CRO-1'!D6","v":8},12002,{"$f":"ROUND(L10*J10,2)","v":25553.46},{"$f":"'PFP2.1_FatorKa'!$E$36","v":2.1291000000000002},{"$f":"G10*J10","v":36006},{"$f":"H10*J10","v":60010},{"$f":"ROUND(I10*J10,2)","v":96016},{"$f":"G10*K10","v":76660.38},{"$f":"H10*K10","v":127767.29999999999},{"$f":"ROUND(I10*K10,2)","v":204427.68}]
["SICRO","MO1","S2","P8184","Analista pleno (P8184)","mês",{"$f":"'CRO-1'!H7","v":3},{"$f":"'CRO-1'!I7","v":5},{"$f":"'CRO-1'!D7","v":8},5205.92,11083.92,{"$f":"'PFP2.1_FatorKa'!$E$36","v":2.1291000000000002},15617.76,26029.599999999999,{"$f":"ROUND(I11*J11,2)","v":41647.360000000001},33251.760000000002,55419.6,88671.360000000001]
["SICRO","MO1","T1","P8143","Técnico/Tecnologo pleno (P8143)","mês",{"$f":"'CRO-1'!H8","v":3},{"$f":"'CRO-1'!I8","v":5},{"$f":"'CRO-1'!D8","v":8},2911.08,{"$f":"ROUND(L12*J12,2)","v":6197.98},{"$f":"'PFP2.1_FatorKa'!$E$36","v":2.1291000000000002},8733.24,14555.4,{"$f":"ROUND(I12*J12,2)","v":23288.639999999999},18593.939999999999,30989.899999999998,{"$f":"ROUND(I12*K12,2)","v":49583.839999999997}]
["SICRO","MO1","A1","P8026","Auxiliar administrativo (P8026)","mês",{"$f":"'CRO-1'!H9","v":3},{"$f":"'CRO-1'!I9","v":5},{"$f":"'CRO-1'!D9","v":8},1880.26,{"$f":"ROUND(L13*J13,2)","v":4003.26},{"$f":"'PFP2.1_FatorKa'!$E$36","v":2.1291000000000002},5640.78,9401.2999999999993,{"$f":"ROUND(I13*J13,2)","v":15042.08},12009.78,20016.300000000003,{"$f":"ROUND(I13*K13,2)","v":32026.080000000002}]
["SICRO","EC","ECA",null,"Encargos Compementares e Adicionais","mês",{"$f":"'CRO-1'!H10","v":15},{"$f":"'CRO-1'!I10","v":25},{"$f":"'CRO-1'!D10","v":40},{"$f":"'PFP1.1_ECA'!E16","v":1097.1600000000001},{"$f":"ROUND(L14*J14,2)","v":1319.44},{"$f":"PFP3_FatorKd!$E$17","v":1.2025999999999999},16457.400000000001,27429.000000000004,{"$f":"ROUND(I14*J14,2)","v":43886.400000000001},19791.600000000002,32986,{"$f":"ROUND(I14*K14,2)","v":52777.599999999999}]
["PROP","EC","AT1",null,"Auxílio Transporte Técnicos","mês",{"$f":"'CRO-1'!H11","v":0},{"$f":"'CRO-1'!I11","v":0},0,"Já incluso*",0,{"$f":"PFP3_FatorKd!$E$17","v":1.2025999999999999},0,0,0,0,0,{"$f":"ROUND(I15*K15,2)","v":0}]
["PROP","EC","AT2",null,"Auxílio Transporte Auxiliar Administrativo","mês",{"$f":"'CRO-1'!H12","v":0},{"$f":"'CRO-1'!I12","v":0},0,"Já incluso*",0,{"$f":"PFP3_FatorKd!$E$17","v":1.2025999999999999},0,0,0,0,0,0]
["SICRO","LO","E8891",null,"Veículo leve picape 4x4 147 kW (produtivo)","h",{"$f":"'CRO-1'!H13","v":45},{"$f":"'CRO-1'!I13","v":162},{"$f":"'CRO-1'!D13","v":207},80.680000000000007,{"$f":"ROUND(L17*J17,2)","v":97.03},{"$f":"PFP3_FatorKd!$E$17","v":1.2025999999999999},3630.6000000000004,13070.160000000002,{"$f":"ROUND(I17*J17,2)","v":16700.759999999998},4366.3500000000004,15718.86,20085.21]
["SICRO","LO","E8892",null,"Veículo leve picape 4x4 147 kW (improdutivo)","h",{"$f":"'CRO-1'!H14","v":75},{"$f":"'CRO-1'!I14","v":270},{"$f":"'CRO-1'!D14","v":345},24.66,{"$f":"ROUND(L18*J18,2)","v":29.66},{"$f":"PFP3_FatorKd!$E$17","v":1.2025999999999999},1849.5,6658.2,{"$f":"ROUND(I18*J18,2)","v":8507.7000000000007},2224.5,8008.2,10232.700000000001]
["COTAÇÃO","OU1",null,null,"Notebook","mês",{"$f":"'CRO-1'!H15","v":15},{"$f":"'CRO-1'!I15","v":25},{"$f":"'CRO-1'!D15","v":40},{"$f":"'Cotacoes-Equip'!B41","v":56.423576388888883},{"$f":"ROUND(L19*J19,2)","v":67.849999999999994},{"$f":"PFP3_FatorKd!$E$17","v":1.2025999999999999},846.35364583333319,1410.5894097222222,{"$f":"ROUND(I19*J19,2)","v":2256.94},1017.7499999999999,1696.2499999999998,2714]
["COTAÇÃO","OU2",null,null,"Receptor GPS de navegação","mês",{"$f":"'CRO-1'!H16","v":1},{"$f":"'CRO-1'!I16","v":3},{"$f":"'CRO-1'!D16","v":4},{"$f":"'Cotacoes-Equip'!B31","v":38.322916666666664},{"$f":"ROUND(L20*J20,2)","v":46.09},{"$f":"PFP3_FatorKd!$E$17","v":1.2025999999999999},38.322916666666664,114.96875,{"$f":"ROUND(I20*J20,2)","v":153.29},46.09,138.27000000000001,184.36]
["COTAÇÃO","OU3",null,null,"Receptor GNSS/RTK","mês",{"$f":"'CRO-1'!H17","v":0},{"$f":"'CRO-1'!I17","v":2},{"$f":"'CRO-1'!D17","v":2},{"$f":"'Cotacoes-Equip'!B36","v":445.79513888888891},{"$f":"ROUND(L21*J21,2)","v":536.11},{"$f":"PFP3_FatorKd!$E$17","v":1.2025999999999999},0,891.59027777777783,{"$f":"ROUND(I21*J21,2)","v":891.59},0,1072.22,1072.22]
["CODEVASF","LO","V1",null,"Diárias","dia",{"$f":"'CRO-1'!H18","v":30},{"$f":"'CRO-1'!I18","v":108},{"$f":"'CRO-1'!D18","v":138},{"$f":"Diárias!B21","v":166.87},{"$f":"ROUND(L22*J22,2)","v":200.68},{"$f":"PFP3_FatorKd!$E$17","v":1.2025999999999999},5006.1000000000004,18021.96,{"$f":"ROUND(I22*J22,2)","v":23028.06},6020.4000000000005,21673.440000000002,27693.84]
["COTAÇÃO","OU4",null,null,"Passagens Aéreas (ida e volta)","uni",{"$f":"'CRO-1'!H19","v":1},{"$f":"'CRO-1'!I19","v":1},{"$f":"'CRO-1'!D19","v":2},{"$f":"'Cotacoes-PassagensAereas'!E17","v":1277.42},{"$f":"ROUND(L23*J23,2)","v":1536.23},{"$f":"PFP3_FatorKd!$E$17","v":1.2025999999999999},1277.42,{"$f":"H23*J23","v":1277.42},{"$f":"ROUND(I23*J23,2)","v":2554.84},1536.23,1536.23,3072.46]
["EMBASA",null,null,"FOT","Total Serviços de Fotogrametria","uni",{"$f":"'CRO-1'!H20","v":0},{"$f":"'CRO-1'!I20","v":1},{"$f":"'CRO-1'!D20","v":1},"-",{"$f":"'Servicos-de-Fotogrametria'!I8","v":66234.64},"-","-","-","-",0,66234.64,{"$f":"ROUND(I24*K24,2)","v":66234.64}]
["CODEVASF",null,null,"PED","Total Serviços de Pedologia","uni",{"$f":"'CRO-1'!H21","v":0},{"$f":"'CRO-1'!I21","v":1},{"$f":"'CRO-1'!D21","v":1},"-",{"$f":"'Servicos-de-Pedologia'!K10","v":74543.08},"-","-","-","-",0,74543.08,{"$f":"ROUND(I25*K25,2)","v":74543.08}]
["TOTAL DOS CUSTOS DIRETOS",{"$nulls":9},{"$f":"SUM(O9:O25)","v":375010.46000000008}]
["CUSTOS DIRETOS ITEM 1",{"$nulls":9},{"$f":"SUM(M9:M25)","v":132992.27656250005}]
["CUSTOS DIRETOS ITEM 2 ",{"$nulls":9},{"$f":"SUM(N9:N25)","v":242018.18843750001}]
["TOTAL DOS ENCARGOS E DESPESAS DIVERSAS",{"$nulls":9},{"$f":"K32-K26","v":271844.40999999957}]
["ENCARGOS E DESPESAS DIVERSAS ITEM 1",{"$nulls":9},{"$f":"K33-K27","v":100394.07343749999}]
["ENCARGOS E DESPESAS DIVERSAS ITEM 2",{"$nulls":9},{"$f":"K34-K28","v":171450.33156249995}]
["TOTAL DA PROPOSTA A PREÇO GLOBAL",{"$nulls":9},{"$f":"SUM(R9:R23)","v":646854.86999999965}]
["PROPOSTA A PREÇO GLOBAL DO ITEM 1",{"$nulls":9},{"$f":"SUM(P9:P23)","v":233386.35000000003}]
["PROPOSTA A PREÇO GLOBAL DO ITEM 2",{"$nulls":9},{"$f":"SUM(Q9:Q23)","v":413468.51999999996}]
["TOTAL DA PROPOSTA A PREÇO UNITÁRIO",{"$nulls":9},{"$f":"SUM(R24:R25)","v":140777.72}]
["PROPOSTA A PREÇO UNITÁRIO DO ITEM 1",{"$nulls":9},{"$f":"SUM(P24:P25)","v":0}]
["PROPOSTA A PREÇO UNITÁRIO DO ITEM 2",{"$nulls":9},{"$f":"SUM(Q24:Q25)","v":140777.72}]
["TOTAL DA PROPOSTA",{"$nulls":9},{"$f":"SUM(K32,K35)","v":787632.58999999962}]
["TOTAL DA PROPOSTA PARA O ITEM 1",{"$nulls":9},{"$f":"K33+K36","v":233386.35000000003}]
["TOTAL DA PROPOSTA PARA O ITEM 2",{"$nulls":9},{"$f":"K34+K37","v":554246.24}]
["PRODUÇÃO**",null,"ITEM 1",100000,{"$nulls":4},"R$/hectare",null,{"$f":"K39/D41","v":2.3338635000000005}]
[null,null,"ITEM 2",30000,{"$nulls":6},{"$f":"K40/D42","v":18.474874666666665}]
["OBSERVAÇÃO:"]
["Alocar os Insumos MO, com respectivo FatorK, dentro da categoria de vínculo contratual (MO1. celetista, MO2. autonomo, MO3. societario)"]
["Uni - unidade de medição do insumo;"]
["Qde - Quantidade do Insumo (não pode ocorrer alteração pela Licitante)"]
["CUD - Custo Unitário Direto do Insumo (sem encargos, taxas e impostos, valor não pode ser maior que o Orçado pela Codevasf)"]
["CT - Custo Total (sem encargos, taxas e impostos) - CT = Qde x CUD"]
["FatorK - Taxa de Ressarcimento de Despesas e Encargos (detalhar composição nas Planilhas \"PFP2.1\", \"PFP2.2\", \"PFP2.3\", \"PFP3\")"]
["PU - Preço Unitário do Insumo (incluído encargos, taxas e impostos) - PU = CUD x FatorK"]
["PT - Preço Total do Insumo (incluído encargos, taxas e impostos) - PT = Qde x PU"]
["P - Profissionais nível superior nas áreas de Engenharia, Química, Arquitetura, Agronomia e Veterinária, conforme disposições da Lei 4.950-A/66"]
["S - Profissionais de nível superior nas demais áreas de atuação"]
["T - Profissionais de nível médio técnico nas diversas áreas de atuação"]
["A - Profissionais de nível médio de apoio técnico-administrativo"]
["h - horas"]
["ha - hectare"]
[]
["km - quilômetro"]
[]
["*Encargos Complementares e adicionais já incluem auxílio transporte"]
["**Proposta financeira elaborada com base em uma produção de 100.000ha para o item 01 e 30.000ha para o item 02."]

{"sheet":"PFP1.1_ECA","index":1,"n_rows":113,"n_cols":5,"rows_kept":113,"cut":false,"hidden":false,"merged":[[110,0,110,2],[111,0,111,2],[112,0,112,2],[106,0,106,3],[108,0,108,2],[109,0,109,2],[107,0,107,2],[15,0,15,3],[16,0,16,4],[25,0,25,4],[26,0,26,4],[27,0,27,4],[0,0,1,3],[4,0,4,2],[5,0,5,2],[3,0,3,3],[2,0,2,3]]}
["ENCARGOS COMPLEMENTARES E ADICIONAIS",null,null,null,"CODIGO:"]
[{"$nulls":4},"PFP-1.1"]
["NOME DA EMPRESA:",null,null,null,"DATA-BASE"]
[{"$nulls":4},"2024-10-01"]
["PROJETO:",null,null,"CONTRATANTE:","REFERÊNCIA:"]
[{"$f":"PFP!A6","v":"SELEÇÃO DE ÁREAS PRIORITÁRIAS E ELABORAÇÃO DE DIAGNÓSTICO E PROJETO BÁSICO DE ENGENHARIA PARA RECUPERAÇÃO HIDROAMBIENTAL NA ÁREA DE ATUAÇÃO DA CODEVASF."},null,null,"CODEVASF (SEDE)","SICRO/NA: Julho/2024"]
["Cod.","Base","Insumos","un","Preço Unitário (PU)"]
["EC1","SICRO","Alimentação","mês",{"$f":"AVERAGE(736.74,736.74,736.74,736.74,736.74)","v":736.74}]
["EC2","SICRO","EPI","mês",{"$f":"AVERAGE(25.51,25.51,25.51,28.6,0)","v":21.026}]
["EC3","SICRO","Ferramenta","mês",0]
["EC4","SICRO","Transporte","mês",{"$f":"AVERAGE(0,0,0,44.37,106.22)","v":30.118000000000002}]
["EC5","SICRO","Exame Ocupacional","mês",{"$f":"AVERAGE(3.99,3.99,3.29,4.05,3.76)","v":3.8159999999999998}]
["EA1","SICRO","Cesta Básica","mês",0]
["EA2","SICRO","Assistência Médica","mês",{"$f":"AVERAGE(295.48,295.48,295.48,295.48,295.48)","v":295.48}]
["EA3","SICRO","Seguro de Vida","mês",{"$f":"AVERAGE(9.98,9.98,9.98,9.98,9.98)","v":9.98}]
["ENCARGOS COMPLEMENTARES E ADICIONAIS",null,null,null,{"$f":"SUM(E8:E15)","v":1097.1600000000001}]
["OBSERVAÇÃO:"]
["Cesta de EPI do SICRO/DNIT para o nível superior, custo mensal por profissional, vide Especificações Técnicas"]
["Auxilio transporte pago apenas para resultados positivos do calculo VT=(22xVD)-(VBx0.06x22/30);"]
["VT = valor a receber de auxílio transporte"]
["VD = valor gasto com o transporte por dia, orçamento considerado 10 R$/dia"]
["VB = vencimento básico no contracheque"]
["0.06 = 6% de participação do servidor"]
["22 = número de dias por mês em que se usa o transporte (padrão)"]
["30 = número de dias do mês (padrão)"]
["Uni - unidade de medição do insumo;"]
["PU - Preço Unitário (composições padrão da Codevasf, já incluso o FatorK)"]
["PT - Preço Total (incluído encargos, taxas e impostos) - PT = Qde x PU"]
{"$rows_empty":78}
["Encargos e composições adicionais "]
["Engenheiro pleno (P8066)",null,null,{"$f":"736.74+25.51+3.99+295.48+9.98","v":1071.7}]
["Engenheiro júnior (P8065)",null,null,{"$f":"736.74+25.51+3.99+295.48+9.98","v":1071.7}]
["Analista pleno (P8184)",null,null,{"$f":"736.74+25.51+3.29+295.48+9.98","v":1071}]
["Técnico/Tecnologo pleno (P8143)",null,null,{"$f":"736.74+28.6+44.37+4.05+295.48+9.98","v":1119.22}]
["Auxiliar administrativo (P8026)",null,null,{"$f":"736.74+106.22+3.76+295.48+9.98","v":1152.18}]
["Média",null,null,{"$f":"AVERAGE(D108:D112)","v":1097.1600000000001}]

{"sheet":"PFP2.1_FatorKa","index":2,"n_rows":41,"n_cols":6,"rows_kept":41,"cut":false,"hidden":false,"merged":[[6,1,6,3],[32,1,32,3],[34,1,34,3],[35,1,35,3],[18,1,18,3],[19,1,19,3],[20,1,20,3],[21,1,21,3],[23,1,23,3],[24,1,24,3],[7,1,7,3],[17,1,17,3],[8,1,8,3],[13,1,13,3],[14,1,14,3],[15,1,15,3],[0,0,1,4],[5,0,5,1],[5,2,5,4],[4,2,4,4],[2,0,2,4],[3,0,3,4],[16,1,16,3],[9,1,9,3],[10,1,10,3],[11,1,11,3],[12,1,12,3],[40,0,40,5],[39,0,39,5],[38,0,38,5],[37,0,37,5],[22,1,22,3],[29,1,29,3],[30,1,30,3],[28,1,28,3],[25,1,25,3],[26,1,26,3],[27,1,27,3],[33,1,33,3],[31,1,31,3]]}
["DETALHAMENTO DOS ENCARGOS SOCIAIS: Ka",{"$nulls":4},"CODIGO:"]
[{"$nulls":5},"PFP-2.1"]
["NOME DA EMPRESA:",{"$nulls":4},"DATA-BASE"]
[{"$nulls":5},"2024-10-01"]
["PROJETO:",null,"CONTRATANTE:",null,null,"REFERÊNCIA:"]
[{"$f":"PFP!A6","v":"SELEÇÃO DE ÁREAS PRIORITÁRIAS E ELABORAÇÃO DE DIAGNÓSTICO E PROJETO BÁSICO DE ENGENHARIA PARA RECUPERAÇÃO HIDROAMBIENTAL NA ÁREA DE ATUAÇÃO DA CODEVASF."},null,"CODEVASF (SEDE)",null,null,"SINAPI/DF: Junho/2024"]
["Cod","DESCRIÇÃO",null,null,"%","R$"]
["A","ENCARGOS SOCIAIS BÁSICOS",null,null,{"$f":"ROUND(SUM(E9:E17),4)","v":0.378},{"$f":"ROUND(E8*SUMIF(PFP!$B$9:$B$25,\"MO1\",PFP!$O$9:$O$25),2)","v":66525.759999999995}]
["A1","INSS",null,null,0.2,{"$f":"ROUND(E9*SUMIF(PFP!$B$9:$B$25,\"MO1\",PFP!$O$9:$O$25),2)","v":35198.82}]
["A2","SESI",null,null,1.4999999999999999E-2,{"$f":"ROUND(E10*SUMIF(PFP!$B$9:$B$25,\"MO1\",PFP!$O$9:$O$25),2)","v":2639.91}]
["A3","SENAI",null,null,0.01,{"$f":"ROUND(E11*SUMIF(PFP!$B$9:$B$25,\"MO1\",PFP!$O$9:$O$25),2)","v":1759.94}]
["A4","INCRA",null,null,2E-3,{"$f":"ROUND(E12*SUMIF(PFP!$B$9:$B$25,\"MO1\",PFP!$O$9:$O$25),2)","v":351.99}]
["A5","SEBRAE",null,null,6.0000000000000001E-3,{"$f":"ROUND(E13*SUMIF(PFP!$B$9:$B$25,\"MO1\",PFP!$O$9:$O$25),2)","v":1055.96}]
["A6","Salário Educação",null,null,2.5000000000000001E-2,{"$f":"ROUND(E14*SUMIF(PFP!$B$9:$B$25,\"MO1\",PFP!$O$9:$O$25),2)","v":4399.8500000000004}]
["A7","Seguro Contra Acidentes de Trabalho",null,null,0.03,{"$f":"ROUND(E15*SUMIF(PFP!$B$9:$B$25,\"MO1\",PFP!$O$9:$O$25),2)","v":5279.82}]
["A8","FGTS",null,null,0.08,{"$f":"ROUND(E16*SUMIF(PFP!$B$9:$B$25,\"MO1\",PFP!$O$9:$O$25),2)","v":14079.53}]
["A9","SECONCI",null,null,0.01,{"$f":"ROUND(E17*SUMIF(PFP!$B$9:$B$25,\"MO1\",PFP!$O$9:$O$25),2)","v":1759.94}]
["B"," ENCARGOS SOCIAIS QUE RECEBEM INCIDÊNCIA DE \"A\"",null,null,{"$f":"ROUND(SUM(E19:E25),4)","v":0.16239999999999999},{"$f":"ROUND(E18*SUMIF(PFP!$B$9:$B$25,\"MO1\",PFP!$O$9:$O$25),2)","v":28581.439999999999}]
["B3","Auxílio Enfermidade",null,null,6.4000000000000003E-3,{"$f":"ROUND(E19*SUMIF(PFP!$B$9:$B$25,\"MO1\",PFP!$O$9:$O$25),2)","v":1126.3599999999999}]
["B4","13º Salário",null,null,8.3299999999999999E-2,{"$f":"ROUND(E20*SUMIF(PFP!$B$9:$B$25,\"MO1\",PFP!$O$9:$O$25),2)","v":14660.31}]
["B5","Licença Paternidade",null,null,4.0000000000000002E-4,{"$f":"ROUND(E21*SUMIF(PFP!$B$9:$B$25,\"MO1\",PFP!$O$9:$O$25),2)","v":70.400000000000006}]
["B6","Faltas Justificadas",null,null,5.5999999999999999E-3,{"$f":"ROUND(E22*SUMIF(PFP!$B$9:$B$25,\"MO1\",PFP!$O$9:$O$25),2)","v":985.57}]
["B8","Auxílio Acidente de Trabalho",null,null,8.0000000000000004E-4,{"$f":"ROUND(E23*SUMIF(PFP!$B$9:$B$25,\"MO1\",PFP!$O$9:$O$25),2)","v":140.80000000000001}]
["B9","Férias Gozadas",null,null,6.5600000000000006E-2,{"$f":"ROUND(E24*SUMIF(PFP!$B$9:$B$25,\"MO1\",PFP!$O$9:$O$25),2)","v":11545.21}]
["B10","Salário Maternidade",null,null,2.9999999999999997E-4,{"$f":"ROUND(E25*SUMIF(PFP!$B$9:$B$25,\"MO1\",PFP!$O$9:$O$25),2)","v":52.8}]
["C"," ENCARGOS SOCIAIS QUE NÃO RECEBEM INCIDÊNCIA DE \"A\"",null,null,{"$f":"ROUND(SUM(E27:E31),4)","v":9.5699999999999993E-2},{"$f":"ROUND(E26*SUMIF(PFP!$B$9:$B$25,\"MO1\",PFP!$O$9:$O$25),2)","v":16842.63}]
["C1","Aviso Prévio Indenizado",null,null,3.2399999999999998E-2,{"$f":"ROUND(E27*SUMIF(PFP!$B$9:$B$25,\"MO1\",PFP!$O$9:$O$25),2)","v":5702.21}]
["C2","Aviso Prévio Trabalhado",null,null,8.0000000000000004E-4,{"$f":"ROUND(E28*SUMIF(PFP!$B$9:$B$25,\"MO1\",PFP!$O$9:$O$25),2)","v":140.80000000000001}]
["C3","Férias Indenizadas",null,null,3.5900000000000001E-2,{"$f":"ROUND(E29*SUMIF(PFP!$B$9:$B$25,\"MO1\",PFP!$O$9:$O$25),2)","v":6318.19}]
["C4","Depósito Rescisão Sem Justa Causa",null,null,2.3900000000000001E-2,{"$f":"ROUND(E30*SUMIF(PFP!$B$9:$B$25,\"MO1\",PFP!$O$9:$O$25),2)","v":4206.26}]
["C5","Indenização Adicional",null,null,2.7000000000000001E-3,{"$f":"ROUND(E31*SUMIF(PFP!$B$9:$B$25,\"MO1\",PFP!$O$9:$O$25),2)","v":475.18}]
["D"," REINCIDÊNCIAS",null,null,{"$f":"ROUND(SUM(E33:E34),4)","v":6.4299999999999996E-2},{"$f":"ROUND(E32*SUMIF(PFP!$B$9:$B$25,\"MO1\",PFP!$O$9:$O$25),2)","v":11316.42}]
["D1","Reincidência de \"A\" sobre \"B\"",null,null,{"$f":"ROUND(E8*E18,4)","v":6.1400000000000003E-2},{"$f":"ROUND(E33*SUMIF(PFP!$B$9:$B$25,\"MO1\",PFP!$O$9:$O$25),2)","v":10806.04}]
["D2","Reincidência de \"A\" sobre Aviso Prévio Trabalhado e reincidência do FGTS sobre Aviso Prévio Indenizado",null,null,{"$f":"ROUND((E28*E8)+(E27*E16),4)","v":2.8999999999999998E-3},{"$f":"ROUND(E34*SUMIF(PFP!$B$9:$B$25,\"MO1\",PFP!$O$9:$O$25),2)","v":510.38}]
["K1a","Encargos Socias MO1 Celetistas",null,null,{"$f":"ROUND(E8+E18+E26+E32,4)","v":0.70040000000000002},{"$f":"ROUND(E35*SUMIF(PFP!$B$9:$B$25,\"MO1\",PFP!$O$9:$O$25),2)","v":123266.25}]
["Ka","Fator K MO1 Celetistas (Taxa de ressarcimento de despesas e encargos sobre MO1)",null,null,{"$f":"ROUND((1+E35+PFP3_FatorKd!E13)*(1+PFP3_FatorKd!E12)*(1+PFP3_FatorKd!E8),4)","v":2.1291000000000002}]
["OBSERVAÇÃO: CELETISTAS E EQUIVALENTES"]
["1 - DISCRIMINAR OS ENCARGOS SOCIAIS COM SEUS RESPECTIVOS PERCENTUAS TOTALIZANDO OS MESMOS. "]
["2 - APLICAR O  % TOTAL P/ CALCULAR OS E. SOCIAIS INCIDENTES NA MÃO-DE-OBRA CELETISTAS"]
["Ka - Taxa de Ressarcimento de Despesas e Encargos sobre a Mão de Obra CELETISTA (incide apenas no Insumo Codigo MO1)"]
["Ka = (1 + K1a + K2) x (1 + K3) x (1 + K4)"]

{"sheet":"PFP2.2_FatorKb","index":3,"n_rows":41,"n_cols":6,"rows_kept":41,"cut":false,"hidden":false,"merged":[[19,1,19,3],[0,0,1,4],[4,2,4,4],[5,0,5,1],[5,2,5,4],[7,1,7,3],[17,1,17,3],[18,1,18,3],[8,1,8,3],[9,1,9,3],[10,1,10,3],[16,1,16,3],[6,1,6,3],[12,1,12,3],[2,0,2,4],[3,0,3,4],[40,0,40,5],[37,0,37,5],[38,0,38,5],[39,0,39,5],[32,1,32,3],[33,1,33,3],[34,1,34,3],[35,1,35,3],[13,1,13,3],[14,1,14,3],[15,1,15,3],[11,1,11,3],[31,1,31,3],[20,1,20,3],[21,1,21,3],[22,1,22,3],[23,1,23,3],[24,1,24,3],[25,1,25,3],[26,1,26,3],[27,1,27,3],[28,1,28,3],[29,1,29,3],[30,1,30,3]]}
["DETALHAMENTO DOS ENCARGOS SOCIAIS: Kb",{"$nulls":4},"CODIGO:"]
[{"$nulls":5},"PFP-2.2"]
["NOME DA EMPRESA:",{"$nulls":4},"DATA-BASE"]
[{"$nulls":5},"2024-10-01"]
["PROJETO:",null,"CONTRATANTE:",null,null,"REFERÊNCIA:"]
[{"$f":"PFP!A6","v":"SELEÇÃO DE ÁREAS PRIORITÁRIAS E ELABORAÇÃO DE DIAGNÓSTICO E PROJETO BÁSICO DE ENGENHARIA PARA RECUPERAÇÃO HIDROAMBIENTAL NA ÁREA DE ATUAÇÃO DA CODEVASF."},null,"CODEVASF (SEDE)",null,null,"SINAPI/DF: Junho/2024"]
["Cod","DESCRIÇÃO",null,null,"%","R$"]
["A","ENCARGOS SOCIAIS BÁSICOS",null,null,{"$f":"ROUND(SUM(E9:E17),4)","v":0.2},{"$f":"ROUND(E8*SUMIF(PFP!$B$9:$B$25,\"MO2\",PFP!$O$9:$O$25),2)","v":20207.36}]
["A1","INSS",null,null,0.2,{"$f":"ROUND(E9*SUMIF(PFP!$B$9:$B$25,\"MO2\",PFP!$O$9:$O$25),2)","v":20207.36}]
["A2","SESI",null,null,0,{"$f":"ROUND(E10*SUMIF(PFP!$B$9:$B$23,\"MO2\",PFP!$O$9:$O$23),2)","v":0}]
["A3","SENAI",null,null,0,{"$f":"ROUND(E11*SUMIF(PFP!$B$9:$B$23,\"MO2\",PFP!$O$9:$O$23),2)","v":0}]
["A4","INCRA",null,null,0,{"$f":"ROUND(E12*SUMIF(PFP!$B$9:$B$23,\"MO2\",PFP!$O$9:$O$23),2)","v":0}]
["A5","SEBRAE",null,null,0,{"$f":"ROUND(E13*SUMIF(PFP!$B$9:$B$23,\"MO2\",PFP!$O$9:$O$23),2)","v":0}]
["A6","Salário Educação",null,null,0,{"$f":"ROUND(E14*SUMIF(PFP!$B$9:$B$23,\"MO2\",PFP!$O$9:$O$23),2)","v":0}]
["A7","Seguro Contra Acidentes de Trabalho",null,null,0,{"$f":"ROUND(E15*SUMIF(PFP!$B$9:$B$23,\"MO2\",PFP!$O$9:$O$23),2)","v":0}]
["A8","FGTS",null,null,0,{"$f":"ROUND(E16*SUMIF(PFP!$B$9:$B$23,\"MO2\",PFP!$O$9:$O$23),2)","v":0}]
["A9","SECONCI",null,null,0,{"$f":"ROUND(E17*SUMIF(PFP!$B$9:$B$23,\"MO2\",PFP!$O$9:$O$23),2)","v":0}]
["B"," ENCARGOS SOCIAIS QUE RECEBEM INCIDÊNCIA DE \"A\"",null,null,{"$f":"ROUND(SUM(E19:E25),4)","v":0},{"$f":"ROUND(E18*SUMIF(PFP!$B$9:$B$23,\"MO2\",PFP!$O$9:$O$23),2)","v":0}]
["B3","Auxílio Enfermidade",null,null,0,{"$f":"ROUND(E19*SUMIF(PFP!$B$9:$B$23,\"MO2\",PFP!$O$9:$O$23),2)","v":0}]
["B4","13º Salário",null,null,0,{"$f":"ROUND(E20*SUMIF(PFP!$B$9:$B$23,\"MO2\",PFP!$O$9:$O$23),2)","v":0}]
["B5","Licença Paternidade",null,null,0,{"$f":"ROUND(E21*SUMIF(PFP!$B$9:$B$23,\"MO2\",PFP!$O$9:$O$23),2)","v":0}]
["B6","Faltas Justificadas",null,null,0,{"$f":"ROUND(E22*SUMIF(PFP!$B$9:$B$23,\"MO2\",PFP!$O$9:$O$23),2)","v":0}]
["B8","Auxílio Acidente de Trabalho",null,null,0,{"$f":"ROUND(E23*SUMIF(PFP!$B$9:$B$23,\"MO2\",PFP!$O$9:$O$23),2)","v":0}]
["B9","Férias Gozadas",null,null,0,{"$f":"ROUND(E24*SUMIF(PFP!$B$9:$B$23,\"MO2\",PFP!$O$9:$O$23),2)","v":0}]
["B10","Salário Maternidade",null,null,0,{"$f":"ROUND(E25*SUMIF(PFP!$B$9:$B$23,\"MO2\",PFP!$O$9:$O$23),2)","v":0}]
["C"," ENCARGOS SOCIAIS QUE NÃO RECEBEM INCIDÊNCIA DE \"A\"",null,null,{"$f":"ROUND(SUM(E27:E31),4)","v":0},{"$f":"ROUND(E26*SUMIF(PFP!$B$9:$B$23,\"MO2\",PFP!$O$9:$O$23),2)","v":0}]
["C1","Aviso Prévio Indenizado",null,null,0,{"$f":"ROUND(E27*SUMIF(PFP!$B$9:$B$23,\"MO2\",PFP!$O$9:$O$23),2)","v":0}]
["C2","Aviso Prévio Trabalhado",null,null,0,{"$f":"ROUND(E28*SUMIF(PFP!$B$9:$B$23,\"MO2\",PFP!$O$9:$O$23),2)","v":0}]
["C3","Férias Indenizadas",null,null,0,{"$f":"ROUND(E29*SUMIF(PFP!$B$9:$B$23,\"MO2\",PFP!$O$9:$O$23),2)","v":0}]
["C4","Depósito Rescisão Sem Justa Causa",null,null,0,{"$f":"ROUND(E30*SUMIF(PFP!$B$9:$B$18,\"MO2\",PFP!$O$9:$O$23),2)","v":0}]
["C5","Indenização Adicional",null,null,0,{"$f":"ROUND(E31*SUMIF(PFP!$B$9:$B$23,\"MO2\",PFP!$O$9:$O$23),2)","v":0}]
["D"," REINCIDÊNCIAS",null,null,{"$f":"ROUND(SUM(E33:E34),4)","v":0},{"$f":"ROUND(E32*SUMIF(PFP!$B$9:$B$23,\"MO2\",PFP!$O$9:$O$23),2)","v":0}]
["D1","Reincidência de \"A\" sobre \"B\"",null,null,{"$f":"ROUND(E8*E18,4)","v":0},{"$f":"ROUND(E33*SUMIF(PFP!$B$9:$B$23,\"MO2\",PFP!$O$9:$O$23),2)","v":0}]
["D2","Reincidência de \"A\" sobre Aviso Prévio Trabalhado e reincidência do FGTS sobre Aviso Prévio Indenizado",null,null,{"$f":"ROUND(E8*E28,4)+ROUND(E27*E11,4)","v":0},{"$f":"ROUND(E34*SUMIF(PFP!$B$9:$B$23,\"MO2\",PFP!$O$9:$O$23),2)","v":0}]
["K1b","Encargos Socias MO2 Autonômos",null,null,{"$f":"ROUND(E8+E18+E26+E32,4)","v":0.2},{"$f":"ROUND(E35*SUMIF(PFP!$B$9:$B$25,\"MO2\",PFP!$O$9:$O$25),2)","v":20207.36}]
["Kb","Fator K MO2 Autônomos (Taxa de ressarcimento de despesas e encargos sobre MO2)",null,null,{"$f":"ROUND((1+E35+PFP3_FatorKd!E13)*(1+PFP3_FatorKd!E12)*(1+PFP3_FatorKd!E8),4)","v":1.5273000000000001}]
["OBSERVAÇÃO: AUTÔNOMOS E EQUIVALENTES"]
["1 - DISCRIMINAR OS ENCARGOS SOCIAIS COM SEUS RESPECTIVOS PERCENTUAS TOTALIZANDO OS MESMOS. "]
["2 - APLICAR O % TOTAL P/ CALCULAR OS E. SOCIAIS INCIDENTES NA MÃO-DE-OBRA AUTONÔMOS"]
["Kb - Taxa de Ressarcimento de Despesas e Encargos sobre a Mão de Obra AUTONÔMA (incide apenas no Insumo Codigo MO2)"]
["Kb = (1 + K1 + K2) x (1 + K3) x (1 + K4)"]

{"sheet":"PFP2.3_FatorKc","index":4,"n_rows":41,"n_cols":6,"rows_kept":41,"cut":false,"hidden":false,"merged":[[37,0,37,5],[38,0,38,5],[39,0,39,5],[40,0,40,5],[30,1,30,3],[31,1,31,3],[32,1,32,3],[33,1,33,3],[34,1,34,3],[35,1,35,3],[29,1,29,3],[18,1,18,3],[19,1,19,3],[20,1,20,3],[21,1,21,3],[22,1,22,3],[23,1,23,3],[24,1,24,3],[25,1,25,3],[26,1,26,3],[27,1,27,3],[28,1,28,3],[17,1,17,3],[6,1,6,3],[7,1,7,3],[8,1,8,3],[9,1,9,3],[10,1,10,3],[11,1,11,3],[12,1,12,3],[13,1,13,3],[14,1,14,3],[15,1,15,3],[16,1,16,3],[0,0,1,4],[4,2,4,4],[5,0,5,1],[5,2,5,4],[2,0,2,4],[3,0,3,4]]}
["DETALHAMENTO DOS ENCARGOS SOCIAIS: Kc",{"$nulls":4},"CODIGO:"]
[{"$nulls":5},"PFP-2.3"]
["NOME DA EMPRESA:",{"$nulls":4},"DATA-BASE"]
[{"$nulls":5},"2024-10-01"]
["PROJETO:",null,"CONTRATANTE:",null,null,"REFERÊNCIA:"]
[{"$f":"PFP!A6","v":"SELEÇÃO DE ÁREAS PRIORITÁRIAS E ELABORAÇÃO DE DIAGNÓSTICO E PROJETO BÁSICO DE ENGENHARIA PARA RECUPERAÇÃO HIDROAMBIENTAL NA ÁREA DE ATUAÇÃO DA CODEVASF."},null,"CODEVASF (SEDE)",null,null,"SINAPI/DF: Junho/2024"]
["Cod","DESCRIÇÃO",null,null,"%","R$"]
["A","ENCARGOS SOCIAIS BÁSICOS",null,null,{"$f":"SUM(E9:E17)","v":0},{"$f":"ROUND(E8*SUMIF(PFP!$B$9:$B$18,\"MO3\",PFP!$O$9:$O$20),2)","v":0}]
["A1","INSS",null,null,0,{"$f":"ROUND(E9*SUMIF(PFP!$B$9:$B$18,\"MO3\",PFP!$O$9:$O$20),2)","v":0}]
["A2","SESI",null,null,0,{"$f":"ROUND(E10*SUMIF(PFP!$B$9:$B$18,\"MO3\",PFP!$O$9:$O$20),2)","v":0}]
["A3","SENAI",null,null,0,{"$f":"ROUND(E11*SUMIF(PFP!$B$9:$B$18,\"MO3\",PFP!$O$9:$O$20),2)","v":0}]
["A4","INCRA",null,null,0,{"$f":"ROUND(E12*SUMIF(PFP!$B$9:$B$18,\"MO3\",PFP!$O$9:$O$20),2)","v":0}]
["A5","SEBRAE",null,null,0,{"$f":"ROUND(E13*SUMIF(PFP!$B$9:$B$18,\"MO3\",PFP!$O$9:$O$20),2)","v":0}]
["A6","Salário Educação",null,null,0,{"$f":"ROUND(E14*SUMIF(PFP!$B$9:$B$18,\"MO3\",PFP!$O$9:$O$20),2)","v":0}]
["A7","Seguro Contra Acidentes de Trabalho",null,null,0,{"$f":"ROUND(E15*SUMIF(PFP!$B$9:$B$18,\"MO3\",PFP!$O$9:$O$20),2)","v":0}]
["A8","FGTS",null,null,0,{"$f":"ROUND(E16*SUMIF(PFP!$B$9:$B$18,\"MO3\",PFP!$O$9:$O$20),2)","v":0}]
["A9","SECONCI",null,null,0,{"$f":"ROUND(E17*SUMIF(PFP!$B$9:$B$18,\"MO3\",PFP!$O$9:$O$20),2)","v":0}]
["B"," ENCARGOS SOCIAIS QUE RECEBEM INCIDÊNCIA DE \"A\"",null,null,{"$f":"ROUND(SUM(E19:E25),4)","v":0},{"$f":"ROUND(E18*SUMIF(PFP!$B$9:$B$18,\"MO3\",PFP!$O$9:$O$20),2)","v":0}]
["B3","Auxílio Enfermidade",null,null,0,{"$f":"ROUND(E19*SUMIF(PFP!$B$9:$B$18,\"MO3\",PFP!$O$9:$O$20),2)","v":0}]
["B4","13º Salário",null,null,0,{"$f":"ROUND(E20*SUMIF(PFP!$B$9:$B$18,\"MO3\",PFP!$O$9:$O$20),2)","v":0}]
["B5","Licença Paternidade",null,null,0,{"$f":"ROUND(E21*SUMIF(PFP!$B$9:$B$18,\"MO3\",PFP!$O$9:$O$20),2)","v":0}]
["B6","Faltas Justificadas",null,null,0,{"$f":"ROUND(E22*SUMIF(PFP!$B$9:$B$18,\"MO3\",PFP!$O$9:$O$20),2)","v":0}]
["B8","Auxílio Acidente de Trabalho",null,null,0,{"$f":"ROUND(E23*SUMIF(PFP!$B$9:$B$18,\"MO3\",PFP!$O$9:$O$20),2)","v":0}]
["B9","Férias Gozadas",null,null,0,{"$f":"ROUND(E24*SUMIF(PFP!$B$9:$B$18,\"MO3\",PFP!$O$9:$O$20),2)","v":0}]
["B10","Salário Maternidade",null,null,0,{"$f":"ROUND(E25*SUMIF(PFP!$B$9:$B$18,\"MO3\",PFP!$O$9:$O$20),2)","v":0}]
["C"," ENCARGOS SOCIAIS QUE NÃO RECEBEM INCIDÊNCIA DE \"A\"",null,null,{"$f":"ROUND(SUM(E27:E31),4)","v":0},{"$f":"ROUND(E26*SUMIF(PFP!$B$9:$B$18,\"MO3\",PFP!$O$9:$O$20),2)","v":0}]
["C1","Aviso Prévio Indenizado",null,null,0,{"$f":"ROUND(E27*SUMIF(PFP!$B$9:$B$18,\"MO3\",PFP!$O$9:$O$20),2)","v":0}]
["C2","Aviso Prévio Trabalhado",null,null,0,{"$f":"ROUND(E28*SUMIF(PFP!$B$9:$B$18,\"MO3\",PFP!$O$9:$O$20),2)","v":0}]
["C3","Férias Indenizadas",null,null,0,{"$f":"ROUND(E29*SUMIF(PFP!$B$9:$B$18,\"MO3\",PFP!$O$9:$O$20),2)","v":0}]
["C4","Depósito Rescisão Sem Justa Causa",null,null,0,{"$f":"ROUND(E30*SUMIF(PFP!$B$9:$B$18,\"MO3\",PFP!$O$9:$O$20),2)","v":0}]
["C5","Indenização Adicional",null,null,0,{"$f":"ROUND(E31*SUMIF(PFP!$B$9:$B$18,\"MO3\",PFP!$O$9:$O$20),2)","v":0}]
["D"," REINCIDÊNCIAS",null,null,{"$f":"ROUND(SUM(E33:E34),4)","v":0},{"$f":"ROUND(E32*SUMIF(PFP!$B$9:$B$18,\"MO3\",PFP!$O$9:$O$20),2)","v":0}]
["D1","Reincidência de \"A\" sobre \"B\"",null,null,{"$f":"ROUND(E8*E18,4)","v":0},{"$f":"ROUND(E33*SUMIF(PFP!$B$9:$B$18,\"MO3\",PFP!$O$9:$O$20),2)","v":0}]
["D2","Reincidência de \"A\" sobre Aviso Prévio Trabalhado e reincidência do FGTS sobre Aviso Prévio Indenizado",null,null,{"$f":"ROUND(E8*E28,4)+ROUND(E27*E11,4)","v":0},{"$f":"ROUND(E34*SUMIF(PFP!$B$9:$B$18,\"MO3\",PFP!$O$9:$O$20),2)","v":0}]
["K1c","Encargos Socias MO3 Societários",null,null,{"$f":"ROUND(E8+E18+E26+E32,4)","v":0},{"$f":"ROUND(E35*SUMIF(PFP!$B$9:$B$18,\"MO3\",PFP!$O$9:$O$20),2)","v":0}]
["Kc","Fator K MO3 Societários (Taxa de ressarcimento de despesas e encargos sobre MO3)",null,null,{"$f":"ROUND((1+E35+PFP3_FatorKd!E13)*(1+PFP3_FatorKd!E12)*(1+PFP3_FatorKd!E8),4)","v":1.2867999999999999}]
["OBSERVAÇÃO: SOCIETÁRIOS E EQUIVALENTES"]
["1 - DISCRIMINAR OS ENCARGOS SOCIAIS COM SEUS RESPECTIVOS PERCENTUAS TOTALIZANDO OS MESMOS. "]
["2 - APLICAR O % TOTAL P/ CALCULAR OS E. SOCIAIS INCIDENTES NA MÃO-DE-OBRA DE SOCIETÁRIOS"]
["Kc - Taxa de Ressarcimento de Despesas e Encargos sobre a Mão de Obra SOCIETÁRIA (incide apenas no Insumo Codigo MO3)"]
["Kc = (1 + K1 + K2) x (1 + K3) x (1 + K4)"]

{"sheet":"PFP3_FatorKd","index":5,"n_rows":35,"n_cols":6,"rows_kept":35,"cut":false,"hidden":false,"merged":[[27,0,27,5],[42,0,42,5],[43,0,43,5],[35,0,35,6],[36,0,36,6],[37,0,37,6],[38,0,38,5],[39,0,39,5],[41,0,41,5],[15,1,15,3],[16,1,16,3],[21,0,21,5],[22,0,22,5],[40,0,40,5],[32,0,32,5],[33,0,33,5],[34,0,34,5],[28,0,28,5],[29,0,29,5],[30,0,30,5],[31,0,31,5],[23,0,23,5],[24,0,24,5],[25,0,25,5],[26,0,26,5],[0,0,1,4],[4,2,4,4],[5,0,5,1],[5,2,5,4],[2,0,2,4],[3,0,3,4],[11,1,11,3],[12,1,12,3],[13,1,13,3],[14,1,14,3],[6,1,6,2],[7,1,7,2],[8,1,8,2],[9,1,9,2],[10,1,10,2]]}
["DESPESAS FISCAIS E CUSTOS DIVERSOS: Kd",{"$nulls":4},"CODIGO:"]
[{"$nulls":5},"PFP-3"]
["NOME DA EMPRESA:",{"$nulls":4},"DATA-BASE"]
[{"$nulls":5},"2024-10-01"]
["PROJETO:",null,"CONTRATANTE:",null,null,"REFERÊNCIA:"]
[{"$f":"PFP!A6","v":"SELEÇÃO DE ÁREAS PRIORITÁRIAS E ELABORAÇÃO DE DIAGNÓSTICO E PROJETO BÁSICO DE ENGENHARIA PARA RECUPERAÇÃO HIDROAMBIENTAL NA ÁREA DE ATUAÇÃO DA CODEVASF."},null,"CODEVASF (SEDE)",null,null,"SINAPI/DF: Junho/2024"]
["Cod","DESCRIÇÃO1",null,"% preço2","% custo4","R$"]
["K4","TRIBUTOS",null,{"$f":"ROUND(D9+D10+D11,4)","v":0.104},{"$f":"ROUND(E9+E10+E11,4)","v":0.11609999999999999},{"$f":"E8*SUM(SUMIF(PFP!$B$9:$B$25,\"MO1\",PFP!$O$9:$O$25)*(1+'PFP2.1_FatorKa'!$E$36)+SUMIF(PFP!$B$9:$B$25,\"MO2\",PFP!$O$9:$O$25)*(1+'PFP2.2_FatorKb'!$E$36)+SUMIF(PFP!$B$9:$B$25,\"<>MO*\",PFP!$O$9:$O$25)+$F$13+$F$12)","v":115518.40485151598}]
["K4.1","ISS",null,0.03,{"$f":"ROUND((1/(1-$D$8))*D9,4)","v":3.3500000000000002E-2},{"$f":"E9*SUM(SUMIF(PFP!$B$9:$B$25,\"MO1\",PFP!$O$9:$O$25)*(1+'PFP2.1_FatorKa'!$E$36)+SUMIF(PFP!$B$9:$B$25,\"MO2\",PFP!$O$9:$O$25)*(1+'PFP2.2_FatorKb'!$E$36)+SUMIF(PFP!$B$9:$B$25,\"<>MO*\",PFP!$O$9:$O$25)+$F$13+$F$12)","v":33332.184001083428}]
["K4.2","PIS3 - aliquota efetiva aplicavel percentual-desconto",null,{"$f":"ROUND(1.65%*0.8,4)","v":1.32E-2},{"$f":"ROUND((1/(1-$D$8))*D10,4)","v":1.47E-2},{"$f":"E10*SUM(SUMIF(PFP!$B$9:$B$25,\"MO1\",PFP!$O$9:$O$25)*(1+'PFP2.1_FatorKa'!$E$36)+SUMIF(PFP!$B$9:$B$25,\"MO2\",PFP!$O$9:$O$25)*(1+'PFP2.2_FatorKb'!$E$36)+SUMIF(PFP!$B$9:$B$25,\"<>MO*\",PFP!$O$9:$O$25)+$F$13+$F$12)","v":14626.361337788845}]
["K4.3","COFINS3 - aliquota efetiva aplicavel percentual-desconto",null,{"$f":"ROUND(7.6%*0.8,4)","v":6.08E-2},{"$f":"ROUND((1/(1-$D$8))*D11,4)","v":6.7900000000000002E-2},{"$f":"E11*SUM(SUMIF(PFP!$B$9:$B$25,\"MO1\",PFP!$O$9:$O$25)*(1+'PFP2.1_FatorKa'!$E$36)+SUMIF(PFP!$B$9:$B$25,\"MO2\",PFP!$O$9:$O$25)*(1+'PFP2.2_FatorKb'!$E$36)+SUMIF(PFP!$B$9:$B$25,\"<>MO*\",PFP!$O$9:$O$25)+$F$13+$F$12)","v":67559.859512643714}]
["K3","REMUNERAÇÃO DA EMPRESA (LUCRO)",null,null,7.7499999999999999E-2,{"$f":"E12*SUM(SUMIF(PFP!$B$9:$B$25,\"MO1\",PFP!$O$9:$O$25)*(1+'PFP2.1_FatorKa'!$E$36)+SUMIF(PFP!$B$9:$B$25,\"MO2\",PFP!$O$9:$O$25)*(1+'PFP2.2_FatorKb'!$E$36)+SUMIF(PFP!$B$9:$B$25,\"<>MO*\",PFP!$O$9:$O$25)+$F$13)","v":71565.446828520013}]
["K2","CUSTOS DA ADMINISTRAÇÃO CENTRAL",null,null,{"$f":"ROUND(SUM(E14:E16),4)","v":7.0000000000000007E-2},{"$f":"ROUND(E13*SUMIF(PFP!$B$9:$B$25,\"MO*\",PFP!$O$9:$O$25),2)","v":19392.16}]
["K2.1","Custos da administração central da empresa (diretoria, pessoal técnico de apoio e pessoal administrativo não diretamente vinculado à prestação dos serviços)",null,null,0.04,{"$f":"ROUND(E14*SUMIF(PFP!$B$9:$B$25,\"MO*\",PFP!$O$9:$O$25),2)","v":11081.24}]
["K2.2","Outras despesas que afetam o custo de produção como treinamento, biblioteca, programa de qualidade, programa de benefícios, auditoria interna e externa",null,null,0.02,{"$f":"ROUND(E15*SUMIF(PFP!$B$9:$B$25,\"MO*\",PFP!$O$9:$O$25),2)","v":5540.62}]
["K2.3","Despesas fixas e variáveis com patrimônio, aluguéis, comunicação, manutenção e transporte não diretamente relacionados com o custo direto dos serviços",null,null,0.01,{"$f":"ROUND(E16*SUMIF(PFP!$B$9:$B$25,\"MO*\",PFP!$O$9:$O$25),2)","v":2770.31}]
["Kd","TAXA RESSARCIMENTO DE DESPESAS SOBRE CUSTOS DIVERSOS",null,null,{"$f":"ROUND((1+E12)*(1+E8),4)","v":1.2025999999999999}]
["NOME DO INFORMANTE:",null,null,null,"QUALIFICAÇÃO:"]
[]
["ASSINATURA:",null,null,null,"DATA:"]
[]
["Observação:"]
["1 - RELACIONAR OS CUSTOS DE ADMINISTRAÇÃO COM RESPECTIVOS PERCENTUAIS INCIDENTES NA MÃO -DE-OBRA"]
["1 - DISCRIMINAR OS TRIBUTOS QUE INCIDEM SOBRE OS CUSTOS DA PRESTAÇÃO DOS SERVIÇOS"]
["2 - K4 = INDICAR % DE CADA TRIBUTO E A SOMA DOS MESMOS (ex: ISS 5% + PIS 1,65% + COFINS 7,60% = 14,25%)"]
["3 - PIS e COFINS, Regime de Incidencia Acumulativa (0,65% e 3,00% - sem percentual de desconto) ou em Regime de Incidencia Não Acumulativa (1,65% e 7,60% - aplicável percentual de desconto) de acordo com a forma de apuração do lucro no IRPJ. APRESENTAR COMPROVANTES de aproveitamento de créditos tributários dos últimos 12 meses em caso de aplicação de \"percentual de desconto\"."]
["4 - AS DESPESAS FISCAIS (K4) INCIDEM SOBRE O TOTAL DA FATURA E NÃO SOBRE OS CUSTOS INCORRIDOS, "]
["     DEVENDO SER CALCULADO O K4' APLICANDO-SE A SEGUINTE FÓRMULA:"]
["     K4' = { [ 1 / ( 1 - K4) ] - 1 } x 100"]
[{"$f":"CONCATENATE(\"     K4' = { [ 1 / ( 1 - \",D8,\" ) ] - 1 } x 100\")","v":"     K4' = { [ 1 / ( 1 - 0,104 ) ] - 1 } x 100"}]
["Kc - Taxa de Ressarcimento de Despesas sobre Custos Diversos (incide sobre os Insumos Codigo DP e EM)"]
["Kc = (1 + K3) x (1 + K4)"]
["K2 - Incide sobre o Custo Total (CT) da Mão de Obra (MO* = MO1 + MO2)"]
["K3 - Incide sobre o Custo Total (CT) Mão de Obra com encargos (MO1 x Ka ou MO2 x Kb), demais Custos (DP e EM), e Custos da Administração Central (K2)"]
["K4 -  Incide sobre o Custo Total (CT) Mão de Obra com encargos (MO1 x Ka ou MO2 x Kb), demais Custos (DP e EM), e Custos da Administração Central (K2) e Lucro (K3)"]

{"sheet":"CRO-1","index":6,"n_rows":26,"n_cols":9,"rows_kept":26,"cut":false,"hidden":false,"merged":[[24,2,24,6],[21,0,24,0],[21,1,23,1],[23,2,23,6],[0,7,0,8],[1,7,1,8],[3,0,3,5],[2,7,2,8],[22,3,22,6],[21,3,21,6],[0,0,1,5]]}
["PROPOSTA FINANCEIRA POR ITEM",{"$nulls":5},"DATA-BASE","CODIGO:"]
[{"$nulls":6},"2024-10-01","CRO-1"]
["Cod3","Categoria / Insumo","Uni","Qde (Item 1 + Item 2)","CUD","PU","FatorK","Qde"]
[{"$nulls":6},"Meses","Item1","Item2"]
[{"$f":"PFP!C9","v":"P2"},{"$f":"PFP!E9","v":"Engenheiro pleno (P8066)"},"mês",{"$f":"SUM(H5:I5)","v":8},{"$f":"PFP!J9","v":12629.6},{"$f":"PFP!K9","v":19289.189999999999},{"$f":"PFP!L9","v":1.5273000000000001},{"$f":"SUM('CRO2_Ins-Mes'!H15:J15)","v":3},{"$f":"SUM('CRO2_Ins-Mes'!K15:O15)","v":5}]
[{"$f":"PFP!C10","v":"P3"},{"$f":"PFP!E10","v":"Engenheiro júnior (P8065)"},"mês",8,{"$f":"PFP!J10","v":12002},{"$f":"PFP!K10","v":25553.46},{"$f":"PFP!L10","v":2.1291000000000002},{"$f":"SUM('CRO2_Ins-Mes'!H16:J16)","v":3},{"$f":"SUM('CRO2_Ins-Mes'!K16:O16)","v":5}]
["S2",{"$f":"PFP!E11","v":"Analista pleno (P8184)"},"mês",8,{"$f":"PFP!J11","v":5205.92},{"$f":"PFP!K11","v":11083.92},{"$f":"PFP!L11","v":2.1291000000000002},{"$f":"SUM('CRO2_Ins-Mes'!H17:J17)","v":3},{"$f":"SUM('CRO2_Ins-Mes'!K17:O17)","v":5}]
["T1",{"$f":"PFP!E12","v":"Técnico/Tecnologo pleno (P8143)"},"mês",8,{"$f":"PFP!J12","v":2911.08},{"$f":"PFP!K12","v":6197.98},{"$f":"PFP!L12","v":2.1291000000000002},{"$f":"SUM('CRO2_Ins-Mes'!H18:J18)","v":3},{"$f":"SUM('CRO2_Ins-Mes'!K18:O18)","v":5}]
["A1",{"$f":"PFP!E13","v":"Auxiliar administrativo (P8026)"},"mês",8,{"$f":"PFP!J13","v":1880.26},{"$f":"PFP!K13","v":4003.26},{"$f":"PFP!L13","v":2.1291000000000002},{"$f":"SUM('CRO2_Ins-Mes'!H19:J19)","v":3},{"$f":"SUM('CRO2_Ins-Mes'!K19:O19)","v":5}]
[{"$f":"PFP!C14","v":"ECA"},{"$f":"PFP!E14","v":"Encargos Compementares e Adicionais"},"mês",40,{"$f":"PFP!J14","v":1097.1600000000001},{"$f":"PFP!K14","v":1319.44},{"$f":"PFP!L14","v":1.2025999999999999},{"$f":"SUM(H5:H9)","v":15},{"$f":"SUM(I5:I9)","v":25}]
[{"$f":"PFP!C15","v":"AT1"},{"$f":"PFP!E15","v":"Auxílio Transporte Técnicos"},"mês",0,{"$f":"PFP!J15","v":"Já incluso*"},{"$f":"PFP!K15","v":0},{"$f":"PFP!L15","v":1.2025999999999999},0,0]
[{"$f":"PFP!C16","v":"AT2"},{"$f":"PFP!E16","v":"Auxílio Transporte Auxiliar Administrativo"},"mês",0,{"$f":"PFP!J16","v":"Já incluso*"},{"$f":"PFP!K16","v":0},{"$f":"PFP!L16","v":1.2025999999999999},0,0]
[{"$f":"PFP!C17","v":"E8891"},"Veículo leve picape 4x4 147 kW (produtivo)","h",{"$f":"SUM(H13:I13)","v":207},{"$f":"PFP!J17","v":80.680000000000007},{"$f":"PFP!K17","v":97.03},{"$f":"PFP!L17","v":1.2025999999999999},{"$f":"SUM('CRO2_Ins-Mes'!H20:J20)","v":45},{"$f":"SUM('CRO2_Ins-Mes'!K20:M20)","v":162}]
[{"$f":"PFP!C18","v":"E8892"},"Veículo leve picape 4x4 147 kW (improdutivo)","h",{"$f":"SUM(H14:I14)","v":345},{"$f":"PFP!J18","v":24.66},{"$f":"PFP!K18","v":29.66},{"$f":"PFP!L18","v":1.2025999999999999},{"$f":"SUM('CRO2_Ins-Mes'!H21:I21)","v":75},{"$f":"SUM('CRO2_Ins-Mes'!K21:O21)","v":270}]
[null,"Notebook","mês",{"$f":"SUM(H15:I15)","v":40},{"$f":"PFP!J19","v":56.423576388888883},{"$f":"PFP!K19","v":67.849999999999994},{"$f":"PFP!L19","v":1.2025999999999999},{"$f":"SUM('CRO2_Ins-Mes'!H22:J22)","v":15},{"$f":"SUM('CRO2_Ins-Mes'!K22:O22)","v":25}]
[null,"Receptor GPS de navegação","mês",4,{"$f":"PFP!J20","v":38.322916666666664},{"$f":"PFP!K20","v":46.09},{"$f":"PFP!L20","v":1.2025999999999999},{"$f":"SUM('CRO2_Ins-Mes'!H23:J23)","v":1},{"$f":"SUM('CRO2_Ins-Mes'!K23:O23)","v":3}]
[null,"Receptor GNSS/RTK","mês",{"$f":"SUM(H17:I17)","v":2},{"$f":"PFP!J21","v":445.79513888888891},{"$f":"PFP!K21","v":536.11},{"$f":"PFP!L21","v":1.2025999999999999},{"$f":"SUM('CRO2_Ins-Mes'!H24:J24)","v":0},{"$f":"SUM('CRO2_Ins-Mes'!K24:O24)","v":2}]
[null,"Diárias","dia",{"$f":"SUM(H18:I18)","v":138},{"$f":"PFP!J22","v":166.87},{"$f":"PFP!K22","v":200.68},{"$f":"PFP!L22","v":1.2025999999999999},{"$f":"SUM('CRO2_Ins-Mes'!H25:H25)","v":30},{"$f":"SUM('CRO2_Ins-Mes'!K25:N25)","v":108}]
[null,"Passagens Aéreas (ida e volta)","uni",2,{"$f":"PFP!J23","v":1277.42},{"$f":"PFP!K23","v":1536.23},{"$f":"PFP!L23","v":1.2025999999999999},{"$f":"SUM('CRO2_Ins-Mes'!H26:I26)","v":1},{"$f":"SUM('CRO2_Ins-Mes'!L26:O26)","v":1}]
[null,"Total Serviços de Fotogrametria","uni",1,{"$f":"PFP!J24","v":"-"},{"$f":"PFP!K24","v":66234.64},{"$f":"PFP!L24","v":"-"},{"$f":"SUM('CRO2_Ins-Mes'!H27:J27)","v":0},{"$f":"SUM('CRO2_Ins-Mes'!K27:O27)","v":1}]
[null,"Total Serviços de Pedologia","uni",1,{"$f":"PFP!J25","v":"-"},{"$f":"PFP!K25","v":74543.08},{"$f":"PFP!L25","v":"-"},{"$f":"SUM('CRO2_Ins-Mes'!H28:J28)","v":0},{"$f":"SUM('CRO2_Ins-Mes'!K28:O28)","v":1}]
["TOTAL","VALOR TOTAL POR ITEM","R$",787632.59000000008,null,null,null,{"$f":"SUMPRODUCT(F5:F21,H5:H21)","v":233386.35000000003},{"$f":"SUMPRODUCT(I5:I21,F5:F21)","v":554246.24}]
[null,null,"%",1,null,null,null,{"$f":"ROUND(H22/$D$22,2)","v":0.3},{"$f":"ROUND(I22/$D$22,2)","v":0.7}]
[null,null,"ha ",{"$nulls":4},100000,30000]
[null,"VALOR UNITÁRIO POR ITEM","Un (R$/ha)",{"$nulls":4},{"$f":"ROUND(H22/H24,2)","v":2.33},{"$f":"ROUND(I22/I24,2)","v":18.47}]
["Proposta elaborada com base em uma produção de 100.000ha para o item 01 e 30.000ha para o item 02."]

{"sheet":"CRO2_Ins-Mes","index":7,"n_rows":33,"n_cols":15,"rows_kept":33,"cut":false,"hidden":false,"merged":[[0,0,1,14],[12,0,13,0],[12,1,13,1],[12,2,13,2],[12,3,13,3],[12,7,13,7],[12,8,13,8],[12,9,13,9],[12,10,13,10],[12,11,13,11],[12,12,13,12],[12,13,13,13],[12,14,13,14],[12,4,12,6],[2,3,2,5],[8,3,8,5],[9,3,9,5],[10,3,10,5],[11,3,11,5],[3,3,3,5],[4,3,4,5],[6,3,6,5],[7,3,7,5],[5,2,5,5]]}
["CRONOGRAMA SIMPLIFICADO"]
[]
["Cod1","Cod2","Produtos/mês","Uni",null,null,"Qde",1,2,3,4,5,6,7,8]
[1,1,"ITEM 01: Seleção de áreas prioritárias para recuperação hidroambiental",{"$nulls":7},{"$f":"SUBTOTAL(4,K5:K5)","v":0},0,0,0,0]
[1,"1.1","Etapa A (Definição de áreas prioritárias para recuperação hidroambiental).","un",null,null,{"$f":"SUM(H5:O5)","v":1},null,1]
[2,2,"ITEM 02: Projeto básico de engenharia em áreas prioritárias para recuperação hidroambiental",null,null,null,0]
[2,"2.1","Etapa 1 (Diagnóstico em áreas prioritárias) - 20%","un",null,null,1,null,null,1]
[2,"2.2","Etapa 2 (Cadastro das propriedades rurais) 10%","un",null,null,1,{"$nulls":4},1]
[2,"2.3","Etapa 3 (Minuta do projeto básico de engenharia) - 15%","un",null,null,1,{"$nulls":5},1]
[2,"2.4","Etapa 4 (Memória de quantitativos, orçamento, cronograma físico-financeiro e cotações) - 15%","un",null,null,1,{"$nulls":6},1]
[2,"2.5","Etapa 5 (Projeto básico de engenharia para recuperação hidroambiental) - 40%","un",null,null,1,{"$nulls":7},1]
["Total","Total","Balanço Temporal","Produtos",null,null,{"$f":"SUM(H12:O12)","v":6},null,{"$f":"SUBTOTAL(4,I5:I5)","v":1},{"$f":"SUBTOTAL(4,J5:J7)","v":1},{"$f":"SUBTOTAL(4,K6:K11)","v":0},{"$f":"SUBTOTAL(4,L6:L11)","v":1},{"$f":"SUBTOTAL(4,M6:M11)","v":1},{"$f":"SUBTOTAL(4,N6:N11)","v":1},{"$f":"SUBTOTAL(4,O6:O11)","v":1}]
["Cod1","Cod2","Insumos","Uni","Qde",null,null,1,2,3,4,5,6,7,8]
[{"$nulls":4},"ITEM 1","ITEM 2","TOTAL"]
[1,"P2","Engenheiro pleno (P2)","mês",{"$f":"SUM(H15:I15)","v":2},{"$f":"SUM(J15:O15)","v":6},{"$f":"SUM(H15:O15)","v":8},1,1,1,1,1,1,1,1]
[1,"P3","Engenheiro júnior (P3)","mês",{"$f":"SUM(H16:I16)","v":2},{"$f":"SUM(J16:O16)","v":6},{"$f":"SUM(H16:O16)","v":8},1,1,1,1,1,1,1,1]
[1,"S2","Analista pleno (S2)","mês",2,6,8,1,1,1,1,1,1,1,1]
[1,"T1","Técnico/Tecnologo pleno (T1)","mês",2,6,8,1,1,1,1,1,1,1,1]
[1,"A1","Auxiliar administrativo (A1)","mês",2,6,8,1,1,1,1,1,1,1,1]
[null,null,"Veículo leve picape 4x4 147 kW (produtivo)","h",45,162,207,{"$f":"3*15*H16","v":45},null,null,{"$f":"3*22*K16","v":66},{"$f":"3*22*L16","v":66},{"$f":"3*10*M16","v":30}]
[null,null,"Veículo leve picape 4x4 147 kW (improdutivo)","h",75,270,345,{"$f":"5*15*$H$16","v":75},null,null,{"$f":"5*22*$K$16","v":110},{"$f":"5*22*$L$16","v":110},{"$f":"5*10*$M$16","v":50}]
[null,null,"Notebook","mês",10,30,40,{"$f":"SUM(H15:H19)","v":5},5,5,5,5,5,5,5]
[null,null,"Receptor GPS de navegação","mês",1,3,4,{"$f":"SUM(H18)","v":1},null,null,{"$f":"SUM(K18)","v":1},{"$f":"SUM(L18)","v":1},{"$f":"SUM(M18)","v":1}]
[null,null,"Receptor GNSS/RTK","mês",0,2,2,null,null,null,{"$f":"K16","v":1},{"$f":"K16","v":1}]
[null,null,"Diárias","dia",30,108,138,{"$f":"SUM(H16,H18)*15","v":30},null,null,{"$f":"SUM(K16,K18)*22","v":44},{"$f":"SUM(L16,L18)*22","v":44},{"$f":"SUM(M16,M18)*10","v":20}]
[null,null,"Passagens Aéreas (ida e volta)","un ",1,1,2,{"$f":"(SUM(H15))","v":1},{"$nulls":4},{"$f":"(SUM(M15))","v":1}]
[null,null,"Total Serviços de Fotogrametria","un",0,1,1,null,null,null,0.5,0.5]
[null,null,"Total Serviços de Pedologia","un",0,1,1,null,null,null,0.5,0.5]
["Observações"]
["A área máxima a ser contratada para o item 01 é de 2.000.000ha e a área máxima a ser contratada para o item 02 é de 200.000ha."]
["A área mínima a ser contratada para o item 01 é de 7.000ha e a área mínima a ser contratada para o item 02 é de 2.000ha."]
["Considerou-se para produção de 100.000ha para o item 1 e 30.000ha para o item 02 prazo de 240 dias para execução dos serviços."]
["Proposta elaborada com base em uma produção de 100.000ha para o item 01 e 30.000ha para o item 02."]

{"sheet":"Cotacoes-Equip","index":8,"n_rows":41,"n_cols":2,"rows_kept":41,"cut":false,"hidden":false,"merged":[[0,0,0,1],[36,0,36,1],[20,0,20,1],[13,0,13,1],[6,0,6,1],[26,0,26,1],[31,0,31,1],[1,0,1,1],[2,0,2,1]]}
["COMPOSIÇÃO DO CUSTO MENSAL PARA RECEPTOR GPS DE NAVEGAÇÃO, RECEPTOR GNSS/RTK E NOTEBOOK"]
["Data das cotações: outubro/2024"]
["DATA-BASE: outubro/2024"]
["PROJETO:","CONTRATANTE:"]
[{"$f":"PFP!A6","v":"SELEÇÃO DE ÁREAS PRIORITÁRIAS E ELABORAÇÃO DE DIAGNÓSTICO E PROJETO BÁSICO DE ENGENHARIA PARA RECUPERAÇÃO HIDROAMBIENTAL NA ÁREA DE ATUAÇÃO DA CODEVASF."},"CODEVASF (SEDE)"]
["Cotação A","R$"]
["Aparelho GPS de navegação"]
["Cotação 1",3039]
["Cotação 2",3749]
["Cotação 3",4249]
["Preço médio",{"$f":"AVERAGE(B8:B10)","v":3679}]
[]
["Cotação B","R$"]
["Aparelho Kit Receptores GNSS RTK"]
["Cotação 1",48900]
["Cotação 2",39589]
["Cotação 3",39900]
["Preço médio",{"$f":"AVERAGE(B15:B17)","v":42796.333333333336}]
[]
["Cotação C","R$"]
["Notebook"]
["Cotação 1",5199]
["Cotação 2",4751.99]
["Cotação 3",6299]
["Preço médio",{"$f":"AVERAGE(B22:B24)","v":5416.663333333333}]
[]
["A – DEPRECIAÇÃO MENSAL DO APARELHO GPS DE NAVEGAÇÃO"]
["A.1 Preço de aquisição (Cotação)",{"$f":"B11","v":3679}]
["A.2 Tempo previsto de vida útil (meses)",48]
["A.3 Previsão de recup. na venda do bem usado (%)",0.5]
["A.4 CUSTO MENSAL",{"$f":"(B28/B29)*B30","v":38.322916666666664}]
["B – DEPRECIAÇÃO MENSAL DOS RECEPTOR GNSS/RTK"]
["B.1 Preço de aquisição (Cotação)",{"$f":"B18","v":42796.333333333336}]
["B.2 Tempo previsto de vida útil (meses)",48]
["B.3 Previsão de recup. na venda do bem usado (%)",0.5]
["B.4 CUSTO MENSAL",{"$f":"(B33/B34)*B35","v":445.79513888888891}]
["C – DEPRECIAÇÃO MENSAL DO NOTEBOOK"]
["C.1 Preço de aquisição (Cotação)",{"$f":"B25","v":5416.663333333333}]
["C.2 Tempo previsto de vida útil (meses)",48]
["C.3 Previsão de recup. na venda do bem usado (%)",0.5]
["C.4 CUSTO MENSAL",{"$f":"(B38/B39)*B40","v":56.423576388888883}]

{"sheet":"Diárias","index":9,"n_rows":21,"n_cols":3,"rows_kept":21,"cut":false,"hidden":false,"merged":[[5,2,5,3],[6,2,6,3],[7,2,7,3],[0,0,0,3],[1,0,1,1],[1,2,1,3],[2,0,2,1],[2,2,2,3],[3,0,3,3],[4,0,4,3],[5,0,5,1],[16,2,16,3],[20,2,20,3],[19,2,19,3],[17,2,17,3],[8,2,8,3],[9,2,9,3],[10,2,10,3],[11,2,11,3],[18,2,18,3],[12,2,12,3],[13,2,13,3],[14,2,14,3],[15,2,15,3]]}
["COMPOSIÇÃO DE CUSTOS DE DIÁRIAS"]
["PROJETO:",null,"CONTRATANTE:"]
[{"$f":"PFP!A6","v":"SELEÇÃO DE ÁREAS PRIORITÁRIAS E ELABORAÇÃO DE DIAGNÓSTICO E PROJETO BÁSICO DE ENGENHARIA PARA RECUPERAÇÃO HIDROAMBIENTAL NA ÁREA DE ATUAÇÃO DA CODEVASF."},null,"CODEVASF (SEDE)"]
["DATA-BASE: Outubro/2024"]
["Engenharia Consultiva da Codevasf"]
["CPU - HOSPEDAGEM EQUIPE DE CAMPO (4 PESSOAS/MÊS)",null,"Código/Referencia"]
["Aluguel",3074.56,"F020003334 - EMBASA - Maio de 2024"]
["Aquisição de Mobiliário para 4 pessoas",{"$f":"42.41*B18","v":169.64},"B8954 - DNIT - Relatório de Consolidação de Custos Gerais - Julho de 2024"]
["Material de limpeza e diarista",{"$f":"126.92+(123*8)","v":1110.92},"10563 - ORSE de Agosto de 2024 e E200300131 - EMBASA de Maio de 2024"]
["Energia",180,"10555/ORSE - Agosto de 2024"]
["Água",394.99,"10554/ORSE - Agosto de 2024"]
["Telefone/Internet",{"$f":"154.99+89","v":243.99},"10557/10558/ORSE - Agosto de 2024"]
["IPTU (mês)",{"$f":"(B7*0.5)/12","v":128.10666666666665}]
["Despesas Gerais - 10%",{"$f":"SUM(B7:B13)*0.1","v":530.2206666666666}]
["Custo Mensal:",{"$f":"SUM(B7:B14)","v":5832.4273333333331}]
["Custo Mensal por pessoa:",{"$f":"B15/B18","v":1458.1068333333333}]
["Custo diário por pessoa:",{"$f":"B16/22","v":66.277583333333325}]
["número de pessoas:",4]
["Alimentação:",100.59,"Tabela Diária Codevasf - Maio de 2024"]
[]
["Diária Total por pessoa (alimentação + hospedagem):",{"$f":"ROUND((B17+B19),2)","v":166.87}]

{"sheet":"Cotacoes-PassagensAereas","index":10,"n_rows":17,"n_cols":5,"rows_kept":17,"cut":false,"hidden":false,"merged":[[16,0,16,3],[4,0,5,0],[7,0,8,0],[10,0,11,0],[13,0,14,0],[0,0,0,4],[2,0,2,1],[12,0,12,4],[9,0,9,4],[6,0,6,4],[3,0,3,1],[2,2,2,3],[3,2,3,3],[1,0,1,4]]}
["COMPOSIÇÃO DO CUSTO UNITÁRIO DE PASSAGENS AÉREAS"]
["Data das cotações: outubro/2024"]
["PROJETO:",null,"CONTRATANTE:",null,"DATA-BASE"]
[{"$f":"PFP!A6","v":"SELEÇÃO DE ÁREAS PRIORITÁRIAS E ELABORAÇÃO DE DIAGNÓSTICO E PROJETO BÁSICO DE ENGENHARIA PARA RECUPERAÇÃO HIDROAMBIENTAL NA ÁREA DE ATUAÇÃO DA CODEVASF."},null,"CODEVASF (SEDE)",null,"2024-10-01"]
["Brasília - Palmas","Companhia Aérea 1","Companhia Aérea 2","Companhia Aérea 3","Média"]
[null,760,760,1308,{"$f":"AVERAGE(B6:D6)","v":942.66666666666663}]
[]
["Brasília- Macapá","Companhia Aérea 1","Companhia Aérea 2","Companhia Aérea 3","Média"]
[null,1306,1591,1882,{"$f":"AVERAGE(B9:D9)","v":1593}]
[]
["Brasília - Montes Claros","Companhia Aérea 1","Companhia Aérea 2","Companhia Aérea 3","Média"]
[null,856,927,1354,{"$f":"AVERAGE(B12:D12)","v":1045.6666666666667}]
[]
["Brasília- Joao Pessoa","Companhia Aérea 1","Companhia Aérea 2","Companhia Aérea 3","Média"]
[null,1157,1158,2270,{"$f":"AVERAGE(B15:D15)","v":1528.3333333333333}]
[]
["Preço total considerado uma passagem aérea, ida e volta, para uma pessoa",null,null,null,{"$f":"ROUND((AVERAGE(E6,E9,E12,E15)),2)","v":1277.42}]

{"sheet":"Servicos-de-Fotogrametria","index":11,"n_rows":35,"n_cols":9,"rows_kept":35,"cut":false,"hidden":false,"merged":[[65,0,65,3],[45,0,45,3],[49,0,49,3],[30,0,30,1],[31,0,31,1],[32,0,33,2],[34,0,34,1],[53,0,53,3],[57,0,57,3],[61,0,61,3],[25,0,25,1],[26,1,26,2],[0,0,0,8],[1,0,1,1],[2,0,2,1],[1,7,1,8],[2,7,2,8],[3,0,3,1],[4,0,4,1],[5,0,5,1],[6,0,6,1],[13,0,14,2],[7,0,7,6],[22,0,22,1],[15,0,16,0],[15,1,16,1],[1,5,1,6],[2,5,2,6],[1,2,1,4],[2,2,2,4],[23,1,23,2],[15,2,16,2],[8,0,8,10],[11,0,11,10],[17,1,17,2]]}
["Serviços de Fotogrametria"]
["PROJETO:",null,"CONTRATANTE:",null,null,"DATA-BASE",null,"REFERÊNCIA:"]
[{"$f":"PFP!A6","v":"SELEÇÃO DE ÁREAS PRIORITÁRIAS E ELABORAÇÃO DE DIAGNÓSTICO E PROJETO BÁSICO DE ENGENHARIA PARA RECUPERAÇÃO HIDROAMBIENTAL NA ÁREA DE ATUAÇÃO DA CODEVASF."},null,"CODEVASF (SEDE)",null,null,"2024-10-01",null,"EMBASA: Janeiro/2024"]
["Código",null,"Data Base","Descrição","Unidade","Qde.","Unitario","Custo Unitário","Preço Total"]
["31.90.22",null,"2024-01-01","Levant. fotogrametrico c/ vant (drone) areas pelo que exced 100ha até 1000ha, incl. ortofotos, gsd<= 10, acuracia horiz. min. 10cm e vert. min. 20cm, aferidos c/ pontos de controle dist. min. 1350m entre eles, excl transp. equipe e equipamentos","ha ",1500,32.869999999999997,{"$f":"ROUND(F5*G5,2)","v":49305},{"$f":"ROUND(((H5*$C$35)+H5),2)","v":56548.9}]
["31.90.23",null,"2024-01-01","Levant. fotogrametrico c/ vant (drone) areas pelo que exceder 1000ha, incl. ortofotos, gsd<=10, acuracia horiz. min. 10cm e vert. min. 20cm, aferidos c/ pontos de controle dist. min. 1350m entre eles, excl. transporte de equipe e equipamentos","ha ",1500,3.29,{"$f":"ROUND(F6*G6,2)","v":4935},{"$f":"ROUND(((H6*$C$35)+H6),2)","v":5660.05}]
["31.90.16",null,"2024-01-01","Transporte de equipe e equipamentos para levantamento fotogrametrico c/ vant (drone)","km",450,7.8,{"$f":"ROUND(F7*G7,2)","v":3510},{"$f":"ROUND(((H7*$C$35)+H7),2)","v":4025.69}]
["Preço total dos Serviços de Fotogrametria",{"$nulls":6},{"$f":"SUM(H5:H7)","v":57750},{"$f":"SUM(I5:I7)","v":66234.64}]
[]
[]
[]
[]
[]
["MEMÓRIA DE CALCULO DO BDI DE FORNECIMENTO"]
[]
["ITEM","DISCRIMINAÇÃO","PERC.    (%)"]
[]
["1.00","Despesas Indiretas"]
["A1","Seguro e Garantia",8.0000000000000002E-3]
["A2","Riscos e Imprevistos",1.15E-2]
["A3","Despesas Financeiras",1.0500000000000001E-2]
["A4","Administração Central",2.1999999999999999E-2]
["Total do Grupo A =",null,{"$f":"SUM(C19:C22)","v":5.1999999999999998E-2}]
["2.00","Benefício"]
["B1","LUCRO",0.05]
["Total do Grupo B =",null,{"$f":"C25","v":0.05}]
["3.00","Impostos"]
["C1","PIS / PASEP",6.4999999999999997E-3]
["C2","COFINS",0.03]
["C3","ISS",0]
["Total do Grupo C =",null,{"$f":"SUM(C28:C30)","v":3.6499999999999998E-2}]
["Fórmula Para Cálculo do B.D.I"]
["BDI =(((1+A4+A1+A2)*(1+A3)*(1+B))/(1-C))-1"]
[]
["Bonificação Sobre Despesas indiretas (B.D.I) =",null,{"$f":"(((1+C22+C19+C20)*(1+C21)*(1+C25))/(1-C31))-1","v":0.14692012195121973}]

{"sheet":"Servicos-de-Pedologia","index":12,"n_rows":38,"n_cols":11,"rows_kept":38,"cut":false,"hidden":false,"merged":[[1,0,1,1],[0,0,0,10],[1,6,2,10],[2,0,2,1],[1,2,1,4],[2,2,2,4],[3,10,4,10],[15,0,16,2],[17,0,18,0],[17,1,18,1],[17,2,18,2],[9,0,9,8],[3,9,4,9],[3,0,4,0],[3,1,4,1],[3,2,4,2],[3,3,4,3],[3,4,4,4],[3,5,3,8],[35,0,36,2],[37,0,37,1],[10,0,10,10],[11,0,11,10],[12,0,12,10],[13,0,13,10],[34,0,34,1],[19,0,19,2],[20,1,20,2],[28,0,28,1],[29,1,29,2],[33,0,33,1],[25,0,25,1],[26,1,26,2]]}
["SERVIÇOS DE PEDOLOGIA"]
["PROJETO:",null,"CONTRATANTE:",null,null,"DATA-BASE","REFERÊNCIA:\nTabela Engenharia Consultiva Codevasf: Fevereiro/2019 atualizado para Setembro/2024."]
[{"$f":"PFP!A6","v":"SELEÇÃO DE ÁREAS PRIORITÁRIAS E ELABORAÇÃO DE DIAGNÓSTICO E PROJETO BÁSICO DE ENGENHARIA PARA RECUPERAÇÃO HIDROAMBIENTAL NA ÁREA DE ATUAÇÃO DA CODEVASF."},null,"CODEVASF (SEDE)",null,null,"2024-10-01"]
["Base","Data Base","Descrição","Unidade","Qde.","Preços",null,null,null,"Custo Total","Preço Total"]
[{"$nulls":5},"Unitario","I0 FGV 157980","I1 FGV 157980","Custo unitário atualizado para set/2024"]
["Engenharia Consultiva Codevasf","2019-02-01","Tradagens","un ",150,149.88,226.11699999999999,298.83999999999997,{"$f":"(F6)*((H6-G6)/G6)+F6","v":198.0839087728919},{"$f":"I6*E6","v":29712.586315933786},{"$f":"(J6*$C$38)+J6","v":34077.96312095692}]
["Engenharia Consultiva Codevasf","2019-02-01","Análises parciais","un ",150,174.46,226.11699999999999,298.83999999999997,{"$f":"(F7)*((H7-G7)/G7)+F7","v":230.56924689430693},{"$f":"I7*E7","v":34585.387034146042},{"$f":"(J7*$C$38)+J7","v":39666.676314932913}]
["Engenharia Consultiva Codevasf","2019-02-01","Picadas manuais","km",1,194.88,226.11699999999999,298.83999999999997,{"$f":"(F8)*((H8-G8)/G8)+F8","v":257.55665960542547},{"$f":"I8*E8","v":257.55665960542547},295.39691544400335]
["Engenharia Consultiva Codevasf","2019-02-01","Teste de Condutividade Hidráulica","un ",1,331.87,226.11699999999999,298.83999999999997,{"$f":"(F9)*((H9-G9)/G9)+F9","v":438.60492930650946},{"$f":"I9*E9","v":438.60492930650946},503.04481900862794]
["Total Serviços Pedológicos",{"$nulls":8},{"$f":"ROUND((SUM(J6:J9)),2)","v":64994.13},{"$f":"ROUND((SUM(K6:K9)),2)","v":74543.08}]
[]
[]
[]
[]
[]
["MEMÓRIA DE CALCULO DO BDI DE FORNECIMENTO"]
[]
["ITEM","DISCRIMINAÇÃO","PERC.    (%)"]
[]
[]
["1.00","Despesas Indiretas"]
["A1","Seguro e Garantia",8.0000000000000002E-3]
["A2","Riscos e Imprevistos",1.15E-2]
["A3","Despesas Financeiras",1.0500000000000001E-2]
["A4","Administração Central",2.1999999999999999E-2]
["Total do Grupo A =",null,{"$f":"SUM(C22:C25)","v":5.1999999999999998E-2}]
["2.00","Benefício"]
["B1","LUCRO",0.05]
["Total do Grupo B =",null,{"$f":"C28","v":0.05}]
["3.00","Impostos"]
["C1","PIS / PASEP",6.4999999999999997E-3]
["C2","COFINS",0.03]
["C3","ISS",0]
["Total do Grupo C =",null,{"$f":"SUM(C31:C33)","v":3.6499999999999998E-2}]
["Fórmula Para Cálculo do B.D.I"]
["BDI =(((1+A4+A1+A2)*(1+A3)*(1+B))/(1-C))-1"]
[]
["Bonificação Sobre Despesas indiretas (B.D.I) =",null,{"$f":"(((1+C25+C22+C23)*(1+C24)*(1+C29))/(1-C34))-1","v":0.14692012195121973}]

{"sheet":"Planilhadecustos","index":13,"n_rows":8,"n_cols":6,"rows_kept":8,"cut":false,"hidden":false,"merged":[[7,0,7,4],[0,0,0,5],[1,0,1,1],[2,0,2,1],[1,2,1,4],[2,2,2,4],[3,0,3,5]]}
["PLANILHA DE CUSTOS"]
["PROJETO:",null,"CONTRATANTE:",null,null,"DATA-BASE"]
[{"$f":"PFP!A6","v":"SELEÇÃO DE ÁREAS PRIORITÁRIAS E ELABORAÇÃO DE DIAGNÓSTICO E PROJETO BÁSICO DE ENGENHARIA PARA RECUPERAÇÃO HIDROAMBIENTAL NA ÁREA DE ATUAÇÃO DA CODEVASF."},null,"CODEVASF (SEDE)",null,null,"2024-10-01"]
["GRUPO 01: Áreas prioritárias para elaboração de diagnóstico e projeto básico de engenharia para recuperação hidroambiental"]
["ITEM","Descrição","Unidade","Quantidade máxima a ser contratada","Preço (R$)","Preço Total (R$)"]
[1,"Seleção de áreas prioritárias para recuperação hidroambiental","ha ",2000000,{"$f":"'CRO-1'!H25","v":2.33},{"$f":"ROUND(D6*E6,2)","v":4660000}]
[2,"Projeto básico de engenharia em áreas prioritárias para recuperação hidroambiental","ha ",200000,{"$f":"'CRO-1'!I25","v":18.47},{"$f":"ROUND(D7*E7,2)","v":3694000}]
["Preço Total",{"$nulls":4},{"$f":"ROUND(F6+F7,2)","v":8354000}]